﻿BEGIN:VCALENDAR
VERSION:2.0
PRODID:-//Ayuntamiento de Mérida - ECPv6.15.17.1//NONSGML v1.0//EN
CALSCALE:GREGORIAN
METHOD:PUBLISH
X-ORIGINAL-URL:https://merida.es
X-WR-CALDESC:Eventos para Ayuntamiento de Mérida
REFRESH-INTERVAL;VALUE=DURATION:PT1H
X-Robots-Tag:noindex
X-PUBLISHED-TTL:PT1H
BEGIN:VTIMEZONE
TZID:Europe/Madrid
BEGIN:DAYLIGHT
TZOFFSETFROM:+0100
TZOFFSETTO:+0200
TZNAME:CEST
DTSTART:20150329T010000
END:DAYLIGHT
BEGIN:STANDARD
TZOFFSETFROM:+0200
TZOFFSETTO:+0100
TZNAME:CET
DTSTART:20151025T010000
END:STANDARD
BEGIN:DAYLIGHT
TZOFFSETFROM:+0100
TZOFFSETTO:+0200
TZNAME:CEST
DTSTART:20160327T010000
END:DAYLIGHT
BEGIN:STANDARD
TZOFFSETFROM:+0200
TZOFFSETTO:+0100
TZNAME:CET
DTSTART:20161030T010000
END:STANDARD
BEGIN:DAYLIGHT
TZOFFSETFROM:+0100
TZOFFSETTO:+0200
TZNAME:CEST
DTSTART:20170326T010000
END:DAYLIGHT
BEGIN:STANDARD
TZOFFSETFROM:+0200
TZOFFSETTO:+0100
TZNAME:CET
DTSTART:20171029T010000
END:STANDARD
END:VTIMEZONE
BEGIN:VEVENT
DTSTART;TZID=Europe/Madrid:20161124T183000
DTEND;TZID=Europe/Madrid:20161124T183000
DTSTAMP:20260423T100431
CREATED:20161117T085748Z
LAST-MODIFIED:20161117T085748Z
UID:45691-1480012200-1480012200@merida.es
SUMMARY:Los Jueves Te Cuento: "El árbol de primavera"
DESCRIPTION:Del 10 de Noviembre al 22 de Diciembre\, los jueves a las 18:30 h.\, los niños y niñas junto con sus familias tendrán la oportunidad de escuchar un cuento que desarrolle su imaginación y les acerque al fantástico mundo de los libros. Tendrá lugar en el Rincón de los Cuentos de la Biblioteca Pública Juan Pablo Forner. El programa es el siguiente:\nJueves 10 de noviembre\nDoña castaña Pilonga\nMaría Molina Hidalgo (Maestra del CEIP Suárez Somonte)\nJueves 17 de noviembre\nDéjame que te cuente..…\nJulio César Fuster Flores (Padre en favor de la lectura) \nJueves 24 de noviembre\n El árbol de primavera\n Joaquín Caldito Trejo (Padre en favor de la lectura)\nJueves 1 de diciembre\nEn Navidad déjame que te cuente…..\nMoisés de las Heras Fernández (Actor de teatro)\nJueves 15 de diciembre\nEl gigante egoísta\nAsociación Share! English Moving\nJueves 22 de diciembre\nEl príncipe feliz\nInmaculada Díaz Paredes (Madre en favor de la lectura)
URL:https://merida.es/agenda/los-jueves-te-cuento-3/
LOCATION:Biblioteca Municipal Juan Pablo Forner\, Calle John Lennon\, 5\, Mérida
CATEGORIES:Infantil,Literatura
ATTACH;FMTTYPE=image/png:https://merida.es/wp-content/uploads/2016/11/cuenta-cuentos-peq.png
END:VEVENT
BEGIN:VEVENT
DTSTART;TZID=Europe/Madrid:20161124T193000
DTEND;TZID=Europe/Madrid:20161124T193000
DTSTAMP:20260423T100431
CREATED:20161123T184619Z
LAST-MODIFIED:20161123T184619Z
UID:45855-1480015800-1480015800@merida.es
SUMMARY:Presentación del libro '40 años de poesía' de Jose María del Álamo
DESCRIPTION:José María Del Álamo presenta el jueves 24 de noviembre\, a las 19.30 horas\, en la Biblioteca Municipal ‘Juan Pablo Forner’ de Mérida\, un libro de poemas recopilatorio de sus 40 años de poesía.\nEl acto lo presentará Ana María Castillo y estará amenizado con la música de Guillermo Segovia.
URL:https://merida.es/agenda/presentacion-del-libro-40-anos-de-poesia-de-jose-maria-del-alamo/
LOCATION:Biblioteca Municipal Juan Pablo Forner\, Calle John Lennon\, 5\, Mérida
CATEGORIES:Literatura
ATTACH;FMTTYPE=image/jpeg:https://merida.es/wp-content/uploads/2016/11/josemaria-del-alamo.jpg
END:VEVENT
END:VCALENDAR