﻿BEGIN:VCALENDAR
VERSION:2.0
PRODID:-//Ayuntamiento de Mérida - ECPv6.15.17.1//NONSGML v1.0//EN
CALSCALE:GREGORIAN
METHOD:PUBLISH
X-WR-CALNAME:Ayuntamiento de Mérida
X-ORIGINAL-URL:https://merida.es
X-WR-CALDESC:Eventos para Ayuntamiento de Mérida
REFRESH-INTERVAL;VALUE=DURATION:PT1H
X-Robots-Tag:noindex
X-PUBLISHED-TTL:PT1H
BEGIN:VTIMEZONE
TZID:Europe/Madrid
BEGIN:DAYLIGHT
TZOFFSETFROM:+0100
TZOFFSETTO:+0200
TZNAME:CEST
DTSTART:20150329T010000
END:DAYLIGHT
BEGIN:STANDARD
TZOFFSETFROM:+0200
TZOFFSETTO:+0100
TZNAME:CET
DTSTART:20151025T010000
END:STANDARD
BEGIN:DAYLIGHT
TZOFFSETFROM:+0100
TZOFFSETTO:+0200
TZNAME:CEST
DTSTART:20160327T010000
END:DAYLIGHT
BEGIN:STANDARD
TZOFFSETFROM:+0200
TZOFFSETTO:+0100
TZNAME:CET
DTSTART:20161030T010000
END:STANDARD
BEGIN:DAYLIGHT
TZOFFSETFROM:+0100
TZOFFSETTO:+0200
TZNAME:CEST
DTSTART:20170326T010000
END:DAYLIGHT
BEGIN:STANDARD
TZOFFSETFROM:+0200
TZOFFSETTO:+0100
TZNAME:CET
DTSTART:20171029T010000
END:STANDARD
END:VTIMEZONE
BEGIN:VEVENT
DTSTART;VALUE=DATE:20161216
DTEND;VALUE=DATE:20161218
DTSTAMP:20260423T062441
CREATED:20161214T085508Z
LAST-MODIFIED:20161214T085508Z
UID:46429-1481846400-1482019199@merida.es
SUMMARY:Itinerario Artístico Literario Alonso Zamora Vicente. 100 años de su nacimiento
DESCRIPTION:Alonso Zamora Vicente (1916–2006) es uno de los filólogos y escritores más reconocidos del S.XX a nivel nacional e internacional. Nacido en Madrid el 1 de febrero de 1916\, la Guerra Civil interrumpió sus estudios que finalizó en 1939. Comenzó su carrera docente como catedrático de instituto de Enseñanza Secundaria en Mérida en el otoño de 1940\, lo que le ligaría de por vida a la tierra extremeña.\nEn este año de 2016 el insigne filólogo Alonso Zamora Vicente cumpliría 100 años de edad. Un grupo de sus antiguos discípulos y alumnos\, coordinados por el profesor Antonio Viudas Camarasa\, está organizado un «Itinerario Artístico Literario» que rendirá homenaje a su maestro y su obra.\nEl homenaje está dividido en 3 etapas. La primera etapa tuvo lugar en Cáceres y Malpartida de Cáceres en noviembre\, la segunda etapa en Mérida los días 16 y 17 de diciembre y concluirá con una tercera etapa en Madrid en el mes de enero.\nEl programa de actos en Mérida es el siguiente: \nViernes 16 diciembre de 2016\n20:30h. INAUGURACIÓN. Biblioteca Pública Municipal Juan Pablo Forner\nExposición «CERVANTES\, SOLDADO Y ESCRITOR. MÉRIDA Y ALONSO ZAMORA VICENTE”. Fondos de la Biblioteca Municipal de Mérida “Juan Pablo Forner” y del CEFOT Nº 1 de Cáceres. Comisarios de la exposición: Manuel Osorio Escudero\, Magdalena Ortiz Macías. Colaboradoras: Nieves Acedo Penco y Rosa Lencero Cerezo\n21:30h. Cena solidaria de hermandad \nSábado 17 de diciembre de 2016\n10:00h. PRESENTACIÓN DE LIBRO. Sede de la UNED.\nPresentación de la tercera edición (2016)\, en la colección rescate de la Editora Regional\, de «EL HABLA DE MÉRIDA Y SUS CERCANÍAS» de Alonso Zamora Vicente con prólogo de Antonio Viudas Camarasa. Facsímil de la primera edición (1943) y reproducción del prólogo de Alonso Zamora Vicente a la segunda edición\, Ayuntamiento de Mérida [1982]. Intervienen Eduardo Moga Bayona (director de la Editora Regional de Extremadura) y Antonio Viudas Camarasa\n10:30h. SESION TÉCNICA. Sede de la UNED.\nMesa Redonda–debate AZV–6: «La Mérida de Alonso Zamora Vicente y María Josefa Canellada. Una mirada en el tiempo». Intervienen Alonso Zamora Canellada\, Jesús Díez Marín\, Antonio Gallego Domínguez\, Rufino Rodríguez Sánchez\, Iñaki Mur Idoy y Antonio Viudas Camarasa\n12:00h. HITO MÉRIDA. Recorrido por las calles de Mérida\nLectura en cada parada de un fragmento de las obras de o sobre la obra y vida de Alonso Zamora Vicente con el siguiente recorrido: Calle Moreno de Vargas\, 10 (sede del antiguo instituto de Mérida)\, Calle Camilo José Cela\, Rambla Mártir Santa Eulalia\, Calle Santa Eulalia\, Calle Alonso Zamora Vicente\, Puente Romano–Plaza de Roma\, Muralla de la Alcazaba. Conventual Santiaguista\, Templo de Diana\, Teatro Romano\, Museo Nacional de Arte Romano\n13:00h. CLAUSURA. Museo Nacional de Arte Romano.\nIntervienen José María Álvarez Martínez\, Antonio Vélez Sánchez y Autoridades invitadas\n14:00h. Almuerzo solidario de hermandad \nWeb oficial: http://dialectus.es/congreso/\n 
URL:https://merida.es/agenda/itinerario-artistico-literario-alonso-zamora-vicente-100-anos-de-su-nacimiento/
LOCATION:Varios puntos de la ciudad\, Mérida
CATEGORIES:Exposición,Jornadas,Literatura
ATTACH;FMTTYPE=image/jpeg:https://merida.es/wp-content/uploads/2016/12/alonso-zamora-vicente-merida-peq.jpg
END:VEVENT
END:VCALENDAR