﻿BEGIN:VCALENDAR
VERSION:2.0
PRODID:-//Ayuntamiento de Mérida - ECPv6.15.17.1//NONSGML v1.0//EN
CALSCALE:GREGORIAN
METHOD:PUBLISH
X-ORIGINAL-URL:https://merida.es
X-WR-CALDESC:Eventos para Ayuntamiento de Mérida
REFRESH-INTERVAL;VALUE=DURATION:PT1H
X-Robots-Tag:noindex
X-PUBLISHED-TTL:PT1H
BEGIN:VTIMEZONE
TZID:Europe/Madrid
BEGIN:DAYLIGHT
TZOFFSETFROM:+0100
TZOFFSETTO:+0200
TZNAME:CEST
DTSTART:20160327T010000
END:DAYLIGHT
BEGIN:STANDARD
TZOFFSETFROM:+0200
TZOFFSETTO:+0100
TZNAME:CET
DTSTART:20161030T010000
END:STANDARD
BEGIN:DAYLIGHT
TZOFFSETFROM:+0100
TZOFFSETTO:+0200
TZNAME:CEST
DTSTART:20170326T010000
END:DAYLIGHT
BEGIN:STANDARD
TZOFFSETFROM:+0200
TZOFFSETTO:+0100
TZNAME:CET
DTSTART:20171029T010000
END:STANDARD
BEGIN:DAYLIGHT
TZOFFSETFROM:+0100
TZOFFSETTO:+0200
TZNAME:CEST
DTSTART:20180325T010000
END:DAYLIGHT
BEGIN:STANDARD
TZOFFSETFROM:+0200
TZOFFSETTO:+0100
TZNAME:CET
DTSTART:20181028T010000
END:STANDARD
END:VTIMEZONE
BEGIN:VEVENT
DTSTART;TZID=Europe/Madrid:20170419T193000
DTEND;TZID=Europe/Madrid:20170419T193000
DTSTAMP:20260420T090418
CREATED:20170417T085437Z
LAST-MODIFIED:20170417T085437Z
UID:49389-1492630200-1492630200@merida.es
SUMMARY:Presentación del libro 'Esta Rosa de Otoño' de Antonia Cerrato Martín-Romo
DESCRIPTION:El Centro Cultural Alcazaba acogerá el miércoles 19 de abril la presentación del libro ‘Esta Rosa de Otoño’ de Antonia Cerrato Martín-Romo en un acto que presentará Jose María del Álamo y contará además con la participación de Manuel Ciprián García (Flamenco)\, Daniel López Chavero (Tenor)\, Paqui Moreno ‘La Caracola’ (Cantaora)\, Samuel Iglesias Cortés y Jorge Graos (Fadista).\nOrganiza la Biblioteca Municipal Juan Pablo Forner
URL:https://merida.es/agenda/presentacion-del-libro-esta-rosa-de-otono-de-antonia-cerrato-martin-romo/
LOCATION:Centro Cultural Alcazaba\, Calle John Lennon\, 5\, Mérida
CATEGORIES:Literatura,Música
ATTACH;FMTTYPE=image/jpeg:https://merida.es/wp-content/uploads/2017/04/esta-rosa-es-de-otoño-peq.jpg
END:VEVENT
END:VCALENDAR