﻿BEGIN:VCALENDAR
VERSION:2.0
PRODID:-//Ayuntamiento de Mérida - ECPv6.15.17.1//NONSGML v1.0//EN
CALSCALE:GREGORIAN
METHOD:PUBLISH
X-WR-CALNAME:Ayuntamiento de Mérida
X-ORIGINAL-URL:https://merida.es
X-WR-CALDESC:Eventos para Ayuntamiento de Mérida
REFRESH-INTERVAL;VALUE=DURATION:PT1H
X-Robots-Tag:noindex
X-PUBLISHED-TTL:PT1H
BEGIN:VTIMEZONE
TZID:Europe/Madrid
BEGIN:DAYLIGHT
TZOFFSETFROM:+0100
TZOFFSETTO:+0200
TZNAME:CEST
DTSTART:20230326T010000
END:DAYLIGHT
BEGIN:STANDARD
TZOFFSETFROM:+0200
TZOFFSETTO:+0100
TZNAME:CET
DTSTART:20231029T010000
END:STANDARD
BEGIN:DAYLIGHT
TZOFFSETFROM:+0100
TZOFFSETTO:+0200
TZNAME:CEST
DTSTART:20240331T010000
END:DAYLIGHT
BEGIN:STANDARD
TZOFFSETFROM:+0200
TZOFFSETTO:+0100
TZNAME:CET
DTSTART:20241027T010000
END:STANDARD
BEGIN:DAYLIGHT
TZOFFSETFROM:+0100
TZOFFSETTO:+0200
TZNAME:CEST
DTSTART:20250330T010000
END:DAYLIGHT
BEGIN:STANDARD
TZOFFSETFROM:+0200
TZOFFSETTO:+0100
TZNAME:CET
DTSTART:20251026T010000
END:STANDARD
END:VTIMEZONE
BEGIN:VEVENT
DTSTART;TZID=Europe/Madrid:20240406T120000
DTEND;TZID=Europe/Madrid:20240406T233000
DTSTAMP:20260422T125700
CREATED:20240325T081902Z
LAST-MODIFIED:20240402T200248Z
UID:129306-1712404800-1712446200@merida.es
SUMMARY:Convivencia EmeriTEA
DESCRIPTION:El sábado\, 6 de abril\, a partir de las 12:00 horas\, la asociación EmeriTEA organiza la Gala por el Día Mundial del Autismo\, una jornada de convivencia y concienciación sobre el autismo\, en donde se desarrollarán actuaciones\, sorteos\, tienda solidaria\, photocall\, barra a precios populares y muchas sorpresas.
URL:https://merida.es/agenda/convivencia-emeritea-2024/
LOCATION:Parque López de Ayala\, Mérida
CATEGORIES:Convivencia,Danza,Gala,Infantil,Música
ATTACH;FMTTYPE=image/jpeg:https://merida.es/wp-content/uploads/2024/03/2024-convivencia-autismo-peq.jpg
END:VEVENT
BEGIN:VEVENT
DTSTART;TZID=Europe/Madrid:20240407T123000
DTEND;TZID=Europe/Madrid:20240407T123000
DTSTAMP:20260422T125700
CREATED:20240305T225338Z
LAST-MODIFIED:20240305T225338Z
UID:128746-1712493000-1712493000@merida.es
SUMMARY:Miércoles\, el musical
DESCRIPTION:El musical «Miércoles» es una obra teatral llena de energía\, humor y un toque oscuro. Basado en la serie creada por Tim BURTON\, el musical nos sumerge en el extravagante mundo de esta peculiar niña que todos conocemos\, mientras lidian con los desafíos de ser diferentes en una sociedad «normal». \nLa trama se centra en Miércoles\, cuando decide ir al místico Instituto NEVERMORE\, allí conoce a increíbles amigos con dotes un poco peculiares y se da cuenta de que hay mas como ella. Poco a poco van ocurriendo misterios que tendrá que resolver\, una extraña criatura empieza a atacar a alumnos del Instituto tendrán que llegar al final del misterio para saber quien esta detrás. \nEntradas: https://www.giglon.com
URL:https://merida.es/agenda/miercoles-el-musical/
LOCATION:Palacio de Congresos\, Avda. del Rio s/n\, Mérida
CATEGORIES:Música
ATTACH;FMTTYPE=image/jpeg:https://merida.es/wp-content/uploads/2024/03/2024-miercoles-musical-peq.jpg
END:VEVENT
BEGIN:VEVENT
DTSTART;VALUE=DATE:20240411
DTEND;VALUE=DATE:20240415
DTSTAMP:20260422T125700
CREATED:20240408T124808Z
LAST-MODIFIED:20240408T154615Z
UID:129680-1712793600-1713139199@merida.es
SUMMARY:Feria de la Cerveza Artesanal
DESCRIPTION:Del 11 al 14 de abril\, el Acueducto de Los Milagros acogerá la I Feria de la Cerveza Artesanal que se llevará a cabo en la explanada del Acueducto de los Milagros y en el que estarán presentes más de 100 marcas de cervezas artesanas de diferentes Comunidades Autónomas repartidas entre 12 puestos de cervezas. Además\, habrá Foodtrucks\, Puestos de Artesanía\, Talleres infantiles\, Juegos populares y Actuaciones de DJ. El horario será de 12 a 24 horas. Organiza La Ruta del Lúpulo con la colaboración del Ayuntamiento de Mérida. \nPrograma Feria de la Cerveza Artesanal
URL:https://merida.es/agenda/feria-de-la-cerveza-artesanal/
LOCATION:Acueducto de Los Milagros\, Av. de Via de la Plata s/n\, Mérida
CATEGORIES:Gastronomía,Música,Ocio
ATTACH;FMTTYPE=image/jpeg:https://merida.es/wp-content/uploads/2024/04/2024-feria-cervezapeq.jpeg
END:VEVENT
BEGIN:VEVENT
DTSTART;TZID=Europe/Madrid:20240412T200000
DTEND;TZID=Europe/Madrid:20240412T200000
DTSTAMP:20260422T125700
CREATED:20230810T084753Z
LAST-MODIFIED:20230926T103852Z
UID:123675-1712952000-1712952000@merida.es
SUMMARY:Concierto Orquesta de Extremadura: "Objetos de tiempo"
DESCRIPTION:De un tiempo pretérito como la Edad Media\, reavivamos cantos y poesías de los clérigos o estudiantes pícaros que llevaban una vida errante\, disoluta e irreverente. Junto a un estreno\, en nuestros días\, de una obra inspirada en el arte del pintor grancanario Pedro Lezcano Jaén; «Ladrón de Almas»\, en palabras de Laura Vega\, su autora\, destilará vitalidad\, energía y plenitud\, con el deseo de ofrecer alegría en mitad del caos y paz entre el bullicio. \nORQUESTA DE EXTREMADURA\nCORO DE CÁMARA DE EXTREMADURA\nSONIA DE MUNCK\nJUAN ANTONIO SANABRIA\nOMAR LARA\nANDRÉS SALADO \nVega. Ladrón de Almas\nOrff. Carmina Burana \nVenta de entradas: https://taquilla.orquestadeextremadura.com
URL:https://merida.es/agenda/concierto-orquesta-de-extremadura-objetos-de-tiempo/
LOCATION:Palacio de Congresos\, Avda. del Rio s/n\, Mérida
CATEGORIES:Música
ATTACH;FMTTYPE=image/jpeg:https://merida.es/wp-content/uploads/2023/08/2024-orquesta-extremadura-objetos-de-tiempo-peq.jpg
END:VEVENT
BEGIN:VEVENT
DTSTART;TZID=Europe/Madrid:20240413T210000
DTEND;TZID=Europe/Madrid:20240413T210000
DTSTAMP:20260422T125700
CREATED:20240325T105222Z
LAST-MODIFIED:20240409T063408Z
UID:129318-1713042000-1713042000@merida.es
SUMMARY:Teatro y Música: "Pulsión de muerte"
DESCRIPTION:SÁBADO Día 13 de abril de 2024. 21.00 horas \nEspectáculo: Pasión de muerte.\nCompañía: Lux contemporánea + Neopercusión \nSinopsis: La casa de Bernarda Alba es un espacio cerrado\, el mundo del luto\, del silencio\, de la ocultación. Parece faltar el aire y el agua en este mundo que pone barreras a las fuerzas de la vida\, «en el que se respira la muerte». Se opone totalmente al interior de la casa y la represión a la que las hijas son sometidas\, el mundo exterior: de él llegarán ecos de pasiones elementales o de un erotismo desatado. \nBernarda teme al cambio que sustenta el frágil equilibrio que la mantiene fuerte en un mundo de apariencias y amenazas\, teme su propia esencia anulando la de sus propias hijas hasta las últimas consecuencias\, donde el precio de la libertad es la muerte o la locura. \nDuración: 60 min.\nPúblico recomendado: a partir de 14 años. \nTaquilla: Entrada única 5€ (*Descuentos del 50% aplicable a: carnet estudiante\, carnet joven europeo\, personas jubiladas-pensionistas\, familia numerosa y personas en desempleo)\nHorario de taquilla: Días 12 de abril de 11.00 a 13:00h. y de 19.00 a 20.30h y día 13 de abril de 11.00 a 13:00h. y de 19.00 a 21.00h.\nReservas en el email: salatrajanomerida@gmail.com
URL:https://merida.es/agenda/teatro-pulsion-de-muerte/
LOCATION:Sala Trajano\, Calle Muza\, 50\, Mérida
CATEGORIES:Música,Teatro
ATTACH;FMTTYPE=image/jpeg:https://merida.es/wp-content/uploads/2024/03/pulsion-muerte-peq.jpg
END:VEVENT
BEGIN:VEVENT
DTSTART;VALUE=DATE:20240418
DTEND;VALUE=DATE:20240421
DTSTAMP:20260422T125700
CREATED:20240114T231400Z
LAST-MODIFIED:20240415T054550Z
UID:127490-1713398400-1713657599@merida.es
SUMMARY:VIII Jornadas Profesionales de la Música en Extremadura
DESCRIPTION:Del 18 al 20 de abril de 2024\, se celebrará la octava edición de las Jornadas Profesionales de la Música en Extremadura (MUM) en Mérida . Un espacio de referencia donde todos los agentes implicados en la industria musical de Extremadura tendrán la oportunidad de poner en valor el talento creativo de los artistas extremeños. Unas jornadas que llenará la ciudad de múltiples conciertos\, exposiciones y mesas de trabajo. En concreto\, los espacios de la Plaza de España\, Teatro María Luisa\, Centro Cultural Alcazaba y Templo de Diana serán los escenarios donde se celebrará actividades programadas de la MUM 2024. \nEsta nueva edición de la MUM contará con un acto homenaje por el centenario de José Salazar Molina “Porrina de Badajoz” en el Teatro María Luisa bajo el nombre de: “Un Marqués\, gitano y de Badajoz” el jueves 18 de abril\, a las 21:00 horas. Durante estos tres días se sucederán actuaciones promocionales de 25 minutos (showcases)\, conciertos\, mesas de debate\, talleres de formación\, espacios de intercambio comercial\, etc. \nLas Jornadas están organizadas por la Asociación de Gestoras y Gestores culturales de Extremadura en colaboración del Centro de las Artes Escénicas y la Música (CEMART)\, de la Consejería de Cultura\, Turismo\, Jóvenes y Deportes de la Junta de Extremadura\, las Diputaciones de Badajoz y Cáceres\, el Ayuntamiento de Mérida y Extremadura AVANTE. \nPrograma completo: https://extremum.agcex.org/
URL:https://merida.es/agenda/viii-jornadas-profesionales-de-la-musica-en-extremadura/
LOCATION:Varios puntos de la ciudad\, Mérida
CATEGORIES:Música
ATTACH;FMTTYPE=image/jpeg:https://merida.es/wp-content/uploads/2024/01/2024-mum-jornadas-musica-peq.jpg
END:VEVENT
BEGIN:VEVENT
DTSTART;TZID=Europe/Madrid:20240419T200000
DTEND;TZID=Europe/Madrid:20240419T200000
DTSTAMP:20260422T125700
CREATED:20240416T062833Z
LAST-MODIFIED:20240416T062833Z
UID:129918-1713556800-1713556800@merida.es
SUMMARY:Concierto Rodrigo Parejo (flauta) y Michal Vanoucek (piano)
DESCRIPTION:El flautista de Jazz y Músicas del Mundo\, Rodrigo Parejo\, y el pianista eslovaco Michal Vanoucek presentarán un repertorio de composiciones originales con gran influencia del jazz\, las músicas folklóricas del mundo\, la música clásica\, la música cinemática y espiritual entre otros sonidos creativos. El 19 de abril tendrá lugar la celebración de este concierto\, a las 20:00 horas\, en el Centro Cultural «Santo Domingo» de Fundación CB en Mérida. Organiza Juventudes Musicales de Mérida/Sociedad Filarmónica Esteban Sánchez. Entrada libre hasta completar aforo.
URL:https://merida.es/agenda/concierto-rodrigo-parejo-flauta-y-michal-vanoucek-piano/
LOCATION:Centro Cultural Santo Domingo Fundación CB\, Plaza de Santo Domingo\, s/n\, Mérida
CATEGORIES:Música
ATTACH;FMTTYPE=image/png:https://merida.es/wp-content/uploads/2024/04/concierto-jazz-peq.png
END:VEVENT
BEGIN:VEVENT
DTSTART;TZID=Europe/Madrid:20240420T210000
DTEND;TZID=Europe/Madrid:20240420T210000
DTSTAMP:20260422T125700
CREATED:20240326T075137Z
LAST-MODIFIED:20240326T080317Z
UID:129350-1713646800-1713646800@merida.es
SUMMARY:Espectáculo: "La Zapatera Prodigiosa"
DESCRIPTION:SÁBADO Día 20 de abril de 2024. 21.00 horas \nEspectáculo: La zapatera prodigiosa.\nCompañía: Artextrema \nSinopsis: La Zapatera Prodigiosa\, «farsa violenta en dos actos” que nos ofrece una tragicómica fotografía muy precisa de la sociedad rural española de principios del siglo XX. Un zapatero vive dignamente de su oficio\, se casa medio por amor\, medio empujado; a ella\, pobre y bella\, le pasa otro tanto. Los hombres la acosan y la gente critica sin más pruebas que barruntos inducidos por la envidia y el resentimiento. La naturaleza humorística de la obra se verá transformada en llanto a medida que avanza\, siendo el hilo conductor del dialogo la música y el baile. Temas compuestos para el montaje\, junto con otras canciones populares de la época\, darán vida a La Zapatera Prodigiosa más flamenca. Jaleos\, alegrías\, tangos\, bulerías\, caña y algunos temas más se representarán durante la obra\, mostrando así la pasión por el flamenco que García Lorca plasmaba en la mayoría de sus obras. \nDirección: Manuela Sánchez y Fernando Ramos\nGuitarrista: Manolín García\nCantaor: Chiqui de Quintana\nPercusión/piano: Pakito Suárez ‘El Aspirina’\nActores: Fernando Ramos y Pedro Montero\nActrices: Manuela Sánchez y Mari Carmen Moya\nBailaoras: Manuela Sánchez\, Miriam Vizuete\, Rocío Villalba y Sara Villalba  \nDuración: 80 min.\nPúblico recomendado: a partir de 14 años. \nTaquilla: Entrada única 5 € (*Descuentos del 50% aplicable a: carnet estudiante\, carnet joven europeo\, personas jubiladas-pensionistas\, familia numerosa y personas en desempleo)\nHorario de taquilla: Días 19 de abril de 11.00 a 13:00h. y de 19.00 a 21.00h y día 20 de abril de 11.00 a 13:00h. y de 19.00 a 21.00h\nReservas en el email: salatrajanomerida@gmail.com
URL:https://merida.es/agenda/espectaculo-la-zapatera-prodigiosa/
LOCATION:Sala Trajano\, Calle Muza\, 50\, Mérida
CATEGORIES:Danza,Música
ATTACH;FMTTYPE=image/jpeg:https://merida.es/wp-content/uploads/2024/03/zapatera-peq.jpg
END:VEVENT
BEGIN:VEVENT
DTSTART;TZID=Europe/Madrid:20240427T210000
DTEND;TZID=Europe/Madrid:20240427T210000
DTSTAMP:20260422T125700
CREATED:20231203T203540Z
LAST-MODIFIED:20231203T205504Z
UID:126693-1714251600-1714251600@merida.es
SUMMARY:Israel Fernández 'Pura Sangre'
DESCRIPTION:Israel Fernández nace en el seno de una familia gitana de orígenes andaluces asentada en Corral de Almaguer (Toledo). Su entorno y su cultura pronto despiertan en él ese don musical que atesora y ese amor por el flamenco. \nSu cante\, dicen los expertos\, es una confluencia de todo ese tesoro que nos legaron los grandes genios del flamenco aderezado con la frescura interpretativa y creativa que el artista aporta a todo lo que toca. \nCon ‘Pura Sangre’ presenta su obra más personal hasta la fecha\, en la que nos muestra su visión más íntima del entorno que le rodea y su manera de interactuar con el mundo exterior. Se trata de un trabajo introspectivo en cuanto al contenido\, en el que Israel descubre su manera de sentir y relacionarse con su universo más cercano: la familia\, la cultura gitana\, el amor\, la naturaleza\, los valores humanos y su yo más profundo. Nominado a Mejor Álbum de Música Flamenca en los Latin Grammy por su disco ‘Pura Sangre’. \nEntrada: https://www.giglon.com
URL:https://merida.es/agenda/israel-fernandez-pura-sangre/
LOCATION:Palacio de Congresos\, Avda. del Rio s/n\, Mérida
CATEGORIES:Música
ATTACH;FMTTYPE=image/jpeg:https://merida.es/wp-content/uploads/2023/12/2024-israel-fernandez-peq.jpg
END:VEVENT
END:VCALENDAR