﻿BEGIN:VCALENDAR
VERSION:2.0
PRODID:-//Ayuntamiento de Mérida - ECPv6.15.17.1//NONSGML v1.0//EN
CALSCALE:GREGORIAN
METHOD:PUBLISH
X-ORIGINAL-URL:https://merida.es
X-WR-CALDESC:Eventos para Ayuntamiento de Mérida
REFRESH-INTERVAL;VALUE=DURATION:PT1H
X-Robots-Tag:noindex
X-PUBLISHED-TTL:PT1H
BEGIN:VTIMEZONE
TZID:Europe/Madrid
BEGIN:DAYLIGHT
TZOFFSETFROM:+0100
TZOFFSETTO:+0200
TZNAME:CEST
DTSTART:20230326T010000
END:DAYLIGHT
BEGIN:STANDARD
TZOFFSETFROM:+0200
TZOFFSETTO:+0100
TZNAME:CET
DTSTART:20231029T010000
END:STANDARD
BEGIN:DAYLIGHT
TZOFFSETFROM:+0100
TZOFFSETTO:+0200
TZNAME:CEST
DTSTART:20240331T010000
END:DAYLIGHT
BEGIN:STANDARD
TZOFFSETFROM:+0200
TZOFFSETTO:+0100
TZNAME:CET
DTSTART:20241027T010000
END:STANDARD
BEGIN:DAYLIGHT
TZOFFSETFROM:+0100
TZOFFSETTO:+0200
TZNAME:CEST
DTSTART:20250330T010000
END:DAYLIGHT
BEGIN:STANDARD
TZOFFSETFROM:+0200
TZOFFSETTO:+0100
TZNAME:CET
DTSTART:20251026T010000
END:STANDARD
END:VTIMEZONE
BEGIN:VEVENT
DTSTART;VALUE=DATE:20240503
DTEND;VALUE=DATE:20240506
DTSTAMP:20260422T032659
CREATED:20240430T095014Z
LAST-MODIFIED:20240430T100315Z
UID:130379-1714694400-1714953599@merida.es
SUMMARY:Callejeando Food Fest Mérida 2024
DESCRIPTION:La propuesta gastronómicos “Callejeando Food Fest Mérida” vuelve a Mérida para celebrar su sexta edición en el Parque de la Argentina y lo hará desde el viernes\, 3 de mayo\, hasta el domingo\, 5 de mayo. Durante este fin de semana\, este festival culinario permitirá\, a todas las personas que se acerquen\, disfrutar de una amplia selección de food trucks de gastronomía internacional\, así como elaboraciones veganas\, vegetarianas y productos aptos para celíacos (también en la cerveza). \nAdemás\, estará acompañada de diferentes actividades como actuaciones musicales en directo\, exhibiciones\, danza\, sesiones Dj\, pinchadiscos\, una jornada infantil\, artesanía\, ocio y diversión. Todo esto\, permitirá crear un ambiente familiar y festivo apto para todos los públicos\, al que se podrá asistir desde las 18 horas del viernes hasta las 24 horas y durante el sábado y domingo desde las 13 a 24 horas. \n“Callejeando FOOD FEST” es un proyecto familiar\, gastronómico y cultural que se lleva a cabo por gran parte de la geografía española desde 2014 y que durante este año pretende ser la promotora más potente de toda la península en cuanto a número de festivales y comunidades en un mismo año. Del mismo modo\, destaca por apostar siempre por artistas\, expositores\, artesanos\, comerciantes\, hosteleros\, escuelas\, proveedores\, etc. del municipio y de la zona\, consiguiendo así un retorno socioeconómico en la ciudad.\n 
URL:https://merida.es/agenda/callejeando-food-fest-merida-2024/
LOCATION:Parque de la Argentina\, Mérida
CATEGORIES:Gastronomía,Infantil,Música,Ocio
ATTACH;FMTTYPE=image/jpeg:https://merida.es/wp-content/uploads/2024/04/2024-food-truck-peq.jpg
END:VEVENT
BEGIN:VEVENT
DTSTART;TZID=Europe/Madrid:20240503T200000
DTEND;TZID=Europe/Madrid:20240503T200000
DTSTAMP:20260422T032659
CREATED:20240313T220246Z
LAST-MODIFIED:20240313T220527Z
UID:129004-1714766400-1714766400@merida.es
SUMMARY:Swing and Show
DESCRIPTION:Viernes 3 de mayo – 20:00 horas \nEspectáculo: Swing and Show\nCompañía: Teatrapo Producciones \nSinopsis: Un utilitario tuneado con gran potencia musical y distintos efectos especiales de llamaradas\, efectos leds\, disparos de conffetti y otros…\, se convierte en un escenario móvil en el que un batería percusiona y crea el ritmo de un espectáculo cómico-musical itinerante\, acompañado de cuatro músicos cañeros al más puro estilo de New Orleans. Un gamberro del humor\, como maestro de ceremonias\, acompaña a esta banda creando situaciones hilarantes y un ambientazo para mover las caderas. Ritmo\, mucho ritmo. Humor\, mucho humor.  \nAutoría y dirección: Yoni Delight & José F. Delgado\nDirección Musical: Juan L. González Rabazo\nMúsica: Banda Berzosax \nDuración: 60 minutos.\nApto para todos los públicos. \nTeatro de calle itinerante con salida desde la Plaza de España\, a las 20:00 horas. \nEl espectáculo cuenta con las Ayudas a la Programación de Artes Escénicas y de Música de la Red de Teatros y Otros Espacios Escénicos de Extremadura de la Consejería de Cultura\, Turismo\, Jóvenes y Deportes\, cofinanciado en un 70%.
URL:https://merida.es/agenda/swing-and-show/
LOCATION:Plaza de España\, Mérida
CATEGORIES:Música,Teatro
ATTACH;FMTTYPE=image/jpeg:https://merida.es/wp-content/uploads/2024/03/2024-swing-and-show-peq.jpg
END:VEVENT
BEGIN:VEVENT
DTSTART;VALUE=DATE:20240508
DTEND;VALUE=DATE:20240513
DTSTAMP:20260422T032659
CREATED:20240216T232941Z
LAST-MODIFIED:20240508T114656Z
UID:128290-1715126400-1715558399@merida.es
SUMMARY:XLIII Feria del Libro de Mérida
DESCRIPTION:Más de 60 actividades completan una variada programación de la XLIII Feria del Libro de Mérida del 8 al 12 de mayo entre presentaciones de libros\, talleres\, recitales de poemas\, maratones de cuentos y actividades musicales que se desarrollarán en diferentes espacios\, destacando el entorno monumental del Templo de Diana y el Pórtico del Foro. En lo que respecta a las casetas serán 19\, con librerías de la ciudad\, asociaciones y editoriales. \nEl 9 de mayo\, Día de Europa\, alumnos y alumnas de Secundaria de Évora celebrarán en el Templo de Diana una maratón transfronteriza entre las ciudades de Mérida y Évora y que leerán textos relacionados con la Carta de Derechos Europeos. \nClara Sánchez\, José Luis Gil Soto\, Jaime Covarsí\, Reyes Monforte y Pedro Vallín\, serán los escritores principales que presentarán sus libros a las 21:00 horas\, siendo la inauguración de la feria el miércoles 8 de mayo momentos antes de la presentación del libro de Clara Sánchez. A destacar también la presencia de escritores y escritoras locales como Carmen de la Marta\, Víctor Bermúdez\, Paco Flores\, Israel J. Espino o Jorge Armestar \nEl jueves 9 de mayo\, Inma Chacón presentará su libro “El cuarto de la plancha” y\, por la mañana\, asistirá al acto de denominación de la sala principal de la Biblioteca Municipal con el nombre de su hermana Dulce Chacón. \nEn lo que respecta a los conciertos\, comenzarán el miércoles con ‘Recital (+34) ESPAÑA’ a cargo de Samino Dúo y Rubén Lanchazo\, el jueves ‘Rafa Prieto Jazz Quartet’\, el viernes Sisko Durán en Concierto\, el sábado Concierto ‘Una noche en La Habana’ con Bernáldez Latin Jazz Orchestra\, cerrando el domingo la Banda de Música de Mérida. \nLos horarios de la feria son de 18:00 horas hasta la finalización del concierto nocturno en horario de tarde y por la mañana de 10:30 a 14:00 horas. \n\n					Programa XLIII Feria del Libro de MéridaPrograma XLIII Feria del Libro de Mérida (Lectura Fácil)Revista XLIII Feria del Libro de Mérida
URL:https://merida.es/agenda/feria-libro-merida-2024/
LOCATION:Templo de Diana\, Calle Romero Leal\, s/n\, Mérida
CATEGORIES:Literatura,Música
ATTACH;FMTTYPE=image/jpeg:https://merida.es/wp-content/uploads/2024/02/2024-feria-libro-merida-peq.jpg
END:VEVENT
BEGIN:VEVENT
DTSTART;TZID=Europe/Madrid:20240510T200000
DTEND;TZID=Europe/Madrid:20240510T200000
DTSTAMP:20260422T032659
CREATED:20240509T114026Z
LAST-MODIFIED:20240509T114026Z
UID:130724-1715371200-1715371200@merida.es
SUMMARY:Concierto de Entrebescant Esemble
DESCRIPTION:El viernes\, 10 de mayo\, a las 20:00 horas\, en el Auditorio del Centro Cultural Santo Domingo de la Fundación CB de Mérida\, tendrá lugar un concierto ENTREBESCANT ENSEMBLE\, que nos presentarán un sugerente programa de música medieval y tradición oral que reivindica tierras y modos de vida olvidados por nuestros tiempos\, pero cruciales para nuestra historia y\, tal vez\, para nuestro futuro. \nEste concierto viene una vez más de la mano de Clásicos en Ruta (AIE) organizado por la Sociedad Filarmónica Esteban Sánchez de Mérida. La entrada será gratuita hasta completar aforo.
URL:https://merida.es/agenda/concierto-de-entrebescant-esemble/
LOCATION:Centro Cultural Santo Domingo Fundación CB\, Plaza de Santo Domingo\, s/n\, Mérida
CATEGORIES:Música
ATTACH;FMTTYPE=image/jpeg:https://merida.es/wp-content/uploads/2024/05/2024-entrebescant-peq.jpg
END:VEVENT
BEGIN:VEVENT
DTSTART;TZID=Europe/Madrid:20240511T210000
DTEND;TZID=Europe/Madrid:20240511T210000
DTSTAMP:20260422T032659
CREATED:20231225T202813Z
LAST-MODIFIED:20231225T202813Z
UID:127122-1715461200-1715461200@merida.es
SUMMARY:Rebujitos en concierto
DESCRIPTION:Yerai Blanco llega a Mérida en su nueva gira 2024 para presentar su último trabajo «Pureza al natural». Este nuevo disco producido por el propio Yerai está hecho de una manera natural\, orgánica y sin filtros\, manteniendo la esencia de Yerai y aportando nuevas formas naturales a sus composiciones. La acogida de este nuevo trabajo está siendo increíble\, con varios singles ya lanzados que han alcanzado los primeros puestos de las listas de éxitos: «Son los besos»\, «La excavadora» y «Quítate la venda» son buena prueba de ello. \nYerai visita Mérida y lo hace con mucha ilusión\, con la intención de volcarse y disfrutar con su público tanto con los nuevos éxitos de «Pureza al natural» como con sus canciones de siempre\, con una puesta en escena renovada que emocionará de nuevo a su público. \nEntradas: https://www.giglon.com
URL:https://merida.es/agenda/rebujitos-en-concierto/
LOCATION:Palacio de Congresos\, Avda. del Rio s/n\, Mérida
CATEGORIES:Música
ATTACH;FMTTYPE=image/jpeg:https://merida.es/wp-content/uploads/2023/12/2024-rebujitos-peq.jpg
END:VEVENT
BEGIN:VEVENT
DTSTART;TZID=Europe/Madrid:20240511T210000
DTEND;TZID=Europe/Madrid:20240511T210000
DTSTAMP:20260422T032659
CREATED:20240412T115522Z
LAST-MODIFIED:20240412T115522Z
UID:129857-1715461200-1715461200@merida.es
SUMMARY:Concierto de Divan du Don 'Glutamatour 2024'
DESCRIPTION:SÁBADO Día 11 de mayo de 2024. 21.00 horas \nDiván du Don es un planeta rebelde fraguado con las mismas guitarras\, rumba buenagente de siempre; un universo con lenguaje propio\, con canciones añejas y otras nuevas\, con indudables ganas de explotar e inundar cada rincón. Son un grupo de alocados personajes que proceden de escondites extremeños y andaluces. \nCon su nuevo álbum\, UMAMI\, Diván du Don se sumerge en un paraíso de sabores y texturas nuevas para regresar a los escenarios después de más de dos años echándose de menos. La mayoría de las canciones que conforman este nuevo trabajo surgieron en un encuentro intensivo para celebrar el desconfinamiento. En él se pusieron sobre la mesa todas las sensaciones atrapadas en muchos años de bagaje musical\, y de ahí salió el esqueleto de lo que hoy es UMAMI\, una obra en la que cada canción es un ingrediente esencial y adictivo que\, junto con el resto\, conforman un sabor potente y completo.  \nLos temas de UMAMI van desde la valentía\, el humor\, la conexión o la sinceridad\, hasta el optimismo\, la despreocupación y el amor\, todos ellos nutrientes imprescindibles para afrontar\, más que una manera de entender la música\, una forma de vivir ¿Te apuntas al festín? \nTaquilla: Entrada única 5€ (*Descuentos del 50% aplicable a: carnet estudiante\, carnet joven europeo\, personas jubiladas-pensionistas\, familia numerosa y personas en desempleo)\nHorario de taquilla: Días 10 de mayo de 11.00 a 13:00h. y de 19.00 a 21.00h y día 11 de mayo de 11.00 a 13:00h. y de 19.00 a 21.00h.\nReservas en el email: salatrajanomerida@gmail.com
URL:https://merida.es/agenda/concierto-de-divan-du-don-glutamatour-2024/
LOCATION:Sala Trajano\, Calle Muza\, 50\, Mérida
CATEGORIES:Música
ATTACH;FMTTYPE=image/jpeg:https://merida.es/wp-content/uploads/2024/04/divan-du-don-peq.jpeg
END:VEVENT
BEGIN:VEVENT
DTSTART;TZID=Europe/Madrid:20240518T200000
DTEND;TZID=Europe/Madrid:20240518T200000
DTSTAMP:20260422T032659
CREATED:20240111T160100Z
LAST-MODIFIED:20240201T211435Z
UID:127420-1716062400-1716062400@merida.es
SUMMARY:La Chirigota del Bizcocho y La Chirigota del Airon
DESCRIPTION:El carnaval de Cádiz regresa a Mérida con lo nuevo de la Chirigota del Bizcocho y la Chirigota callejera del Airon. El encuentro entre las agrupaciones «La última y nos vamos» y «Los becarios del telediario» reúne todo el humor negro\, la ironía y el surrealismo de las chirigotas del Carnaval de Cádiz. \nDespués de triunfar con “Los mi alma”\, la chirigota del Bizcocho ha vuelto a ser una de las más esperadas del concurso del Gran Teatro Falla gaditano gracias a una propuesta rebosante de ingenio y doble sentido en letras\, música y puesta en escena. Como antesala y tras el éxito de «Los llorones»\, la factoría chirigotera del Airon\, reina de la calle y una de las más populares del carnaval «ilegal»\, desplegará su humor fresco\, sarcástico y sin límites analizando el estado de la prensa y los medios de comunicación de nuestro país. \nEntradas: https://www.giglon.com
URL:https://merida.es/agenda/la-chirigota-del-bizcocho-y-la-chirigota-del-airon/
LOCATION:Palacio de Congresos\, Avda. del Rio s/n\, Mérida
CATEGORIES:Carnaval,Música
ATTACH;FMTTYPE=image/jpeg:https://merida.es/wp-content/uploads/2024/01/2024-chirigotas-carnaval-cadiz-peq.jpg
END:VEVENT
BEGIN:VEVENT
DTSTART;TZID=Europe/Madrid:20240522T193000
DTEND;TZID=Europe/Madrid:20240522T193000
DTSTAMP:20260422T032659
CREATED:20240520T151940Z
LAST-MODIFIED:20240520T152117Z
UID:131002-1716406200-1716406200@merida.es
SUMMARY:Concierto 'En Femenino' del Conservatorio Esteban Sánchez
DESCRIPTION:El Conservatorio Profesional de Música Esteban Sánchez de Mérida vuelve a unirse al proyecto M.A.L.A. con el propósito de difundir la música compuesta por mujeres compositoras de cualquier época. Para ello\, ofrecerá el concierto ‘En Femenino’ el miércoles 22 de mayo\, a las 19:30 horas\, en el Centro Cultural Santo Domingo\, con un programa variado y exquisito\, que incluirá obras de Cécile Chaminade\, Mélanie Chasselon\, Clara Schumann\, Fanny Mendelssohn\, Rebeca Clarke \, Christine Donkin y Mercedes Zavala. Entrada libre
URL:https://merida.es/agenda/concierto-en-femenino-del-conservatorio-esteban-sanchez/
LOCATION:Centro Cultural Santo Domingo Fundación CB\, Plaza de Santo Domingo\, s/n\, Mérida
CATEGORIES:Música
ATTACH;FMTTYPE=image/jpeg:https://merida.es/wp-content/uploads/2024/05/2024-conservatorio-en-femenino-peq.jpg
END:VEVENT
END:VCALENDAR