﻿BEGIN:VCALENDAR
VERSION:2.0
PRODID:-//Ayuntamiento de Mérida - ECPv6.15.17.1//NONSGML v1.0//EN
CALSCALE:GREGORIAN
METHOD:PUBLISH
X-WR-CALNAME:Ayuntamiento de Mérida
X-ORIGINAL-URL:https://merida.es
X-WR-CALDESC:Eventos para Ayuntamiento de Mérida
REFRESH-INTERVAL;VALUE=DURATION:PT1H
X-Robots-Tag:noindex
X-PUBLISHED-TTL:PT1H
BEGIN:VTIMEZONE
TZID:Europe/Madrid
BEGIN:DAYLIGHT
TZOFFSETFROM:+0100
TZOFFSETTO:+0200
TZNAME:CEST
DTSTART:20230326T010000
END:DAYLIGHT
BEGIN:STANDARD
TZOFFSETFROM:+0200
TZOFFSETTO:+0100
TZNAME:CET
DTSTART:20231029T010000
END:STANDARD
BEGIN:DAYLIGHT
TZOFFSETFROM:+0100
TZOFFSETTO:+0200
TZNAME:CEST
DTSTART:20240331T010000
END:DAYLIGHT
BEGIN:STANDARD
TZOFFSETFROM:+0200
TZOFFSETTO:+0100
TZNAME:CET
DTSTART:20241027T010000
END:STANDARD
BEGIN:DAYLIGHT
TZOFFSETFROM:+0100
TZOFFSETTO:+0200
TZNAME:CEST
DTSTART:20250330T010000
END:DAYLIGHT
BEGIN:STANDARD
TZOFFSETFROM:+0200
TZOFFSETTO:+0100
TZNAME:CET
DTSTART:20251026T010000
END:STANDARD
END:VTIMEZONE
BEGIN:VEVENT
DTSTART;VALUE=DATE:20240601
DTEND;VALUE=DATE:20240914
DTSTAMP:20260421T162026
CREATED:20231228T234119Z
LAST-MODIFIED:20240628T084024Z
UID:127193-1717200000-1726271999@merida.es
SUMMARY:Stone & Music Festival 2024
DESCRIPTION:En el año 2024\, el Stone Music Festival celebrará su novena edición para el que volverá a contar con artistas nacionales e internacionales de primer nivel. Como novedad\, este año\, el Festival programará conciertos en el mes de junio. \nTodos los espectáculos presentados se llevarán a cabo en el marco del Teatro Romano de Mérida volviendo a unir patrimonio\, cultura y ocio en este monumento señero de Extremadura. \n• ISABEL PANTOJA – 1 de junio\n• RAPHAEL – 2 de junio\n• AMARAL – 7 de junio\n• THE BLACK CROWES – 9 de junio\n• STATUS QUO – 14 de junio\n• TOM JONES – 21 de junio\n• VÍCTOR MANUEL – 30 de agosto\n• MIKEL IZAL – 31 de agosto\n• LOS CHICHOS – 1 de septiembre\n• ARA MALIKIAN – 8 de septiembre\n• ÁLVARO DE LUNA Y MARLON – 13 de septiembre\n• MANUEL TURIZO – 14 de septiembre \nLas entradas para todos los espectáculos se pueden adquirir a través de la web oficial: stoneandmusicfestival.com.
URL:https://merida.es/agenda/stone-music-festival-2024/
LOCATION:Teatro Romano\, Plaza de Margarita Xirgú\, Mérida
CATEGORIES:Música
ATTACH;FMTTYPE=image/jpeg:https://merida.es/wp-content/uploads/2023/12/2024-stone-music-peq.jpg
END:VEVENT
BEGIN:VEVENT
DTSTART;TZID=Europe/Madrid:20240706T210000
DTEND;TZID=Europe/Madrid:20240706T210000
DTSTAMP:20260421T162026
CREATED:20240703T063122Z
LAST-MODIFIED:20240703T063122Z
UID:132199-1720299600-1720299600@merida.es
SUMMARY:Concierto Gabriel Lázaro
DESCRIPTION:Gabriel Lázaro es un músico de jazz hispano-filipino con raíces en Extremadura. Después de graduarse en Berklee College of Music en 2022\, Gabriel continúa dando forma al sonido de otros artistas como músico de sesión\, tocando la guitarra\, el bajo y la trompeta\, así como desarrollando su propio sonido a través de sus composiciones originales. Su actividad musical se desarrolla en Manila (Filipinas)\, diferentes estados de EEUU y Tokio (Japón) tocando en varios estilos como rock\, jazz\, pop\, entre otros\, tanto con una banda completa\, como en solitario. Con su conocimiento multi-instrumental y su diversidad en estilo y género\, Gabriel es capaz de adaptar sus actuaciones a cualquier entorno musical.
URL:https://merida.es/agenda/concierto-gabriel-lazaro/
LOCATION:Café Alaudae\, Calle José Martínez Ruiz-Azorín\, 41
CATEGORIES:Música
ATTACH;FMTTYPE=image/jpeg:https://merida.es/wp-content/uploads/2024/07/2024-gabriel-lazaro-peq.jpg
END:VEVENT
BEGIN:VEVENT
DTSTART;TZID=Europe/Madrid:20240707T103000
DTEND;TZID=Europe/Madrid:20240707T103000
DTSTAMP:20260421T162026
CREATED:20240705T095729Z
LAST-MODIFIED:20240705T095729Z
UID:132309-1720348200-1720348200@merida.es
SUMMARY:Actividad familiar "Ayúdanos a pintar la diversidad"
DESCRIPTION:El domingo 7 de Julio\, a las 10.30 horas\, la Asociación Vecinal El Prado junto a la recientemente creada Asociación Summa Diversitas organizan un acto familiar en Mérida que clausurará las actividades del Orgullo LGTBIQ 2024 y dentro del programa oficial del mismo. El evento consistirá en el pintado por parte de los niños y niñas del barrio y sus familiares\, de un banco con los colores de la bandera arco iris\, símbolo del colectivo LGBTIQ. Tras el pintado\, el artista Leonardo A (Leonardo Dantes) acompañado por La Morena de la Gorra ofrecerán un concierto gratuito para todos los asistentes en el mismo lugar. \nActividad perteneciente a la celebración del Orgullo LGTBI+ Extremadura y que inicialmente estaba prevista para el domingo 30 de junio.
URL:https://merida.es/agenda/actividad-familiar-ayudanos-a-pintar-la-diversidad/
LOCATION:Barriada El Prado
CATEGORIES:Infantil,Música
ATTACH;FMTTYPE=image/jpeg:https://merida.es/wp-content/uploads/2024/07/2024-actividad-familiar-lgtbi-peq.jpg
END:VEVENT
BEGIN:VEVENT
DTSTART;TZID=Europe/Madrid:20240707T203000
DTEND;TZID=Europe/Madrid:20240707T203000
DTSTAMP:20260421T162026
CREATED:20240704T083230Z
LAST-MODIFIED:20240704T083516Z
UID:132252-1720384200-1720384200@merida.es
SUMMARY:Concierto de Guitarra de Joaquín Clerch
DESCRIPTION:El próximo domingo 7 de julio a partir de las 20:30 horas en el Claustro de Santa Clara (C/ Santa Julia\, 5) tendrá lugar el concierto del afamado guitarrista Joaquín Clerch. \nEl guitarrista de origen cubano nació en La Habana\, donde años más tarde recibió uno uno de los premios artísticos más prestigiosos otorgados por el gobierno cubano\, «La orden por la cultura nacional». En su país natal estudió guitarra\, música y composición\, y en 1989 se graduó en el Instituto Superior de Arte. \nEn 1990 continuó sus estudios en la Universidad Mozarteum de Salzburgo\, en Austria\, donde estudió guitarra con Eliot Fisk y música antigua con Anthony Spiri y Nikolaus Harnoncourt. En 1991 terminó sus estudios en Salzburgo con honores y recibió el premio del Ministerio Austriaco de Ciencia e Investigación por sus destacados logros artísticos. En ese mismo año comenzó su carrera docente internacional\, primero como asistente del Prof. Fisk en el Mozarteum de Salzburgo\, y después como profesor en la Universidad de Música de Múnich. Desde 1999 es catedrático de guitarra en la Escuela Superior de Música Robert Schumann de Düsseldorf. \nSus conciertos de guitarra lo han llevado a numerosas ciudades y salas de concierto del mundo como\, por ejemplo\, Concertgebouw (Ámsterdam)\, Palacio de la Música (Barcelona)\, Theatre Royal de la Monnaie (Bruselas)\, Alte Oper (Fráncfort)\, Semperoper (Dresden)\, Auditorio Manuel de Falla (Granada)\, Teatro Nacional (La Habana)\, Cemal Resit Rey (Istanbul)\, Kölner Philharmonie (Colonia)\, Brucknerhaus (Linz)\, Auditorio Nacional de Música (Madrid)\, Münchener Philharmonie (Múnich)\, Radio France (París)\, Beijing Concert Hall (Pekín) o Konzerthaus (Viena) y este domingo a la capital extremeña. \nEl concierto se enmarca dentro de las actividades del CIMM´24 | Curso Internacional de Música de Mérida organizado por laoctava centro de música creativa\, evento en el cual el maestro Joaquín Clerch ha impartido un curso de guitarra.
URL:https://merida.es/agenda/concierto-de-guitarra-de-joaquin-clerch/
LOCATION:Convento de Santa Clara (Sede del Consorcio y Festival de Mérida)\, Calle Santa Julia\, 5\, Mérida
CATEGORIES:Música
ATTACH;FMTTYPE=image/jpeg:https://merida.es/wp-content/uploads/2024/07/2024-concierto-joaquin-clerch-peq2.jpg
END:VEVENT
BEGIN:VEVENT
DTSTART;TZID=Europe/Madrid:20240731T120000
DTEND;TZID=Europe/Madrid:20240731T120000
DTSTAMP:20260421T162026
CREATED:20240729T222646Z
LAST-MODIFIED:20240729T222646Z
UID:132810-1722427200-1722427200@merida.es
SUMMARY:Concierto del guitarrista Juan Flores 'Chino'
DESCRIPTION:El guitarrista y productor musical Juan Flores “Chino”\, el artista invitado\, Andrés Lázaro\, y el alumnados que han participado en su Campamento Musical ofrecerán un concierto el próximo miércoles\, 31 de julio\, en el Centro Cultural de La Antigua\, a las 12 horas. Será un concierto con entrada libre hasta completar aforo. \nDurante todo el mes de julio se ha desarrollado en el Centro Cultural de La Antigua un Campamento Musical\, en su tercera edición\, dirigido por Juan Flores “Chino”. Ha ofrecido con dos talleres de producción musical con dos niveles\, principiante y avanzado; un taller de guitarra eléctrica para nivel medio y avanzado; y un taller de guitarra de acompañamiento de nivel principiante. \nEl objetivo de estos talleres ha sido abrir un campo de interés para todo tipo de colectivos apasionados por la música que deseen iniciar o ampliar nuevos conocimientos en un entorno de aprendizaje divertido y ameno.
URL:https://merida.es/agenda/concierto-del-guitarrista-juan-flores-chino/
LOCATION:Centro Cultural La Antigua\, Calle Nerja s/n\, Mérida\, Badajoz\, 06800\, Spain
CATEGORIES:Música
ATTACH;FMTTYPE=image/jpeg:https://merida.es/wp-content/uploads/2024/07/Concierto-Juan-Flores-Chino-peq.jpg
END:VEVENT
END:VCALENDAR