﻿BEGIN:VCALENDAR
VERSION:2.0
PRODID:-//Ayuntamiento de Mérida - ECPv6.15.17.1//NONSGML v1.0//EN
CALSCALE:GREGORIAN
METHOD:PUBLISH
X-ORIGINAL-URL:https://merida.es
X-WR-CALDESC:Eventos para Ayuntamiento de Mérida
REFRESH-INTERVAL;VALUE=DURATION:PT1H
X-Robots-Tag:noindex
X-PUBLISHED-TTL:PT1H
BEGIN:VTIMEZONE
TZID:Europe/Madrid
BEGIN:DAYLIGHT
TZOFFSETFROM:+0100
TZOFFSETTO:+0200
TZNAME:CEST
DTSTART:20230326T010000
END:DAYLIGHT
BEGIN:STANDARD
TZOFFSETFROM:+0200
TZOFFSETTO:+0100
TZNAME:CET
DTSTART:20231029T010000
END:STANDARD
BEGIN:DAYLIGHT
TZOFFSETFROM:+0100
TZOFFSETTO:+0200
TZNAME:CEST
DTSTART:20240331T010000
END:DAYLIGHT
BEGIN:STANDARD
TZOFFSETFROM:+0200
TZOFFSETTO:+0100
TZNAME:CET
DTSTART:20241027T010000
END:STANDARD
BEGIN:DAYLIGHT
TZOFFSETFROM:+0100
TZOFFSETTO:+0200
TZNAME:CEST
DTSTART:20250330T010000
END:DAYLIGHT
BEGIN:STANDARD
TZOFFSETFROM:+0200
TZOFFSETTO:+0100
TZNAME:CET
DTSTART:20251026T010000
END:STANDARD
END:VTIMEZONE
BEGIN:VEVENT
DTSTART;VALUE=DATE:20240601
DTEND;VALUE=DATE:20240914
DTSTAMP:20260421T132432
CREATED:20231228T234119Z
LAST-MODIFIED:20240628T084024Z
UID:127193-1717200000-1726271999@merida.es
SUMMARY:Stone & Music Festival 2024
DESCRIPTION:En el año 2024\, el Stone Music Festival celebrará su novena edición para el que volverá a contar con artistas nacionales e internacionales de primer nivel. Como novedad\, este año\, el Festival programará conciertos en el mes de junio. \nTodos los espectáculos presentados se llevarán a cabo en el marco del Teatro Romano de Mérida volviendo a unir patrimonio\, cultura y ocio en este monumento señero de Extremadura. \n• ISABEL PANTOJA – 1 de junio\n• RAPHAEL – 2 de junio\n• AMARAL – 7 de junio\n• THE BLACK CROWES – 9 de junio\n• STATUS QUO – 14 de junio\n• TOM JONES – 21 de junio\n• VÍCTOR MANUEL – 30 de agosto\n• MIKEL IZAL – 31 de agosto\n• LOS CHICHOS – 1 de septiembre\n• ARA MALIKIAN – 8 de septiembre\n• ÁLVARO DE LUNA Y MARLON – 13 de septiembre\n• MANUEL TURIZO – 14 de septiembre \nLas entradas para todos los espectáculos se pueden adquirir a través de la web oficial: stoneandmusicfestival.com.
URL:https://merida.es/agenda/stone-music-festival-2024/
LOCATION:Teatro Romano\, Plaza de Margarita Xirgú\, Mérida
CATEGORIES:Música
ATTACH;FMTTYPE=image/jpeg:https://merida.es/wp-content/uploads/2023/12/2024-stone-music-peq.jpg
END:VEVENT
BEGIN:VEVENT
DTSTART;TZID=Europe/Madrid:20240809T210000
DTEND;TZID=Europe/Madrid:20240809T210000
DTSTAMP:20260421T132432
CREATED:20240809T152956Z
LAST-MODIFIED:20240809T153038Z
UID:133014-1723237200-1723237200@merida.es
SUMMARY:Concierto de Nacho Cuadrado: 'Perderse para encontrarse'
DESCRIPTION:El joven guitarrista emeritense Nacho Cuadrado Espadiña ofrecerá un concierto exclusivo titulado «Perderse para encontrarse» el viernes 9 de agosto\, a las 21:00 horas\, en la sede del Festival de Teatro Clásico de Mérida\, calle Santa Julia\, 5. \nEste evento se enmarca en la destacada exposición Ars Fatum de Terracota Mérida y promete ser una velada que resalte la profunda conexión entre música y artesanía\, tras un total de cinco colaboraciones que se extienden en el tiempo desde hace más de diez años. Una colaboración\, la de Nacho Cuadrado y Ars Fatum\, que celebra la habilidad técnica y la creatividad inherentes a ambas disciplinas.
URL:https://merida.es/agenda/concierto-nacho-cuadrado-perderse-para-encontrarse/
LOCATION:Convento de Santa Clara (Sede del Consorcio y Festival de Mérida)\, Calle Santa Julia\, 5\, Mérida
CATEGORIES:Música
ATTACH;FMTTYPE=image/jpeg:https://merida.es/wp-content/uploads/2024/08/2024-nacho-cuadrado-peq.jpg
END:VEVENT
BEGIN:VEVENT
DTSTART;TZID=Europe/Madrid:20240814T210000
DTEND;TZID=Europe/Madrid:20240814T210000
DTSTAMP:20260421T132432
CREATED:20240804T220239Z
LAST-MODIFIED:20240804T220320Z
UID:132912-1723669200-1723669200@merida.es
SUMMARY:Concierto 'Eterno Puccini'
DESCRIPTION:El Pórtico del Foro acoge el 14 de agosto\, a las 21:00 horas\, el concierto que inaugurará el Curso de Canto e Interpretación del CIMM24 que organiza Laoctava\, centro de música creativa dentro de las actividades del Festival de Teatro Clásico de Mérida. En el aniversario de la muerte de Giaccomo Puccini\, un recital de altos vuelos con Carmen Solis\, soprano; Enrique Ferrer\, tenor; David García\, recitador; y Belén Castillo\, al piano. \nEntrada libre hasta completar aforo.
URL:https://merida.es/agenda/concierto-eterno-puccini/
LOCATION:Pórtico del Foro\, Calle Sagasta s/n\, Mérida\, Badajoz\, 06800\, Spain
CATEGORIES:Música
ATTACH;FMTTYPE=image/jpeg:https://merida.es/wp-content/uploads/2024/08/2024-eterno-puccini-peq.jpg
END:VEVENT
BEGIN:VEVENT
DTSTART;TZID=Europe/Madrid:20240818T200000
DTEND;TZID=Europe/Madrid:20240818T200000
DTSTAMP:20260421T132432
CREATED:20240816T093539Z
LAST-MODIFIED:20240816T093659Z
UID:133151-1724011200-1724011200@merida.es
SUMMARY:Concierto de Alumnos Curso Internacional de Música
DESCRIPTION:El Centro Cultural Alcazaba acoge el domingo 18 de agosto\, a las 20:00 horas\, el Concierto de los Alumnos del Curso Internacional de Música que organiza Laoctava\, Centro de Música Creativa dentro de las actividades paralelas del Festival de Teatro Clásico de Mérida. Entrada libre hasta completar aforo.
URL:https://merida.es/agenda/concierto-de-alumnos-curso-internacional-de-musica-3/
LOCATION:Centro Cultural Alcazaba\, Calle John Lennon\, 5\, Mérida
CATEGORIES:Música
ATTACH;FMTTYPE=image/jpeg:https://merida.es/wp-content/uploads/2024/08/2024-octava-concierto-alumnos-curso-peq.jpg
END:VEVENT
BEGIN:VEVENT
DTSTART;VALUE=DATE:20240828
DTEND;VALUE=DATE:20240829
DTSTAMP:20260421T132432
CREATED:20240712T065425Z
LAST-MODIFIED:20240816T104024Z
UID:132492-1724803200-1724889599@merida.es
SUMMARY:Antílopez en concierto
DESCRIPTION:El dúo andaluz Antílopez ofrecerá un concierto el miércoles 28 de agosto en la Plaza de España durante la Feria y Fiestas 2024 con entrada gratuita. \nJosé Félix López García (Félix) y Miguel Ángel Márquez Cáceres (Migue) forman el inclasificable dúo Antílopez. Dan a su música el nombre de chiripop\, una mezcla de estilos que van del pop al cabaret pasando por la canción de autor o el reggae y siempre con el humor de telón fondo tanto en las letras como en la interpretación.
URL:https://merida.es/agenda/antilopez-en-concierto/
LOCATION:Plaza de España\, Mérida
CATEGORIES:Música
ATTACH;FMTTYPE=image/jpeg:https://merida.es/wp-content/uploads/2024/07/2024-antilopez-feria-peq.jpg
END:VEVENT
BEGIN:VEVENT
DTSTART;VALUE=DATE:20240829
DTEND;VALUE=DATE:20240830
DTSTAMP:20260421T132432
CREATED:20240712T070446Z
LAST-MODIFIED:20240814T110947Z
UID:132494-1724889600-1724975999@merida.es
SUMMARY:María Peláe en concierto
DESCRIPTION:La artista malagueña María Peláe ofrecerá un concierto el jueves 29 de agosto en la Plaza de España durante la Feria y Fiestas 2024 con entrada gratuita. \nCon una larga carrera musical a sus espaldas\, su música se caracteriza por sus letras contundentes cargadas de crítica social\, con toques autobiográficos y\, por supuesto\, con una buena dosis de picaresca y tintes lorquianos. Ha tedido como referencia desde pequeña a grandes mujeres como Lola Flores\, Rocío Jurado o Celia Cruz. Su versatilidad la ha llevado a trabajar en espectáculos de diferente índole\, tanto como actriz como cantante\, manteniendo un sonido muy actual sin perder una pizca de su esencia\, con la flamencura\, el descaro y la teatralidad que la caracterizan
URL:https://merida.es/agenda/maria-pelae-en-concierto/
LOCATION:Plaza de España\, Mérida
CATEGORIES:Música
ATTACH;FMTTYPE=image/jpeg:https://merida.es/wp-content/uploads/2024/07/2024-maria-pelae-peq.jpg
END:VEVENT
BEGIN:VEVENT
DTSTART;TZID=Europe/Madrid:20240830T200000
DTEND;TZID=Europe/Madrid:20240830T200000
DTSTAMP:20260421T132432
CREATED:20240825T150454Z
LAST-MODIFIED:20240825T150454Z
UID:133239-1725048000-1725048000@merida.es
SUMMARY:'En Guardia' en concierto
DESCRIPTION:El grupo En Guardia ofrecerá un concierto el viernes 30 de agosto\, a partir de las 20:00 horas\, en la Plaza de España durante la Feria y Fiestas 2024 con entrada gratuita. Traerán las mejores versiones de pop y rock de los 90 de grupos como La Guardia\, La Frontera\, Duncan Dhu\, Los Rodríguez o Los Rebeldes
URL:https://merida.es/agenda/en-guardia-en-concierto/
LOCATION:Plaza de España\, Mérida
CATEGORIES:Música
ATTACH;FMTTYPE=image/jpeg:https://merida.es/wp-content/uploads/2024/08/2024-en-guardia-feria-peq.jpeg
END:VEVENT
BEGIN:VEVENT
DTSTART;TZID=Europe/Madrid:20240830T221500
DTEND;TZID=Europe/Madrid:20240830T221500
DTSTAMP:20260421T132432
CREATED:20240127T001936Z
LAST-MODIFIED:20240127T001936Z
UID:127841-1725056100-1725056100@merida.es
SUMMARY:Stone & Music Festival: "Víctor Manuel & Orquesta de Extremadura"
DESCRIPTION:Víctor Manuel actuará por primera vez en el STONE&MUSIC el 30 de agosto. El artista asturiano recalará en el Teatro Romano acompañado de la Orquesta de Extremadura dentro de una gira sinfónica que de momento solo cuenta con cinco actuaciones programadas. \nUn espectáculo “único y emotivo” en el que Víctor Manuel interpretará sus grandes éxitos en un formato sinfónico de alta calidad. Temas como ‘Asturias’\, ‘Solo pienso en Ti’ o ‘Soy Un Corazón Tendido al Sol’ resonarán entre las piedras milenarias del Teatro Romano para que el público pueda volver a vivir una de esas noches donde música y patrimonio se funden en una experiencia única. \nEntradas: https://www.eventsentradas.com
URL:https://merida.es/agenda/stone-music-festival-victor-manuel-orquesta-de-extremadura/
LOCATION:Teatro Romano\, Plaza de Margarita Xirgú\, Mérida
CATEGORIES:Música
ATTACH;FMTTYPE=image/jpeg:https://merida.es/wp-content/uploads/2024/01/415224501_989446175873803_8226042036173385522_n.jpg
END:VEVENT
BEGIN:VEVENT
DTSTART;TZID=Europe/Madrid:20240831T221500
DTEND;TZID=Europe/Madrid:20240831T221500
DTSTAMP:20260421T132432
CREATED:20240628T090026Z
LAST-MODIFIED:20240628T090659Z
UID:132083-1725142500-1725142500@merida.es
SUMMARY:Stone & Music Festival: "Mikel Izal"
DESCRIPTION:Mikel Izal actuará en el STONE&MUSIC Festival el próximo 31 de agosto en un concierto en el que presentará su primer trabajo en solitario\, ‘El miedo y el paraíso’. El primer álbum de Mikel Izal se publicó en noviembre de 2023 con el mismo nombre que tiene la gira con la que está recorriendo el país con shows que “prometen sorprender y lograr una nueva atmósfera en los temas de las distintas etapas del artista”. Se trata de un trabajo discográfico que está formado por diez temas inéditos\, que nos propone sumergirnos en un viaje de descubrimiento personal por las diferentes emociones y estados de ánimo que han acompañado al compositor en los últimos años. \nEl repertorio del concierto con el que recalará en el Teatro Romano estará basado en los temas de este nuevo álbum junto a una selección de canciones que han marcado la carrera de Mikel Izal como compositor en los últimos años con su banda IZAL. \nEntradas: https://www.eventsentradas.com
URL:https://merida.es/agenda/stone-music-festival-mikel-izal/
LOCATION:Teatro Romano\, Plaza de Margarita Xirgú\, Mérida
CATEGORIES:Música
ATTACH;FMTTYPE=image/jpeg:https://merida.es/wp-content/uploads/2024/06/mikel-izal.jpg
END:VEVENT
END:VCALENDAR