﻿BEGIN:VCALENDAR
VERSION:2.0
PRODID:-//Ayuntamiento de Mérida - ECPv6.15.17.1//NONSGML v1.0//EN
CALSCALE:GREGORIAN
METHOD:PUBLISH
X-WR-CALNAME:Ayuntamiento de Mérida
X-ORIGINAL-URL:https://merida.es
X-WR-CALDESC:Eventos para Ayuntamiento de Mérida
REFRESH-INTERVAL;VALUE=DURATION:PT1H
X-Robots-Tag:noindex
X-PUBLISHED-TTL:PT1H
BEGIN:VTIMEZONE
TZID:Europe/Madrid
BEGIN:DAYLIGHT
TZOFFSETFROM:+0100
TZOFFSETTO:+0200
TZNAME:CEST
DTSTART:20230326T010000
END:DAYLIGHT
BEGIN:STANDARD
TZOFFSETFROM:+0200
TZOFFSETTO:+0100
TZNAME:CET
DTSTART:20231029T010000
END:STANDARD
BEGIN:DAYLIGHT
TZOFFSETFROM:+0100
TZOFFSETTO:+0200
TZNAME:CEST
DTSTART:20240331T010000
END:DAYLIGHT
BEGIN:STANDARD
TZOFFSETFROM:+0200
TZOFFSETTO:+0100
TZNAME:CET
DTSTART:20241027T010000
END:STANDARD
BEGIN:DAYLIGHT
TZOFFSETFROM:+0100
TZOFFSETTO:+0200
TZNAME:CEST
DTSTART:20250330T010000
END:DAYLIGHT
BEGIN:STANDARD
TZOFFSETFROM:+0200
TZOFFSETTO:+0100
TZNAME:CET
DTSTART:20251026T010000
END:STANDARD
END:VTIMEZONE
BEGIN:VEVENT
DTSTART;VALUE=DATE:20240601
DTEND;VALUE=DATE:20240914
DTSTAMP:20260421T114040
CREATED:20231228T234119Z
LAST-MODIFIED:20240628T084024Z
UID:127193-1717200000-1726271999@merida.es
SUMMARY:Stone & Music Festival 2024
DESCRIPTION:En el año 2024\, el Stone Music Festival celebrará su novena edición para el que volverá a contar con artistas nacionales e internacionales de primer nivel. Como novedad\, este año\, el Festival programará conciertos en el mes de junio. \nTodos los espectáculos presentados se llevarán a cabo en el marco del Teatro Romano de Mérida volviendo a unir patrimonio\, cultura y ocio en este monumento señero de Extremadura. \n• ISABEL PANTOJA – 1 de junio\n• RAPHAEL – 2 de junio\n• AMARAL – 7 de junio\n• THE BLACK CROWES – 9 de junio\n• STATUS QUO – 14 de junio\n• TOM JONES – 21 de junio\n• VÍCTOR MANUEL – 30 de agosto\n• MIKEL IZAL – 31 de agosto\n• LOS CHICHOS – 1 de septiembre\n• ARA MALIKIAN – 8 de septiembre\n• ÁLVARO DE LUNA Y MARLON – 13 de septiembre\n• MANUEL TURIZO – 14 de septiembre \nLas entradas para todos los espectáculos se pueden adquirir a través de la web oficial: stoneandmusicfestival.com.
URL:https://merida.es/agenda/stone-music-festival-2024/
LOCATION:Teatro Romano\, Plaza de Margarita Xirgú\, Mérida
CATEGORIES:Música
ATTACH;FMTTYPE=image/jpeg:https://merida.es/wp-content/uploads/2023/12/2024-stone-music-peq.jpg
END:VEVENT
BEGIN:VEVENT
DTSTART;TZID=Europe/Madrid:20240901T221500
DTEND;TZID=Europe/Madrid:20240901T221500
DTSTAMP:20260421T114040
CREATED:20240127T002742Z
LAST-MODIFIED:20240127T002742Z
UID:127844-1725228900-1725228900@merida.es
SUMMARY:Stone & Music Festival: "Los Chichos"
DESCRIPTION:El icónico trío es otro de esos grupos referentes para varias generaciones. Los Chichos llegarán a Mérida con su gira de despedida para decir adiós a una andadura musical que comenzaron en 1974 con la publicación de su primer disco ‘Ni más ni menos’. \nUna jornada\, la del 1 de septiembre\, en la que el público del STONE&MUSIC Festival disfrutará de un concierto que promete ser una fiesta y que a buen seguro pondrá a bailar a todo el graderío del Teatro Romano. \nEntradas: https://www.eventsentradas.com
URL:https://merida.es/agenda/stone-music-festival-los-chichos/
LOCATION:Teatro Romano\, Plaza de Margarita Xirgú\, Mérida
CATEGORIES:Música
ATTACH;FMTTYPE=image/jpeg:https://merida.es/wp-content/uploads/2024/01/2024-stone-los-chichos-peq.jpg
END:VEVENT
BEGIN:VEVENT
DTSTART;TZID=Europe/Madrid:20240907T210000
DTEND;TZID=Europe/Madrid:20240907T210000
DTSTAMP:20260421T114040
CREATED:20240827T115256Z
LAST-MODIFIED:20240827T115256Z
UID:133259-1725742800-1725742800@merida.es
SUMMARY:Acto conmemorativo Día de Extremadura 2024
DESCRIPTION:El acto de entrega de Medallas de Extremadura tendrá lugar\, como es tradición\, el día 7 de septiembre en el Teatro Romano de Mérida y será conducido y presentado por la periodista extremeña Ángeles Blanco. El discurso ciudadano corresponderá al escritor\, poeta y novelista extremeño Diego Doncel Manzano. \nLos encargados de entregar las Medallas serán Alejandro Talaván\, chef del restaurante ‘Versatil’\, en Zarza de Granadilla con una estrella Michelín\, que entregará el galardón al chef cacereño José Pizarro; la atleta granadina María Pérez entregará la distinción al atleta llerenense Álvaro Martín Uriol; la profesora del Instituto de Secundaria de Quintana de la Serena y Premio a la Mejor Docente de España\, Susana Díaz\, hará entrega de la medalla a las Hermanas Josefinas de la Santísima Trinidad de Plasencia\, y la investigadora de la UEx Guadalupe Cumplido Laso hará entrega a la investigadora\, académica y especialista en Inteligencia Artificial\, Asunción Gómez Pérez. \nEn esta ocasión\, el himno de Extremadura será interpretado por el artista Paco Arrojo y se podrá disfrutar de las actuaciones de la Orquesta de Extremadura\, la cantante Soraya Arnelas así como del Coro de Cámara de Extremadura.
URL:https://merida.es/agenda/dia-extremadura-2024/
LOCATION:Teatro Romano\, Plaza de Margarita Xirgú\, Mérida
CATEGORIES:Institucional,Música
ATTACH;FMTTYPE=image/jpeg:https://merida.es/wp-content/uploads/2024/08/2024-dia-extremadura-peq.jpg
END:VEVENT
BEGIN:VEVENT
DTSTART;TZID=Europe/Madrid:20240908T221500
DTEND;TZID=Europe/Madrid:20240908T221500
DTSTAMP:20260421T114040
CREATED:20240127T003234Z
LAST-MODIFIED:20240907T143455Z
UID:127847-1725833700-1725833700@merida.es
SUMMARY:Stone & Music Festival: "Ara Malikian"
DESCRIPTION:El talento del violinista Ara Malikian volverá a enmudecer al público del Teatro Romano el 8 de septiembre. Será la segunda vez que el artista de origen libanés y ascendencia armenia actúe en el Stone\, en esta ocasión dentro de su ‘Ara Malikian World Tour’. \nEn palabras del propio artista\, esta gira es “el resultado de ver crecer a mi hijo\, es el resultado de mi crecimiento a su lado\, es todos esos sonidos y melodías que intentan darle forma a lo que he sentido y me ha inspirado de él y de la vida a través de él. Es un encuentro con el niño que no pude ser y hubiera soñado ser”. \nEntradas: https://www.eventsentradas.com
URL:https://merida.es/agenda/stone-music-festival-ara-malikian/
LOCATION:Teatro Romano\, Plaza de Margarita Xirgú\, Mérida
CATEGORIES:Música
ATTACH;FMTTYPE=image/jpeg:https://merida.es/wp-content/uploads/2024/01/2024-stone-ara-malikian-peq-1.jpg
END:VEVENT
BEGIN:VEVENT
DTSTART;TZID=Europe/Madrid:20240913T221500
DTEND;TZID=Europe/Madrid:20240913T221500
DTSTAMP:20260421T114040
CREATED:20240127T004302Z
LAST-MODIFIED:20240127T004302Z
UID:127850-1726265700-1726265700@merida.es
SUMMARY:Stone & Music Festival: "Álvaro de Luna y Marlon"
DESCRIPTION:Dos de los artistas más prometedores de la música española\, Álvaro de Luna y Marlon\, ofrecerán un doble concierto el 14 de septiembre. Tras su primer disco ‘Levantaremos al Sol’\, que le consolidó en el panorama musical nacional\, Álvaro de Luna llega a Mérida con ‘UNO’\, su segundo trabajo y gira homónima que ya ha presentado en países como Italia\, Chile\, Argentina\, Colombia y México. \nPor su parte\, los asturianos Marlon son otra de esas jóvenes bandas que se está abriendo paso en la industria musical a base de éxitos como ‘Olvidé olvidarte’ o ‘De perreo’. Hace apenas dos meses presentaron su tercer disco de estudio\, ‘Que se caiga el cielo’. \nEntradas: https://www.eventsentradas.com
URL:https://merida.es/agenda/stone-music-festival-alvaro-de-luna-y-marlon/
LOCATION:Teatro Romano\, Plaza de Margarita Xirgú\, Mérida
CATEGORIES:Música
ATTACH;FMTTYPE=image/jpeg:https://merida.es/wp-content/uploads/2024/01/2024-stone-marlon-alvaro-de-luna-peq.jpg
END:VEVENT
BEGIN:VEVENT
DTSTART;VALUE=DATE:20240914
DTEND;VALUE=DATE:20240915
DTSTAMP:20260421T114040
CREATED:20240813T063546Z
LAST-MODIFIED:20240913T194130Z
UID:133072-1726272000-1726358399@merida.es
SUMMARY:La Noche del Patrimonio 2024
DESCRIPTION:Descargar Programa (Lectura Fácil) \nEl sábado 14 de septiembre se celebrará la VII edición de ‘LA NOCHE DEL PATRIMONIO’\, de manera simultánea con las otras 14 ciudades del Grupo de Ciudades Patrimonio de la Humanidad de España\, en el que podremos disfrutar de numerosas actividades culturales de danza\, música\, artes visuales\, literatura y artesanía\, para todos los públicos\, en diferentes entornos monumentales de la ciudad dentro de ‘VIVE PATRIMONIO’. Una oportunidad única para sumergirse en la vibrante vida cultural de nuestra ciudad y conocer nuestros talentos locales. Además\, algunos de los principales monumentos y museos de la ciudad tendrán acceso libre y horario especial durante este día donde se realizarán diferentes visitas guiadas dentro de ‘ABIERTO PATRIMONIO’. \nPor último\, esta noche se celebrará la VII edición del Festival ‘ESCENA PATRIMONIO’ donde se podrá disfrutar de los mejores coreógrafos de danza contemporánea del país. En Mérida\, la compañía ‘Marcat Dance’ de Mario Bermúdez Gil y Catherine Coury nos traerán su espectáculo ‘Dual’ en el Templo de Diana\, a las 22:30 horas. \nPara las visitas guiadas y los talleres infantiles son plazas limitadas por lo que es necesaria inscripción. Los formularios para apuntarse se activarán el jueves 12 de septiembre\, a las 10:30 horas\, para los Talleres y a las 12:30 horas\, para las Visitas. \nWeb oficial: https://lanochedelpatrimonio.com/ \n\n					\n					VISITAS GUIADAS(TODAS LAS PLAZAS AGOTADAS) \nMÉRIDA LEGENDARIA\, PATRIMONIO OCULTO. 21:00 horas. 30 plazas. Ruta de 80 minutos por el centro de la ciudad de Mérida en la que se desvelará su patrimonio más desconocido\, así como sus mitos y leyendas. Israel J. Espino de Mérida Secreta\nCREENCIAS Y SUPERSTICIONES ROMANAS. 20:00 horas. 30 plazas. Ruta para conocer los mitos y supersticiones de los romanos y cómo estas creencias influían en la vida cotidiana\, política y militar. Pilar Fuentes\nNOCHE DE ESTRELLAS DESDE LOS MONUMENTOS. 23:00h. 30 plazas. Visita guiada por enclaves excepcionales de la ciudad de Mérida enfocada en la observación y el disfrute de los cielos nocturnos\, así como en la exploración del Universo y los fenómenos astronómicos. Astroturismo por Extremadura\nVISITA FORO PROVINCIAL. Tres pases: 20:00\, 21:00 y 22:00 horas. 15 plazas por pase. Recorrido por el Arco de Trajano y el Templo de la calle Holguín. Eméritos del Patrimonio\nVISITA CASA ANFITEATRO. Tres pases: 18:00\, 19:00 y 20:00 horas. 20 plazas por pase. Eméritos del Patrimonio\nInscripción Visitas Guiadas \n				\n					\n					TALLERES INFANTILES \nPINTURA EN VIVO(PLAZAS AGOTADAS). Templo de Diana. 18:30 horas. 10 plazas. Participación en familia entre el menor inscrito y su tutor/a. De 6 a 12 años. Nivel de pintura INICIO. Rosario Maestre de Edartem.\nTALLER DIDÁCTICO ‘BAJO TUS PIES\, MÉRIDA CIUDAD ARQUEOLÓGICA’. Sala Decumanus. Dos pases: 18:00 y 19:00 horas. 15 plazas. De 8 a 12 años.. Participación en familia entre el menor inscrito y su tutor/a. Eméritos del Patrimonio\nTALLER ESCULTURA COLECTIVA. (PLAZAS AGOTADAS) Plaza de las Méridas del Mundo. 18:30h. De 6 a 12 años. 30 plazas\nTALLERES DE FÍBULAS. Plaza de las Méridas del Mundo. De 6 a 12 años. Dos pases: 19:00 y 20:00 horas. 20 plazas por pase. Emerita Antiqua\nTALLERES DE JUEGOS ROMANOS. (PLAZAS AGOTADAS)  Plaza de las Méridas del Mundo. De 6 a 12 años. Dos pases: 19:00 y 20:00 horas. 20 plazas por pase. Emerita Antiqua\nTALLERES DE TABLILLAS DE ESCRITURA. Plaza de las Méridas del Mundo. De 6 a 12 años. Dos pases: 19:00 y 20:00 horas. 20 plazas por pase. Emerita Antiqua\nTALLERES DE CONFECCIÓN DE TÚNICA DE LEGIONARIO Y ENTRENAMIENTO INFANTIL. Plaza de las Méridas del Mundo. De 6 a 12 años. Dos pases: 19:00 y 20:00 horas. 20 plazas por pase. Emerita Antiqua\nInscripción Talleres \n				 \nACTIVIDADES CULTURALES \nTodas las actividades son de acceso libre y gratuito a excepción del concierto de Manuel Turizo en el Teatro Romano.\n\n					Templo de Diana \n22:30h. y 23:10h. (Dos pases) Espectáculo de danza: ‘Dual’\, por Marcat Dance. Festival ESCENA PATRIMONIO  \n\n					Teatro María Luisa \n21:00h. Danza contemporánea: ‘Toda la luz del mediodía’\, por Julián Pacomio \n\n					Arco de Trajano \n19:00h. Obra de teatro familiar: ‘El jorobado’\, por Saltantes Teatro \n\n					Plaza de las Termas de Pontezuelas \n20:00h. Banda de Música de Mérida21:00h. Gladiatura. Emerita Antiqua \n\n					Alcazaba Árabe \n20:30h. Coros y Danzas de Ntra. Sra. de La Antigua21:30h. Recital de canciones y poemas por Luis Miguel Espino23:00h. ‘La Caja de Pandora. El hilo de la esperanza’ por La Cantera de Fuensanta Blanco \n\n					Centro Cultural Alcazaba \n18:00h. Cuentacuentos infantiles por Yörik19:00h. Taller de canto público juvenil con Claudia Abela21:30h. Lectura dramatizada: Mujeres\, amor y libertad. Escritoras españolas y latinoamericanas. Biblioteca Juan Pablo Forner21:45h. Lectura dramatizada: Ejercicios de estilo de Raymond Queneau. Biblioteca Juan Pablo Forner22:30h. Teatro: ‘50.000 pesetas’. TAPTC Teatro \n\n					Sala Capilla del Parador Nacional \n19:30h. Coro Juan del Encina20:00h. Coro Ad Libitum20:30h. Coro Ubi Sunt?21:00h. Coral Emerita Augusta21:30h. Guillermo Segovia \n\n					Plaza de las Méridas del Mundo \n10:00h-24:00h. Mercado de Artesanía \n\n					Puente Romano \n19:45h. Desfile de la Legio V y la Legio X hasta el Museo Nacional de Arte Romano. Ara Concordiae y Emerita Antiqvua \n\n					Museo Nacional de Arte Romano \n21:00-24:00h. Estaciones de Interpretación. Militaria\, El joven legionario\, Las tres caras de Hécate\, Lustratio: el ceremonial en torno al recién nacido en Roma\, Musivaria\, Stellae: magia y adivinación en la Antigua Roma\, Gente de bronce y hierro. Ara Concordiae. Más información: https://www.cultura.gob.es/mnromano \n\n					Teatro Romano \n22:15h. Concierto de Manuel Turizo. Stone & Music Festival. Entradas: https://www.eventsentradas.com
URL:https://merida.es/agenda/noche-patrimonio-2024/
LOCATION:Varios puntos de la ciudad\, Mérida
CATEGORIES:Curso-Taller,Danza,Infantil,Música,Recreación,Teatro,Visita Guiada
ATTACH;FMTTYPE=image/jpeg:https://merida.es/wp-content/uploads/2024/08/2024-noche-del-patrimonio-banner.jpg
END:VEVENT
BEGIN:VEVENT
DTSTART;TZID=Europe/Madrid:20240914T221500
DTEND;TZID=Europe/Madrid:20240914T221500
DTSTAMP:20260421T114040
CREATED:20240628T091133Z
LAST-MODIFIED:20240628T091133Z
UID:132086-1726352100-1726352100@merida.es
SUMMARY:Stone & Music Festival: "Manuel Turizo"
DESCRIPTION:El cantante colombiano Manuel Turizo actuará en el STONE & MUSIC Festival el próximo 14 de septiembre. Se trata un nuevo artista internacional que llegará al Teatro Romano de Mérida\, además\, acompañado por la dominicana Lennis Rodríguez\, que actuará como telonera. \nTras haber debutado con varios sencillos\, este joven artista lanzó en 2017 el tema que le lanzó a la fama\, ‘Una lady como tú’\, cuyo video oficial ha superado los 1.000 millones de visualizaciones en Youtube y que posteriormente formó parte del primero de sus tres álbumes de estudio\, ‘ADN’. En 2021 repitió éxito con el disco ‘Dopamina’ y en 2023 salió al mercado su último título hasta la fecha\, ‘2000’\, que incluye temas tan reconocibles como ‘La Bachata’ y ‘El Merengue’. \nA lo largo de su meteórica carrera musical Manuel Turizo ha compartido micrófono con otros grandes nombres de la música como Shakira\, Raw Alejandro\, Maluma\, SAIKO\, Nicky Jam \, Lola Índigo y Sebastián Yatra\, entre muchos otros. Cabe destacar que en la última gala de LOS40 Music Awards se hizo con el premio a ‘Mejor gira o concierto’ en la categoría Global Latina\, lo cual es una buena carta de presentación antes del que será su primer directo en Extremadura. \nEntradas: https://www.eventsentradas.com
URL:https://merida.es/agenda/stone-music-festival-manuel-turizo/
LOCATION:Teatro Romano\, Plaza de Margarita Xirgú\, Mérida
CATEGORIES:Música
ATTACH;FMTTYPE=image/jpeg:https://merida.es/wp-content/uploads/2024/06/manuel-turizo.jpg
END:VEVENT
BEGIN:VEVENT
DTSTART;TZID=Europe/Madrid:20240919T203000
DTEND;TZID=Europe/Madrid:20240919T203000
DTSTAMP:20260421T114040
CREATED:20240916T065017Z
LAST-MODIFIED:20240916T065017Z
UID:133643-1726777800-1726777800@merida.es
SUMMARY:XXXVIII Día del Museo Nacional de Arte Romano
DESCRIPTION:El Museo Nacional de Arte Romano organiza como cada 19 de septiembre el Día del Museo\, coincidiendo con la fecha en la que este fue inaugurado en la actual sede. Así\, para el XXXVIII Día del MNAR (1986-2024) están previstas las siguientes actividades. \n20:30 h. Entrega del XXXI Premio Internacional Genio Protector de la Colonia Augusta Emerita. \n21:30 – 22:30 h. Concierto MusaE. Darío Meta (pianista) que interpretará obras de Haydn\, Ravel\, Mozart y Beethoven \nNave principal. Entrada libre hasta completar aforo. Organizan Museo Nacional de Arte Romano\, Asociación Amigos Museo Arte Romano de Mérida\, Fundación de Estudios Romanos y Proyecto MusaE.
URL:https://merida.es/agenda/xxxviii-dia-del-museo-nacional-de-arte-romano/
LOCATION:Museo Nacional de Arte Romano\, Calle José Ramón Mélida\, Mérida\, Badajoz\, 06800\, España
CATEGORIES:Institucional,Música
ATTACH;FMTTYPE=image/jpeg:https://merida.es/wp-content/uploads/2024/09/2024-dia-museo-peq.jpg
END:VEVENT
BEGIN:VEVENT
DTSTART;VALUE=DATE:20240920
DTEND;VALUE=DATE:20240922
DTSTAMP:20260421T114040
CREATED:20240909T221503Z
LAST-MODIFIED:20240910T070748Z
UID:133478-1726790400-1726963199@merida.es
SUMMARY:7 Sillas Fest
DESCRIPTION:El Parque de las Siete Sillas acogerá\, los próximos 20 y 21 de septiembre\, la I edición del 7 Sillas Fest\, una novedad en la agenda de eventos de la ciudad y que aprovechará un espacio natural de la ciudad\, al aire libre\, en el que ofrecerá ofrecerá rock y pop\, pero también garage\, rockabilly\, punk\, funk o rockin’ country blues. \nSe trata de un menú musical muy variado y enemigo de la monotonía\, en el que no habrá bandas repitiendo sonidos y actitudes\, haciendo un homenaje a los géneros musicales que han triunfado en Occidente en los últimos 75 años. Una fiesta callejera y familiar\, pero solvente y cualificada\, en la que se pretende que diversión y calidad vayan de la mano. Una buena oportunidad para ver a jóvenes y a mayores disfrutar juntos de las actuaciones porque la oferta musical no quiere apartados\, etiquetas ni facciones. \nLos Fusiles\, The Groovaloovas\, Kings of The Beach\, Howlin’ Ramblers\, Charlie Hightone\, Rack Roll & The Remayteds\, El Gran Quelonio\, Branquias Johnson\, Tus Novias Indie\, ElectroZacho\, The Achos\, Elena Gog serán las bandas que participarán en este festival. \nMás información: https://www.sietesillasfestival.com/
URL:https://merida.es/agenda/7-sillas-fest/
LOCATION:Parque de las VII Sillas\, Mérida
CATEGORIES:Música
ATTACH;FMTTYPE=image/jpeg:https://merida.es/wp-content/uploads/2024/09/2024-7sillas-fest-peq.jpg
END:VEVENT
BEGIN:VEVENT
DTSTART;VALUE=DATE:20240923
DTEND;VALUE=DATE:20241007
DTSTAMP:20260421T114040
CREATED:20240919T105441Z
LAST-MODIFIED:20241005T094148Z
UID:133813-1727049600-1728259199@merida.es
SUMMARY:Patrona Guardia Civil 2024
DESCRIPTION:Con motivo de la celebración de la Patrona de la Guardia Civil en Mérida y provincia de Badajoz\, del 23 de septiembre al 6 de octubre\, se ha diseñado el siguiente programa de actos. \nLunes 23 de septiembre: \n\nDesde el día 23 de septiembre hasta el 05 de octubre\, se podrá visitar una exposición de fotografía histórica de la Guardia Civil en el Patio Noble de la Asamblea de Extremadura en horario de 10:00 a 14:00 horas y de 16:00 a 20:00 horas.\n\n \nSábado 28 de septiembre: \n\nEn la Escuela de Tráfico de la Guardia Civil\, a partir de las 07:30 horas\, habrá un curso de conducción segura en colaboración con la asociación solidaria “Moto y vida”.\n\n \nDomingo 29 de septiembre: \n\nA las 09:00 horas se desarrollará una Jornada Motera con una ruta que saldrá de la Escuela de Tráfico de la Guardia Civil y en la que participaran diferentes asociaciones moteras. Posteriormente\, una vez finalizada la ruta habrá una visita por el museo de la Escuela de Tráfico.\n\n \nLunes 30 de septiembre: \n\nEn la Plaza de España\, a las 12 horas\, se realizará un Homenaje e Izado solemne de la Bandera Nacional\, al que podrán asistir las personas que lo deseen hasta completar el aforo.\n \nExposición “La Guardia Civil al servicio de la ciudadanía”: a las 17:00 horas se inaugurará en el Palacio de Congresos de Mérida\, en la Avenida del Río s/n\, la exposición“ La Guardia Civil al servicio de la ciudadanía”\, que permanecerá abierta al público hasta el próximo día 13 de octubre en horario de 10 a 14 y de 17 a 20 horas\, todos los días.\n \nA las 21:00 horas\, iluminación de edificios emblemáticos con logo y colores de la Guardia Civil. Encendido en el Templo de Diana\n\n\n					\n				\n					\n				 \nMartes 1 de octubre: \n\nEl día 1 darán comienzo los “Talleres escolares”\, actividades infantiles dirigidas a alumnos de educación primaria y secundaria\, que se desarrollarán los días 1\,2 y 3\, en la escuela de Trafico de la Guardia Civil\, con un horario de 09:30 a 13:30 horas donde se dará a conocer a los escolares el trabajo que realizan diferentes especialidades y se les ofrecerá consejos sobre seguridad vial\, protección de la naturaleza\, etc. Este año contará con un parque infantil de la Dirección General de Tráfico.\n \nTeatro María Luisa. 17:00 horas. Proyección de la película “Todos los nombres de Dios” con coloquio posterior con personal de la película y el actor Roberto Enríquez. Entrada libre hasta completar aforo.\n\n \nMiércoles 2 de octubre: \n\nPlaza de toros de Zafra (Badajoz). 17:30 horas. Exhibición de medios. Entrada libra hasta completar aforo.\n\n\n					\n				\n					\n				 \nJueves 3 de octubre: \n\nA las 11:00 horas tendrá lugar una Jornada de Cultura de Seguridad “Nuevos retos de la Inteligencia Artificial para la Seguridad”\, en el salón de actos de la Universidad de Extremadura (Calle Sta. Teresa Jornet\, 38).\n \nA las 18:00 horas\, el Área e Igualdad de la Guardia Civil organizará un encuentro de mujeres referentes extremeñas en el que participarán profesionales de diferentes ámbitos de la sociedad en la Asamblea de Extremadura\n\n \nViernes 4 de octubre: \n\nA las 09.30 horas\, la Guardia Civil firmará en la escuela de Trafico de la Guardia Civil un protocolo con Roadpol (Red europea de unidades policiales de tráfico y organización sucesora de la TISPOL) con el objetivo de reducir significativamente el número de víctimas en accidentes de tráfico. Asimismo\, y en el mismo sitio a las 10:30 horas habrá una demostración por parte de la Agrupación de Tráfico para alumnos de Bachillerato.\n \nA las 13:00 horas tendrá lugar se realizará un reconocimiento al Sector Turístico de Mérida.\n \nPlaza de Toros de Mérida. 17.30 horas. Demostración de procedimientos de actuación de diversas Unidades de la Guardia Civil\, con especialidades como caballería\, cinológico\, desactivación de explosivos y rescate en montaña\, entre otros. Entrada libre hasta completar aforo.\n\n\n					\n				\n					\n				 \nSábado 5 de octubre: \n\nCarrera solidaria por la ciudad de Mérida\, a beneficio de Plena Inclusión Mérida. Circuito urbano de 6km\n \nConcierto en el Teatro Romano: A las 20:00 horas del mismo día habrá un concierto de música en el Teatro Romano. Participarán la Unidad de Música de la Guardia Civil junto con la Guardia Nacional Republicana de Portugal\, el Conservatorio Oficial de Música de Mérida y la Banda de Música de Mérida. La entrada será libre hasta completar el aforo.\n \nRetreta Militar: a las 21:30 horas tendrá lugar un Toque de Retreta por miembros de la Banda de Tambores que comenzará por el Museo Romano\, Templo de Diana\, Arco de Trajano y Plaza de España.\n\n \nDomingo 6 de octubre: \n\nParada Militar en el Paseo de Roma a las 12:00 horas y a continuación a las 13:00 horas\, un desfile en la avenida José Fernández López\, en el que participarán efectivos de las distintas Unidades de la Guardia Civil\, vehículos y el Grupo de Caballería.
URL:https://merida.es/agenda/patrona-guardia-civil-2024/
LOCATION:Varios puntos de la ciudad\, Mérida
CATEGORIES:Charla-Conferencia,Deporte,Educación,Exposición,Institucional,Música,Otros
ATTACH;FMTTYPE=image/jpeg:https://merida.es/wp-content/uploads/2024/09/2024-patrona-guardia-civil-peq.jpg
END:VEVENT
BEGIN:VEVENT
DTSTART;TZID=Europe/Madrid:20240927T203000
DTEND;TZID=Europe/Madrid:20240927T203000
DTSTAMP:20260421T114040
CREATED:20240923T065558Z
LAST-MODIFIED:20240926T201529Z
UID:133892-1727469000-1727469000@merida.es
SUMMARY:Espectáculo musical: "Misma raíz\, misma tierra"
DESCRIPTION:VIERNES Día 27 de septiembre de 2024. 20.30 horas\nEspectáculo: Misma raíz\, misma tierra \nSinopsis: Donde el flamenco y el folklore bailan al mismo compás. «Misma raíz\, misma tierra» es un viaje por la tradición extremeña\, donde folclore y flamenco se dan la mano mezclando sus letras\, su música y sus bailes en una puesta en escena sobria y elegante. Juan Manuel Moreno y sus músicos ponen sus loterías al servicio de las parejas de la Asociación Folclórica Tierra de Barros\, que bailan con Carmen La Parreña y sus alumnos. \nReparto: Carmen La Parreña y su cuadro de baile (al baile)\, Paulo Molina e Ismael Solomando (al cante)\, Juan Manuel Moreno (guitarra) y Roberto Jaén Arroyo (percusión). Con la Asociación Folklórica de Tierra de Barros \nPúblico recomendado: Para todos los públicos \nTaquilla: Entrada única 5€ (*Descuentos del 50% aplicable a: carnet estudiante\, carnet joven europeo\, personas jubiladas-pensionistas\, familia numerosa y personas en desempleo)\nHorario de taquilla: Día 26 de septiembre de mayo de 11.00 a 13:00h. y de 18.30 a 20.30h y día 27 de septiembre de 11.00 a 13:00h. y de 18.30 a 20.30h.\nReservas en el email: salatrajanomerida@gmail.com
URL:https://merida.es/agenda/espectaculo-musical-misma-raiz-misma-tierra/
LOCATION:Sala Trajano\, Calle Muza\, 50\, Mérida
CATEGORIES:Música
ATTACH;FMTTYPE=image/jpeg:https://merida.es/wp-content/uploads/2024/09/misma-raiz-peq.jpg
END:VEVENT
BEGIN:VEVENT
DTSTART;TZID=Europe/Madrid:20240928T203000
DTEND;TZID=Europe/Madrid:20240928T203000
DTSTAMP:20260421T114040
CREATED:20240923T062632Z
LAST-MODIFIED:20240923T063020Z
UID:133889-1727555400-1727555400@merida.es
SUMMARY:Espectáculo musical: "Este concierto es... ¡Una Ruina!"
DESCRIPTION:SÁBADO Día 28 de septiembre de 2024. 20.30 horas\nEspectáculo: Este concierto es… ¡Una Ruina!\nCompañía: GP Raquel Palma \nSinopsis: Este concierto es una ruina transita a un ritmo frenético desde el disparate propio del vodevil a «la verdad» del teatro del absurdo\, provocando la carcajada continua del espectador. Amores imposibles\, amores apasionados\, venganzas\, furias\, secretos inconfesables\, hijas secretas que aparecen por sorpresa son algunos de los ingredientes que se agitan en esta coctelera a punto de estallar. Vamos\, lo mínimo que se despacha en cualquier familia decente. Una mirada amable que esconde en su interior «un toquecito» a los abusos que se pueden llegar a establecer en las relaciones laborales\, las dificultades y estereotipos que rodean a la mujer empresaria\, los roles de género\, la identidad sexual… Y todo ello\, bajo los acordes de una banda sonora que hará que el público asistente cante\, baile y esté deseando levantarse de sus asientos para estar JUNTO a Aurora\, Joaquín\, Paqui y Lupe. ¡Sean todos bienvenidos a Este concierto es una ruina! \nReparto: Raquel Palma\, Javier Herrera\, Jorge Rivero\, Desiré Alegre\nTexto y dirección: Jose A. Raynaud \nPúblico recomendado: Para todos los públicos \nTaquilla: Entrada única 5€ (*Descuentos del 50% aplicable a: carnet estudiante\, carnet joven europeo\, personas jubiladas-pensionistas\, familia numerosa y personas en desempleo)\nHorario de taquilla: Día 27 de septiembre de mayo de 11.00 a 13:00h. y de 18.30 a 20.30h y día 28 de septiembre de 11.00 a 13:00h. y de 18.30 a 20.30h.\nReservas en el email: salatrajanomerida@gmail.com
URL:https://merida.es/agenda/espectaculo-musical-este-concierto-es-una-ruina/
LOCATION:Sala Trajano\, Calle Muza\, 50\, Mérida
CATEGORIES:Música
ATTACH;FMTTYPE=image/jpeg:https://merida.es/wp-content/uploads/2024/09/concierto-ruina-peq.jpg
END:VEVENT
END:VCALENDAR