﻿BEGIN:VCALENDAR
VERSION:2.0
PRODID:-//Ayuntamiento de Mérida - ECPv6.15.17.1//NONSGML v1.0//EN
CALSCALE:GREGORIAN
METHOD:PUBLISH
X-ORIGINAL-URL:https://merida.es
X-WR-CALDESC:Eventos para Ayuntamiento de Mérida
REFRESH-INTERVAL;VALUE=DURATION:PT1H
X-Robots-Tag:noindex
X-PUBLISHED-TTL:PT1H
BEGIN:VTIMEZONE
TZID:Europe/Madrid
BEGIN:DAYLIGHT
TZOFFSETFROM:+0100
TZOFFSETTO:+0200
TZNAME:CEST
DTSTART:20230326T010000
END:DAYLIGHT
BEGIN:STANDARD
TZOFFSETFROM:+0200
TZOFFSETTO:+0100
TZNAME:CET
DTSTART:20231029T010000
END:STANDARD
BEGIN:DAYLIGHT
TZOFFSETFROM:+0100
TZOFFSETTO:+0200
TZNAME:CEST
DTSTART:20240331T010000
END:DAYLIGHT
BEGIN:STANDARD
TZOFFSETFROM:+0200
TZOFFSETTO:+0100
TZNAME:CET
DTSTART:20241027T010000
END:STANDARD
BEGIN:DAYLIGHT
TZOFFSETFROM:+0100
TZOFFSETTO:+0200
TZNAME:CEST
DTSTART:20250330T010000
END:DAYLIGHT
BEGIN:STANDARD
TZOFFSETFROM:+0200
TZOFFSETTO:+0100
TZNAME:CET
DTSTART:20251026T010000
END:STANDARD
END:VTIMEZONE
BEGIN:VEVENT
DTSTART;VALUE=DATE:20240923
DTEND;VALUE=DATE:20241007
DTSTAMP:20260421T065925
CREATED:20240919T105441Z
LAST-MODIFIED:20241005T094148Z
UID:133813-1727049600-1728259199@merida.es
SUMMARY:Patrona Guardia Civil 2024
DESCRIPTION:Con motivo de la celebración de la Patrona de la Guardia Civil en Mérida y provincia de Badajoz\, del 23 de septiembre al 6 de octubre\, se ha diseñado el siguiente programa de actos. \nLunes 23 de septiembre: \n\nDesde el día 23 de septiembre hasta el 05 de octubre\, se podrá visitar una exposición de fotografía histórica de la Guardia Civil en el Patio Noble de la Asamblea de Extremadura en horario de 10:00 a 14:00 horas y de 16:00 a 20:00 horas.\n\n \nSábado 28 de septiembre: \n\nEn la Escuela de Tráfico de la Guardia Civil\, a partir de las 07:30 horas\, habrá un curso de conducción segura en colaboración con la asociación solidaria “Moto y vida”.\n\n \nDomingo 29 de septiembre: \n\nA las 09:00 horas se desarrollará una Jornada Motera con una ruta que saldrá de la Escuela de Tráfico de la Guardia Civil y en la que participaran diferentes asociaciones moteras. Posteriormente\, una vez finalizada la ruta habrá una visita por el museo de la Escuela de Tráfico.\n\n \nLunes 30 de septiembre: \n\nEn la Plaza de España\, a las 12 horas\, se realizará un Homenaje e Izado solemne de la Bandera Nacional\, al que podrán asistir las personas que lo deseen hasta completar el aforo.\n \nExposición “La Guardia Civil al servicio de la ciudadanía”: a las 17:00 horas se inaugurará en el Palacio de Congresos de Mérida\, en la Avenida del Río s/n\, la exposición“ La Guardia Civil al servicio de la ciudadanía”\, que permanecerá abierta al público hasta el próximo día 13 de octubre en horario de 10 a 14 y de 17 a 20 horas\, todos los días.\n \nA las 21:00 horas\, iluminación de edificios emblemáticos con logo y colores de la Guardia Civil. Encendido en el Templo de Diana\n\n\n					\n				\n					\n				 \nMartes 1 de octubre: \n\nEl día 1 darán comienzo los “Talleres escolares”\, actividades infantiles dirigidas a alumnos de educación primaria y secundaria\, que se desarrollarán los días 1\,2 y 3\, en la escuela de Trafico de la Guardia Civil\, con un horario de 09:30 a 13:30 horas donde se dará a conocer a los escolares el trabajo que realizan diferentes especialidades y se les ofrecerá consejos sobre seguridad vial\, protección de la naturaleza\, etc. Este año contará con un parque infantil de la Dirección General de Tráfico.\n \nTeatro María Luisa. 17:00 horas. Proyección de la película “Todos los nombres de Dios” con coloquio posterior con personal de la película y el actor Roberto Enríquez. Entrada libre hasta completar aforo.\n\n \nMiércoles 2 de octubre: \n\nPlaza de toros de Zafra (Badajoz). 17:30 horas. Exhibición de medios. Entrada libra hasta completar aforo.\n\n\n					\n				\n					\n				 \nJueves 3 de octubre: \n\nA las 11:00 horas tendrá lugar una Jornada de Cultura de Seguridad “Nuevos retos de la Inteligencia Artificial para la Seguridad”\, en el salón de actos de la Universidad de Extremadura (Calle Sta. Teresa Jornet\, 38).\n \nA las 18:00 horas\, el Área e Igualdad de la Guardia Civil organizará un encuentro de mujeres referentes extremeñas en el que participarán profesionales de diferentes ámbitos de la sociedad en la Asamblea de Extremadura\n\n \nViernes 4 de octubre: \n\nA las 09.30 horas\, la Guardia Civil firmará en la escuela de Trafico de la Guardia Civil un protocolo con Roadpol (Red europea de unidades policiales de tráfico y organización sucesora de la TISPOL) con el objetivo de reducir significativamente el número de víctimas en accidentes de tráfico. Asimismo\, y en el mismo sitio a las 10:30 horas habrá una demostración por parte de la Agrupación de Tráfico para alumnos de Bachillerato.\n \nA las 13:00 horas tendrá lugar se realizará un reconocimiento al Sector Turístico de Mérida.\n \nPlaza de Toros de Mérida. 17.30 horas. Demostración de procedimientos de actuación de diversas Unidades de la Guardia Civil\, con especialidades como caballería\, cinológico\, desactivación de explosivos y rescate en montaña\, entre otros. Entrada libre hasta completar aforo.\n\n\n					\n				\n					\n				 \nSábado 5 de octubre: \n\nCarrera solidaria por la ciudad de Mérida\, a beneficio de Plena Inclusión Mérida. Circuito urbano de 6km\n \nConcierto en el Teatro Romano: A las 20:00 horas del mismo día habrá un concierto de música en el Teatro Romano. Participarán la Unidad de Música de la Guardia Civil junto con la Guardia Nacional Republicana de Portugal\, el Conservatorio Oficial de Música de Mérida y la Banda de Música de Mérida. La entrada será libre hasta completar el aforo.\n \nRetreta Militar: a las 21:30 horas tendrá lugar un Toque de Retreta por miembros de la Banda de Tambores que comenzará por el Museo Romano\, Templo de Diana\, Arco de Trajano y Plaza de España.\n\n \nDomingo 6 de octubre: \n\nParada Militar en el Paseo de Roma a las 12:00 horas y a continuación a las 13:00 horas\, un desfile en la avenida José Fernández López\, en el que participarán efectivos de las distintas Unidades de la Guardia Civil\, vehículos y el Grupo de Caballería.
URL:https://merida.es/agenda/patrona-guardia-civil-2024/
LOCATION:Varios puntos de la ciudad\, Mérida
CATEGORIES:Charla-Conferencia,Deporte,Educación,Exposición,Institucional,Música,Otros
ATTACH;FMTTYPE=image/jpeg:https://merida.es/wp-content/uploads/2024/09/2024-patrona-guardia-civil-peq.jpg
END:VEVENT
BEGIN:VEVENT
DTSTART;TZID=Europe/Madrid:20241003T200000
DTEND;TZID=Europe/Madrid:20241003T200000
DTSTAMP:20260421T065925
CREATED:20240910T085706Z
LAST-MODIFIED:20240923T055712Z
UID:133485-1727985600-1727985600@merida.es
SUMMARY:Concierto Orquesta de Extremadura: "Conexión improbable"
DESCRIPTION:El colombiano Jorge Pinzón recoge en su Reflejo Sinfónico algunos elementos compositivos particulares del siglo XX. Una herencia adquirida en su formación en Moscú\, en el conservatorio cuyo nombre homenajea al autor de la Sinfonía «Pequeña Rusia». Sobre el escenario\, el violonchelista Santiago Cañón-Valencia y el director Juan Pablo Valencia (ambos también colombianos) abordan junto a la Orquesta de Extremadura el Concierto para violonchelo n.º 1 del gran compositor soviético Dmitri Shostakóvich. Síntesis de potencia\, desgarro y sarcasmo. Arte universal y diverso. Conexión improbable y virtuosa de puntos geográficos distantes. \nPinzón. Reflejo sinfónico\nShostakóvich. Concierto para violonchelo n.º 1\nChaikovski. Sinfonía n.º 2 «Pequeña Rusia» \nEntradas y abonos para toda la temporada: https://taquilla.orquestadeextremadura.com/
URL:https://merida.es/agenda/concierto-orquesta-de-extremadura-conexion-improbable/
LOCATION:Palacio de Congresos\, Avda. del Rio s/n\, Mérida
CATEGORIES:Música
ATTACH;FMTTYPE=image/png:https://merida.es/wp-content/uploads/2024/09/2024-orquesta-extremadura-conexion-peq.png
END:VEVENT
BEGIN:VEVENT
DTSTART;VALUE=DATE:20241005
DTEND;VALUE=DATE:20241006
DTSTAMP:20260421T065925
CREATED:20241002T110541Z
LAST-MODIFIED:20241002T110541Z
UID:134184-1728086400-1728172799@merida.es
SUMMARY:VII Velada Cofrade Vicente Gómez Flores
DESCRIPTION:La Cofradia del Stmo. Cristo de las Tres Caídas y Ntra. Sra. de la Misericordia de Mérida organiza el sábado 5 de octubre\, en el Parque de la Iglesia de Los Milagros\, la VII Velada Cofrade con diversas actuaciones de música y baile y la entrega del Premio Horquilla de Oro 2024. Además\, habrá degustación de paella y barra con precios populares\, actividades infantiles y una exposición de coches clásicos.
URL:https://merida.es/agenda/vii-velada-cofrade-vicente-gomez-flores/
LOCATION:Parque Iglesia de Los Milagros
CATEGORIES:Convivencia,Danza,Música,Semana Santa
ATTACH;FMTTYPE=image/jpeg:https://merida.es/wp-content/uploads/2024/10/2024-velada-cofrade-tres-caidas-peq.jpg
END:VEVENT
BEGIN:VEVENT
DTSTART;TZID=Europe/Madrid:20241005T170000
DTEND;TZID=Europe/Madrid:20241005T233000
DTSTAMP:20260421T065925
CREATED:20240927T153126Z
LAST-MODIFIED:20240927T153255Z
UID:134086-1728147600-1728171000@merida.es
SUMMARY:VI Acerock
DESCRIPTION:El sábado 5 de octubre se celebra\, en el Acueducto de Los Milagros\, la VI edición del festival de rock ACEROCK organizado por la asociación ACERO y que contará con las actuaciones de los grupos Beggars Blade\, LadyDog\, Aquelarre\, Sodengar\, Dünedain y Saratoga que cierra el Festival. Desde las 17:00 horas\, con acceso libre.
URL:https://merida.es/agenda/vi-acerock/
LOCATION:Acueducto de Los Milagros\, Av. de Via de la Plata s/n\, Mérida
CATEGORIES:Música
ATTACH;FMTTYPE=image/jpeg:https://merida.es/wp-content/uploads/2024/09/2024-acerock-peq.jpg
END:VEVENT
BEGIN:VEVENT
DTSTART;TZID=Europe/Madrid:20241005T200000
DTEND;TZID=Europe/Madrid:20241005T200000
DTSTAMP:20260421T065925
CREATED:20240919T114436Z
LAST-MODIFIED:20240920T064224Z
UID:133821-1728158400-1728158400@merida.es
SUMMARY:Concierto Patrona Guardia Civil
DESCRIPTION:El 5 de octubre\, a partir de las 20:00 horas\, el Teatro Romano acoge el concierto de la Patrona 2024 de la Guardia Civil a cargo de la Unidad de Música de la Guardia Civil con la participación de la Banda Sinfónica de la Guarda Nacional Republicana de Portugal\, el Conservatorio Profesional de Música Esteban Sánchez de Mérida y la Banda de Música de Mérida. Acceso libre y gratuito hasta completar aforo
URL:https://merida.es/agenda/concierto-patrona-guardia-civil/
LOCATION:Teatro Romano\, Plaza de Margarita Xirgú\, Mérida
CATEGORIES:Música
ATTACH;FMTTYPE=image/jpeg:https://merida.es/wp-content/uploads/2024/09/2024-concierto-guardia-civil-peq.jpg
END:VEVENT
BEGIN:VEVENT
DTSTART;VALUE=DATE:20241007
DTEND;VALUE=DATE:20241013
DTSTAMP:20260421T065925
CREATED:20240925T121859Z
LAST-MODIFIED:20241011T144217Z
UID:134018-1728259200-1728777599@merida.es
SUMMARY:CineBeat 2024. I Festival de Cine y Música de Mérida
DESCRIPTION:Del 9 al 12 de octubre se celebrará CineBeat 2024\, el I Festival de Cine y Música de Mérida\, que ha programado un total de 27 conciertos en nueve salas\, la proyección de cuatro películas de temática musical\, un certamen de videoclips a nivel regional\, un taller sobre Videoclips y tres entregas de premios.  \nEl jueves 10 de octubre se celebrará el concierto inaugural de El Buen Hijo\, a las 20:00 horas\, en el Templo Diana. El grueso de los conciertos se desarrollará en un periodo de dos días (11 y 12 de octubre) y en siete escenarios\, colocados en los bares céntricos de la capital extremeña (Tuétano\, Café Joplin\, Jazz\, Maruja Limón\, Barocco\, Malamadre y antiguo Bujío). Entre otros participarán Black Maracas\, Gameboyz\, Cría Cuervos\, The Buzzos\, Ladmiro\, Rack Roll and The Remayteds\, Jueves Negro o Hombre Tigre. \nLa primera acción del festival será una exposición artística sorpresa\, relacionada con la música\, que se expondrá desde el primer fin de semana de octubre\, en el Café Joplin. Seguidamente\, comenzarán las proyecciones de cine musical en el Teatro María Luisa\, comprendidas entre los días 7 y 8 de octubre\, en un doble horario (18:30 y 21:00 horas)\, y en una sola sesión por película.  \nAdemás\, se celebrará un certamen de videoclips\, que es lo que mejor combina cine y música; la esencia del festival. El plazo de inscripción ya está abierto\, hasta el próximo 2 de octubre\, y cualquiera puede enviar sus obras a través de la página web del festival. El miércoles 8 de octubre se proyectarán en el María Luisa los ocho finalistas\, elegidos por un jurado experto\, y el premio se entregará a las 21:00 horas en el Pórtico El Foro. \nDurante el festival\, se entregarán dos premios relacionados con la música; el primero\, al mejor concierto del CineBeat\, otorgado por una comisión compuesta por varios miembros que decidirán el vencedor; y el premio Eterna a toda una trayectoria\, que este año recae en Paco Mata\, guitarrista de Bucéfalo\, Interfectos o Albarregas\, entre otras muchas más agrupaciones. \nWeb oficial: https://cinebeat.es/
URL:https://merida.es/agenda/cinebeat-merida/
LOCATION:Varios establecimientos de la ciudad
CATEGORIES:Cine,Música
ATTACH;FMTTYPE=image/jpeg:https://merida.es/wp-content/uploads/2024/09/2024-cine-beat-peq.jpg
END:VEVENT
BEGIN:VEVENT
DTSTART;VALUE=DATE:20241010
DTEND;VALUE=DATE:20241012
DTSTAMP:20260421T065925
CREATED:20241007T121839Z
LAST-MODIFIED:20241007T122105Z
UID:134303-1728518400-1728691199@merida.es
SUMMARY:Feria Chica 2024
DESCRIPTION:Los próximos 10 y 11 de octubre\, Mérida vuelve a celebrar una nueva edición de su tradicional Feria Chica con un interesante programa de actividades lúdicas y culturales. \nEl jueves 10 de octubre\, a las 11:00 horas\, se celebrará el homenaje a Nicasio Vargas Silva en la rotonda de la Avenida de Portugal junto al SES y SEPAD. Ha presidido entidades como Nuevos Caminos o la Asociación Gitana Emerita Augusta. Por la tarde\, a las 19:30 horas\, el Teatro María Luisa acogerá el pregón a cargo del dramaturgo y director teatral Paco Suárez Montaño\, reconocido dentro y fuera de nuestras fronteras por su ingente labor teatral porque en los últimos 50 años ha puesto en escena cerca de medio centenar de espectáculos con un éxito notable. \nAl finalizar el pregón\, actuarán “Los húngaros” para\, por la noche\, celebrarse los tradicionales corros en la Plaza de España\, amenizados por Miguelito Montes e hijos.  \nYa el viernes 11 de octubre\, la Asociación de Mujeres Gitanas ofrecerá una garbanzada popular\, a las 14:00 horas\, en la Plaza de España. Por la tarde\, a las 19:00 horas\, el Teatro María Luisa acoge la proyección del cortometraje “Proud Roma” (Pueblo Gitano) a cargo de su director Pablo Vega. El corto refleja la riqueza y la diversidad de la nación romaní. La película desafía las narrativas históricas dominantes y los estereotipos negativos de los gitanos\, al tiempo que recuerda las numerosas contribuciones culturales e históricas que los gitanos han hecho a Europa a lo largo de los siglos. \nYa por último\, volverán los corros a la Plaza de España como fin de fiesta para la Feria Chica 2024.
URL:https://merida.es/agenda/feria-chica-2024/
LOCATION:Varios puntos de la ciudad\, Mérida
CATEGORIES:Charla-Conferencia,Cine,Convivencia,Música
ATTACH;FMTTYPE=image/jpeg:https://merida.es/wp-content/uploads/2024/10/2024-feria-chica-peq.jpg
END:VEVENT
BEGIN:VEVENT
DTSTART;TZID=Europe/Madrid:20241012T103000
DTEND;TZID=Europe/Madrid:20241012T103000
DTSTAMP:20260421T065925
CREATED:20241009T073842Z
LAST-MODIFIED:20241009T145659Z
UID:134356-1728729000-1728729000@merida.es
SUMMARY:Concierto 'Música desde mi ventana' de la Joven Orquesta Ciudad de Mérida (CANCELADO)
DESCRIPTION:Por séptimo año\, la Joven Orquesta Ciudad de Mérida (JOCME)\, en colaboración con la Asociación Española contra el Cáncer\, ofrecerá un concierto a todos los pacientes\, familiares y personal sanitario y trabajadores del hospital de Mérida como regalo y muestra de agradecimiento hacia todos ellos por la labor que realizan cada día. Será el jueves 12 de octubre\, a partir de las 12:00 horas\, en la puerta principal del Hospital de Mérida. Antes\, desde las 10:30 horas\, actividades en familia. \nDebido a las malas condiciones meteorológicas previstas\, el concierto se ha cancelado
URL:https://merida.es/agenda/musica-desde-mi-ventana-2024/
LOCATION:Hospital de Mérida\, Mérida
CATEGORIES:Música
ATTACH;FMTTYPE=image/jpeg:https://merida.es/wp-content/uploads/2024/10/2024-musica-desde-mi-ventana-peq.jpg
END:VEVENT
BEGIN:VEVENT
DTSTART;TZID=Europe/Madrid:20241018T200000
DTEND;TZID=Europe/Madrid:20241018T200000
DTSTAMP:20260421T065925
CREATED:20241016T215845Z
LAST-MODIFIED:20241016T215845Z
UID:134607-1729281600-1729281600@merida.es
SUMMARY:Concierto de Carla Guillén (Viola) y Daniel Villarroya (Piano)
DESCRIPTION:El ciclo de conciertos correspondiente a la nueva temporada 2024-2025 de la Sociedad Filarmónica Esteban Sánchez/Juventudes Musicales de Mérida dará comienzo este próximo viernes\, día 18 de octubre a las 20:00 horas\, en el Auditorio del Centro Cultural Santo Domingo de la Fundación CB con un concierto de viola y piano a cargo\, respectivamente\, de Carla Guillén y Daniel Villarroya\, quienes interpretarán obras de Isaac Albéniz\, Manuel De Falla\, Franz Schubert\, Robert Schumann y del propio Daniel Villarroya. Entrada libre hasta completar aforo
URL:https://merida.es/agenda/concierto-de-carla-guillen-viola-y-daniel-villarroya-piano/
LOCATION:Centro Cultural Santo Domingo Fundación CB\, Plaza de Santo Domingo\, s/n\, Mérida
CATEGORIES:Música
ATTACH;FMTTYPE=image/jpeg:https://merida.es/wp-content/uploads/2024/10/2024-concierto-filarmonica-viola-piano-peq.jpg
END:VEVENT
BEGIN:VEVENT
DTSTART;TZID=Europe/Madrid:20241019T190000
DTEND;TZID=Europe/Madrid:20241019T190000
DTSTAMP:20260421T065925
CREATED:20241009T103217Z
LAST-MODIFIED:20241009T103217Z
UID:134368-1729364400-1729364400@merida.es
SUMMARY:III Certamen Coral Regional Fecoex 2024 (Modalidad Zarzuela)
DESCRIPTION:El 19 de octubre\, a partir de las 19:00 horas\, el Templo de Diana acoge el III Certamen Coral Regional Fecoex 2024 (Modalidad Zarzuela) con la participación de la Coral Augusta Emérita\, el Coro Ad Libitum\, el Coro polifónico Voces Vivas de Campanario\, Coro Silentivm de Zafra y el Orfeón Cacereño. Organiza la Federación Extremeña de Corales (FECOEX)
URL:https://merida.es/agenda/iii-certamen-coral-regional-fecoex-2024-modalidad-zarzuela/
LOCATION:Templo de Diana\, Calle Romero Leal\, s/n\, Mérida
CATEGORIES:Música
ATTACH;FMTTYPE=image/jpeg:https://merida.es/wp-content/uploads/2024/10/2024-certamen-coral-fecoex-peq.jpg
END:VEVENT
BEGIN:VEVENT
DTSTART;TZID=Europe/Madrid:20241020T200000
DTEND;TZID=Europe/Madrid:20241020T200000
DTSTAMP:20260421T065925
CREATED:20241015T065051Z
LAST-MODIFIED:20241015T065209Z
UID:134537-1729454400-1729454400@merida.es
SUMMARY:Escena contemporánea: "Ensemble Teatro del Arte Sonoro"
DESCRIPTION:Ensemble especializado en la difusión de la música del s. XX-XXI\, ha desarrollando una intensa actividad de investigación y promoción de la creación contemporánea. \nEn este espacio de creación y experimentación compositores\, intérpretes instrumentales\, directores de escena y artistas se retroalimentan en una\nbúsqueda de hilos de comunicación. En sus propuestas pretenden reflexionar sobre el significado de la obra artística\, la toma de conciencia de la arquitectura sonora de las obras y su transmisión acústica en el espacio\, y como en ese espacio vacío\, al que volvió Peter Brooks\, la percepción puede alterarse. \nDirección artística: Rebeca Santiago\nComponenetes: Rebeca Santiago (guitarra y voz)\, Vicente Contador (saxofón)\, Eduardo Moreno (piano)\, Bárbara Gálvez (flauta)\, Sergio Sánchez (clarinete)\, Inma Soriano(violoncello)\, Víctor Flores (violín) e Iván Marín (guitarra eléctrica).\nArtistas colaboradores: Isabel Pérez del Pulgar (videocreación)\, Adrián Herrera Rubias (danza)\, Alwin van del Linde (electrónica). \nEntrada libre hasta completar aforo
URL:https://merida.es/agenda/escena-contemporanea-ensemble-teatro-del-arte-sonoro/
LOCATION:Teatro María Luisa\, Calle Camilo José Cela\, 9\, Mérida\, España
CATEGORIES:Danza,Música
ATTACH;FMTTYPE=image/jpeg:https://merida.es/wp-content/uploads/2024/10/2024-teatro-del-arte-sonoro-peq.jpg
END:VEVENT
BEGIN:VEVENT
DTSTART;VALUE=DATE:20241021
DTEND;VALUE=DATE:20241031
DTSTAMP:20260421T065925
CREATED:20241022T065352Z
LAST-MODIFIED:20241024T081416Z
UID:134761-1729468800-1730332799@merida.es
SUMMARY:Día de las Bibliotecas
DESCRIPTION:Del 21 al 30 de octubre\, la Biblioteca Municipal Juan Pablo Forner celebra el Día de las Bibliotecas con numerosas actividades para todos los públicos: \n21\, 22 y 23 de octubre\nDe 17:00 a 20:00h. Jornadas mujeres y cultura (Programación aparte). Rotonda Central Centro Cultural Alcazaba \nDía 22 de octubre\n12:00h. De Lázaro a Lazarillo conferencia dramatizada para escolares de secundaria en la que se muestran facsímiles de la Biblioteca de Barcarrota. Rotonda Central Centro Cultural Alcazaba \n23 de octubre\n20:00 h. Concierto de Asina Önde con Paloma Pascua y Alberto Rubiork. Música de raíz extremeña y letras cargadas de intensidad\, compromiso social y sentimientos. Rotonda Central Centro Cultural Alcazaba \n24 de octubre\n12:00h. Actividad con escolares de 3º de primaria Una Biblioteca con corazón Cuentacuentos a cargo de la maestra Yanira González González. Templo de Diana \n19:30h. Conferencia: Las bibliotecas de mi vida por parte del escritor EUGENIO FUENTES que también nos hablará de su último libro “Los bajos fondos del corazón”. Sala Dulce Chacón Biblioteca \nDía 25 de octubre\n12:00 h. De Lázaro a Lazarillo conferencia dramatizada para escolares de secundaria en la que se muestran facsímiles de la Biblioteca de Barcarrota. Centro Cultural Ntra. Sra. de la Antigua \n30 de octubre\n20:30 h. Don Juan Tenorio. Lectura dramatizada. Centro cultural de Nueva Ciudad. Entrada libre hasta completar el aforo.\n  
URL:https://merida.es/agenda/dia-de-las-bibliotecas-2024/
LOCATION:Varios puntos de la ciudad\, Mérida
CATEGORIES:Charla-Conferencia,Infantil,Literatura,Música
ATTACH;FMTTYPE=image/jpeg:https://merida.es/wp-content/uploads/2024/10/2024-dia-bibliotecas-peq.jpg
END:VEVENT
BEGIN:VEVENT
DTSTART;VALUE=DATE:20241025
DTEND;VALUE=DATE:20241124
DTSTAMP:20260421T065925
CREATED:20240620T074208Z
LAST-MODIFIED:20241015T225708Z
UID:131856-1729814400-1732406399@merida.es
SUMMARY:III Festival Flamenco Mérida 2024
DESCRIPTION:Mérida acogerá la III Festival Flamenco Mérida Guitarra Española\, del 25 de octubre al 23 de noviembre de 2024\, para celebrar no solo el arte flamenco\, sino también para reforzar la capital extremeña como destino turístico y cultural de primer nivel. \nLa programación comenzará con la apertura el 25 de octubre donde se celebrará un concierto exclusivo de la cantaora Esperanza Fernández que contará con la participación de reconocidos artistas como Farruquito\, Jesús Méndez\, Miguel A. Cortés\, Rosario La Tremendita y Kiki Morente. Será el único de los conciertos que se lleve a cabo en el Palacio de Congresos de Mérida\, a partir de las 21:00 horas. \nEl 8 de noviembre\, el Teatro María Luisa será el escenario del espectáculo «Capitán de mis sueños»\, presentado por la Familia Camarón\, a las 21:00 horas. \nAl día siguiente\, el 9 de noviembre\, María Terremoto ofrecerá su actuación también en el Teatro María Luisa a las 21:00 horas\, prometiendo una velada llena de emociones y puro flamenco. \nEl 16 de noviembre\, Joni Jiménez presentará su espectáculo «Abrazados\, sueño y tiempo»\, acompañado por destacados artistas como David de la Jacoba\, Montse Cortés\, Antonio Losada y Kelian Jiménez. Este evento se celebrará en el Teatro María Luisa a las 21:00 horas\, ofreciendo una experiencia única. \nEl broche final será el 23 de noviembre con el cierre a cargo de Dorantes\, quien presentará su espectáculo «Un flamenco al piano» en el Teatro María Luisa a las 21:00 horas. \nEsta serie de espectáculos promete llevar al público a un viaje musical y emocional a través del arte flamenco\, consolidando una vez más el prestigio del festival. \nFinalmente\, este año\, el festival ha querido rendir homenaje a José Monge Cruz\, Camarón de la Isla\, quien recibe el premio Flamenco Universal 2024 a título póstumo. \nWeb oficial y Venta de Entradas: http://www.flamencouniversalmerida.es/
URL:https://merida.es/agenda/iii-festival-flamenco-merida-2024/
LOCATION:Varios puntos de la ciudad\, Mérida
CATEGORIES:Música
ATTACH;FMTTYPE=image/jpeg:https://merida.es/wp-content/uploads/2024/06/2024-festival-flamenco-merida-peq.jpg
END:VEVENT
BEGIN:VEVENT
DTSTART;TZID=Europe/Madrid:20241025T203000
DTEND;TZID=Europe/Madrid:20241025T203000
DTSTAMP:20260421T065925
CREATED:20241017T112221Z
LAST-MODIFIED:20241021T104028Z
UID:134638-1729888200-1729888200@merida.es
SUMMARY:'Los Nachos' en concierto
DESCRIPTION:VIERNES 25 de OCTUBRE. 20:30 horas \nUn viaje musical lleno de energía y pasión. Cuatro músicos extremeños con una dilatada trayectoria artística y liderados por una dulce voz femenina\, te transportarán con sus propias canciones y algún giño a clásicos del pop-rock español. Guitarras muy presentes\, una base rítmica sólida y letras que buscan conectar con el corazón; hablan de la vida\, el amor\, los sueños\, el medio ambiente\, de valores\, la búsqueda de identidad en nuestra sociedad actual. Con una formación clásica en riguroso directo y un repertorio que combina lo mejor de sus composiciones originales con himnos que todos conocemos\, se creará un ambiente inolvidable. Un espectáculo lleno de sorpresas y una conexión única con el público. \nRaquel Carrasco (voz)\, Antonio Javier Calero (guitarra y voces)\, Diego Sánchez (bajo y voces)\, Miguel Ángel Collado (batería) \nPara todos los públicos. Entrada: 5€
URL:https://merida.es/agenda/los-nachos-en-concierto/
LOCATION:Sala Trajano\, Calle Muza\, 50\, Mérida
CATEGORIES:Música
ATTACH;FMTTYPE=image/jpeg:https://merida.es/wp-content/uploads/2024/10/2024-los-nachos-peq.jpg
END:VEVENT
BEGIN:VEVENT
DTSTART;TZID=Europe/Madrid:20241025T210000
DTEND;TZID=Europe/Madrid:20241025T210000
DTSTAMP:20260421T065925
CREATED:20240620T095524Z
LAST-MODIFIED:20241015T225153Z
UID:131868-1729890000-1729890000@merida.es
SUMMARY:III Festival Flamenco Mérida: "Esperanza Fernández (40 aniversario)"
DESCRIPTION:Esperanza Fernández: la voz del flamenco cumple 40 años dedicada en cuerpo y alma a la música. Este nuevo espectáculo recopila una carrera brillante de una de las mejores artistas contemporáneas del flamenco. Con un formato muy escénico y rompedor\, Esperanza Fernández muestra con una amplitud de mirada\, pero acompañada siempre de su sello personal y su lado más íntimo\, una imagen renovada y actual enfocada al futuro prometedor que está por llegar. \nAcompañada de grandes artistas del panorama musical como Farruquito\, Jesús Méndez\, Miguel A. Cortés\, Rosario La Tremendita y Kiki Morente\, versionará temas que han marcado su carrera además de nuevos temas creados para el nuevo disco y generando un show vibrante con muchísima esencia. Esperanza celebra el gran éxito de su carrera en el lugar que le ha visto crecer: un escenario rodeado de artistas. \nMás información y venta de entradas: https://flamencouniversalmerida.es/
URL:https://merida.es/agenda/iii-festival-flamenco-merida-esperanza-fernandez/
LOCATION:Palacio de Congresos\, Avda. del Rio s/n\, Mérida
CATEGORIES:Música
ATTACH;FMTTYPE=image/jpeg:https://merida.es/wp-content/uploads/2024/06/2024-esperanza-fernandez-peq2.jpg
END:VEVENT
END:VCALENDAR