﻿BEGIN:VCALENDAR
VERSION:2.0
PRODID:-//Ayuntamiento de Mérida - ECPv6.15.17.1//NONSGML v1.0//EN
CALSCALE:GREGORIAN
METHOD:PUBLISH
X-ORIGINAL-URL:https://merida.es
X-WR-CALDESC:Eventos para Ayuntamiento de Mérida
REFRESH-INTERVAL;VALUE=DURATION:PT1H
X-Robots-Tag:noindex
X-PUBLISHED-TTL:PT1H
BEGIN:VTIMEZONE
TZID:Europe/Madrid
BEGIN:DAYLIGHT
TZOFFSETFROM:+0100
TZOFFSETTO:+0200
TZNAME:CEST
DTSTART:20140330T010000
END:DAYLIGHT
BEGIN:STANDARD
TZOFFSETFROM:+0200
TZOFFSETTO:+0100
TZNAME:CET
DTSTART:20141026T010000
END:STANDARD
BEGIN:DAYLIGHT
TZOFFSETFROM:+0100
TZOFFSETTO:+0200
TZNAME:CEST
DTSTART:20150329T010000
END:DAYLIGHT
BEGIN:STANDARD
TZOFFSETFROM:+0200
TZOFFSETTO:+0100
TZNAME:CET
DTSTART:20151025T010000
END:STANDARD
BEGIN:DAYLIGHT
TZOFFSETFROM:+0100
TZOFFSETTO:+0200
TZNAME:CEST
DTSTART:20160327T010000
END:DAYLIGHT
BEGIN:STANDARD
TZOFFSETFROM:+0200
TZOFFSETTO:+0100
TZNAME:CET
DTSTART:20161030T010000
END:STANDARD
END:VTIMEZONE
BEGIN:VEVENT
DTSTART;TZID=Europe/Madrid:20150306T200000
DTEND;TZID=Europe/Madrid:20150306T200000
DTSTAMP:20260422T081407
CREATED:20150303T063859Z
LAST-MODIFIED:20150303T063859Z
UID:29241-1425672000-1425672000@merida.es
SUMMARY:Concierto OSCAM
DESCRIPTION:El próximo viernes\, 6 de marzo\, La Orquesta Sinfónica del Conservatorio Municipal Esteban Sánchez\, junto al Conservatorio Oficial de Almendralejo\, la orquesta Sinfónica O.S.C.A.M.\, dirigida por el profesor D. Alfonso Ramos Rodríguez\, ofrecerá el primero de los seis conciertos previstos en Extremadura.\nEl concierto será en el Palacio de Congresos de Mérida a las 20 h. y nos ofrecerán un interesante y variado repertorio.\nLas entradas para este concierto pueden retirarse en la taquilla del Palacio de Congresos el mismo día del concierto a partir de las 18:30 h. El precio es de sólo 3 euros.
URL:https://merida.es/agenda/concierto-oscam/
LOCATION:Palacio de Congresos\, Avda. del Rio s/n\, Mérida
CATEGORIES:Música
ATTACH;FMTTYPE=image/jpeg:https://merida.es/wp-content/uploads/2015/03/concierto-oscam.jpg
END:VEVENT
END:VCALENDAR