﻿BEGIN:VCALENDAR
VERSION:2.0
PRODID:-//Ayuntamiento de Mérida - ECPv6.15.17.1//NONSGML v1.0//EN
CALSCALE:GREGORIAN
METHOD:PUBLISH
X-ORIGINAL-URL:https://merida.es
X-WR-CALDESC:Eventos para Ayuntamiento de Mérida
REFRESH-INTERVAL;VALUE=DURATION:PT1H
X-Robots-Tag:noindex
X-PUBLISHED-TTL:PT1H
BEGIN:VTIMEZONE
TZID:Europe/Madrid
BEGIN:DAYLIGHT
TZOFFSETFROM:+0100
TZOFFSETTO:+0200
TZNAME:CEST
DTSTART:20140330T010000
END:DAYLIGHT
BEGIN:STANDARD
TZOFFSETFROM:+0200
TZOFFSETTO:+0100
TZNAME:CET
DTSTART:20141026T010000
END:STANDARD
BEGIN:DAYLIGHT
TZOFFSETFROM:+0100
TZOFFSETTO:+0200
TZNAME:CEST
DTSTART:20150329T010000
END:DAYLIGHT
BEGIN:STANDARD
TZOFFSETFROM:+0200
TZOFFSETTO:+0100
TZNAME:CET
DTSTART:20151025T010000
END:STANDARD
BEGIN:DAYLIGHT
TZOFFSETFROM:+0100
TZOFFSETTO:+0200
TZNAME:CEST
DTSTART:20160327T010000
END:DAYLIGHT
BEGIN:STANDARD
TZOFFSETFROM:+0200
TZOFFSETTO:+0100
TZNAME:CET
DTSTART:20161030T010000
END:STANDARD
END:VTIMEZONE
BEGIN:VEVENT
DTSTART;TZID=Europe/Madrid:20150313T203000
DTEND;TZID=Europe/Madrid:20150313T203000
DTSTAMP:20260422T100027
CREATED:20150311T065652Z
LAST-MODIFIED:20150311T065652Z
UID:29487-1426278600-1426278600@merida.es
SUMMARY:Concierto de piano de Angela Pagán
DESCRIPTION:Juventudes Musicales de Mérida trae el viernes 13 de marzo\, en el Centro Cultural de Caja Badajoz a partir de las 20:30 h.\, a la joven artista Angela Pagán Benito que ofrecerá un concierto de piano interpretando clásicos de Beethoven\, Chopin y Schumann.\nAngela comienza sus estudios artísticos a la edad de cinco años en el Conservatorio Profesional de Música y Danza de Villena (Alicante). Finaliza el Grado Profesional de Ballet Clásico y el Grado Profesional de Piano con el profesor José Fernando Sirera Valero\, obteniendo en ambos las máximas calificaciones. Obtiene distinciones como primeros premios en los concursos «Jóvenes Artistas» de Caudete (Albacete) o «Jóvenes Solistas» de Villamalea (Albacete)\, segundo premio en el concurso «Jóvenes Solistas» de Quintanar del Rey (Cuenca) y beca DKV Seguros.\nHa sido alumna de Nino Kereselidze en el Centro Superior de Música «Katarina Gurska». Así mismo\, ha recibido masterclasses de reconocidos pianistas como Josep Colom\, David  Kuyken\, Jura Margulis\, Dina Parakhina o Andrew Zolinsky\, entre otros. Ha actuado en salas como el Teatro Ruperto Chapí de Villena o el Auditorio Conde Duque y el Palacio de Cibeles de  Madrid.\nRecientemente ha sido admitida para estudiar el máster de interpretación en «Trinity Laban Conservatoire of Music and Dance» de Londres. Actualmente estudia Grado Superior bajo la tutela de Ángel Sanzo en el Conservatorio Superior de Música «Bonifacio Gil» de Badajoz.
URL:https://merida.es/agenda/concierto-de-piano-de-angela-pagan/
LOCATION:Centro Cultural Santo Domingo Fundación CB\, Plaza de Santo Domingo\, s/n\, Mérida
CATEGORIES:Música
ATTACH;FMTTYPE=image/jpeg:https://merida.es/wp-content/uploads/2015/03/angela-pagan.jpg
END:VEVENT
BEGIN:VEVENT
DTSTART;TZID=Europe/Madrid:20150313T210000
DTEND;TZID=Europe/Madrid:20150313T210000
DTSTAMP:20260422T100027
CREATED:20150303T165558Z
LAST-MODIFIED:20150303T165558Z
UID:29269-1426280400-1426280400@merida.es
SUMMARY:Concierto de Marchas Procesionales
DESCRIPTION:El viernes 13 de marzo\, la Escuela Municipal de Música de Los Santos de Maimona ofrecerá un concierto de marchas procesionales en el Centro Cultural Alcazaba. El director de la escuela es José María Arrabal.\nEl precio de la entrada es de 5 euros y los beneficios irán destinados al Comedor Social Beato Cristóbal de Santa Catalina.\nPresenta la gala Lucio Poves. Organiza Radio Fórum.
URL:https://merida.es/agenda/concierto-de-marchas-procesionales/
LOCATION:Centro Cultural Alcazaba\, Calle John Lennon\, 5\, Mérida
CATEGORIES:Música
ATTACH;FMTTYPE=image/jpeg:https://merida.es/wp-content/uploads/2015/03/concierto-escuela-santosmaimona-peq.jpg
END:VEVENT
END:VCALENDAR