﻿BEGIN:VCALENDAR
VERSION:2.0
PRODID:-//Ayuntamiento de Mérida - ECPv6.15.17.1//NONSGML v1.0//EN
CALSCALE:GREGORIAN
METHOD:PUBLISH
X-ORIGINAL-URL:https://merida.es
X-WR-CALDESC:Eventos para Ayuntamiento de Mérida
REFRESH-INTERVAL;VALUE=DURATION:PT1H
X-Robots-Tag:noindex
X-PUBLISHED-TTL:PT1H
BEGIN:VTIMEZONE
TZID:Europe/Madrid
BEGIN:DAYLIGHT
TZOFFSETFROM:+0100
TZOFFSETTO:+0200
TZNAME:CEST
DTSTART:20140330T010000
END:DAYLIGHT
BEGIN:STANDARD
TZOFFSETFROM:+0200
TZOFFSETTO:+0100
TZNAME:CET
DTSTART:20141026T010000
END:STANDARD
BEGIN:DAYLIGHT
TZOFFSETFROM:+0100
TZOFFSETTO:+0200
TZNAME:CEST
DTSTART:20150329T010000
END:DAYLIGHT
BEGIN:STANDARD
TZOFFSETFROM:+0200
TZOFFSETTO:+0100
TZNAME:CET
DTSTART:20151025T010000
END:STANDARD
BEGIN:DAYLIGHT
TZOFFSETFROM:+0100
TZOFFSETTO:+0200
TZNAME:CEST
DTSTART:20160327T010000
END:DAYLIGHT
BEGIN:STANDARD
TZOFFSETFROM:+0200
TZOFFSETTO:+0100
TZNAME:CET
DTSTART:20161030T010000
END:STANDARD
END:VTIMEZONE
BEGIN:VEVENT
DTSTART;VALUE=DATE:20150323
DTEND;VALUE=DATE:20150328
DTSTAMP:20260421T113934
CREATED:20150315T111818Z
LAST-MODIFIED:20230410T235637Z
UID:29624-1427068800-1427500799@merida.es
SUMMARY:Semana Blanca Conservatorio
DESCRIPTION:Del 23 al 27 de marzo tendrá lugar una nueva edición de la Semana Blanca que organiza cada año el Conservatorio Municipal Esteban Sánchez llegando este año a la 15ª edición.\nEntre las actividades se incluyen diferentes talleres de música y ponencias dirigidos a los alumnos del Conservatorio\, y también a los padres\, concluyendo cada día con una concierto para todos los públicos\, a las 20 horas en el Centro Cultural Alcazaba: Tarde de Poetas\, Tarde de Cámara\, Tarde de Coros y Tarde de Banda.\nLa Semana Blanca concluye con una convivencia en la tarde del viernes 27 de marzo.\nLUNES\, 23 DE MARZO\n16:00 h.: Taller: “Construcción de instrumentos a partir de materiales reciclados”. Destinatarios: alumnos de EE.EE\n16:00 h.: Actividad: “Pinta la Música”.\n18:00 h.: Taller: “Música\, Movimiento y Meditación” Destinatarios: alumnos de EE.EE. Ponentes: Diana Vara y Beatriz Caballero\n18:00 h.: Taller: “Introducción al Jazz 1”. Destinatarios: Alumnos de EE.PP.\n20:00 h.: TARDE DE POETAS. Los alumnos pondrán música a los poemas de Pilar Fernández\, con ilustraciones de Irene Romero. Centro Cultural Alcazaba\nMARTES\, 24 DE MARZO\n16:00 h.: Cine y Música en el Conservatorio : “Hércules”\n16:00 h.: Jornadas de Orientación Educativa y Profesional para padres y alumnos. Destinatarios: alumnos y padres\nde EE.EE. Ponente: Elisa V. Iruzubieta\n17:00 h.: Ponencia: “Optimización de los recursos biomecánicos en la técnica pianística”. Por Susana Sánchez. Auditorio de Caja Badajoz.\n18:00 h.: ACTIVIDADES DE LOS DEPARTAMENTOS:\nDep. Viento: “Mantenimiento y pequeñas reparaciones de instrumentos de viento”. Ponente: Alfonso García Mora\nDep. Cuerda: “ITV y puesta a punto de los instrumentos de cuerda”.\nCHARLA: “Evolución organológica de la guitarra”. Ponente: David Escribano\n20:00 h.: TARDE DE CÁMARA. Centro Cultural Alcazaba\nMIÉRCOLES\, 25 DE MARZO\n16:00 h.: Cine y música en el Conservatorio: “Frozen”\n16:00 h.: Jornadas de Orientación Educativa y Profesional para padres y alumnos. Destinatarios: alumnos y padres de EE.PP. Ponente: Elisa V. Iruzubieta\n18:00 h.: JORNADA DE PUERTAS ABIERTAS\n20:00 h.: TARDE DE COROS. Centro Cultural Alcazaba\nJUEVES\, 26 DE MARZO\n16:00 h.: Taller: “Música\, Movimiento y Meditación”- Destinatarios: alumnos de EE.EE. Ponentes: Diana Vara y Beatriz Caballero\n16:00 h.: Taller: “Danza Histórica”\n18:00 h.: Taller: “Construcción de instrumentos a partir de materiales reciclados”. Destinatarios: Alumnos de EE.EE.\n18:00 h.: Taller: “Introducción al Jazz 2”. Destinatarios: Alumnos de EE.PP\n20:00 h.: TARDE DE BANDA. Banda de Música de Enseñanza Profesional del Conservatorio bajo la dirección de Antonio Casilda. Concierto a beneficio de AOEX (Asociación Oncólogica de Extremadura). Donativo de 3 euros. Centro Cultural Alcazaba\nVIERNES\, 27 DE MARZO\n16:00 h.: TARDE EN EL RÍO en la que se ofrecerá una merienda saludable a los alumnos y contará con diversas actividades y una gimkana.
URL:https://merida.es/agenda/semana-blanca-conservatorio/
LOCATION:Varios puntos de la ciudad\, Mérida
CATEGORIES:Música
ATTACH;FMTTYPE=image/jpeg:https://merida.es/wp-content/uploads/2015/03/Semana-Blanca-conservatorio2015-peq1.jpg
END:VEVENT
END:VCALENDAR