﻿BEGIN:VCALENDAR
VERSION:2.0
PRODID:-//Ayuntamiento de Mérida - ECPv6.15.17.1//NONSGML v1.0//EN
CALSCALE:GREGORIAN
METHOD:PUBLISH
X-WR-CALNAME:Ayuntamiento de Mérida
X-ORIGINAL-URL:https://merida.es
X-WR-CALDESC:Eventos para Ayuntamiento de Mérida
REFRESH-INTERVAL;VALUE=DURATION:PT1H
X-Robots-Tag:noindex
X-PUBLISHED-TTL:PT1H
BEGIN:VTIMEZONE
TZID:Europe/Madrid
BEGIN:DAYLIGHT
TZOFFSETFROM:+0100
TZOFFSETTO:+0200
TZNAME:CEST
DTSTART:20140330T010000
END:DAYLIGHT
BEGIN:STANDARD
TZOFFSETFROM:+0200
TZOFFSETTO:+0100
TZNAME:CET
DTSTART:20141026T010000
END:STANDARD
BEGIN:DAYLIGHT
TZOFFSETFROM:+0100
TZOFFSETTO:+0200
TZNAME:CEST
DTSTART:20150329T010000
END:DAYLIGHT
BEGIN:STANDARD
TZOFFSETFROM:+0200
TZOFFSETTO:+0100
TZNAME:CET
DTSTART:20151025T010000
END:STANDARD
BEGIN:DAYLIGHT
TZOFFSETFROM:+0100
TZOFFSETTO:+0200
TZNAME:CEST
DTSTART:20160327T010000
END:DAYLIGHT
BEGIN:STANDARD
TZOFFSETFROM:+0200
TZOFFSETTO:+0100
TZNAME:CET
DTSTART:20161030T010000
END:STANDARD
END:VTIMEZONE
BEGIN:VEVENT
DTSTART;TZID=Europe/Madrid:20150418T220000
DTEND;TZID=Europe/Madrid:20150418T220000
DTSTAMP:20260420T141035
CREATED:20150331T075215Z
LAST-MODIFIED:20150331T075215Z
UID:30054-1429394400-1429394400@merida.es
SUMMARY:Fiesta de presentación Contempopranea 2015
DESCRIPTION:Mérida acogerá uno de los conciertos del Festival Contempopránea que se celebra habitualmente en sus dos sedes de Alburquerque y Badajoz\, con una fiesta de presentación\, el 18 de abril\, a las 22:00 horas\, en el Parque del Acueducto de Los Milagros\, donde actuará Gecko Turner.\nGecko Turner\, el creador del estilo afromeño\, que bebe de las fuentes del soul\, el jazz y el blues\, actuará junto con diez músicos sobre el escenario y aprovechará para presentar su nuevo trabajo discográfico\, que saldrá el 27 de abril.\nTurner quiso agradecer\, “el privilegio que supone la oportunidad de tocar en un sitio tan maravilloso como es el jardín junto al Acueducto de Los Milagros: “La idea surgió con motivo del rodaje que hicimos con motivo del Video clip de la campaña del gobierno de Extremadura Extremely Good. El tema que compuse gustó tanto que acabó dando nombre a la propia campaña”\, comentó el artista.\nAdemás de Gecko Turner\, actuarán también en Mérida Gameboyz DJs\, grupo compuesto por Luis Vallespín\, Manuel Madeiro y Carlos Franco\, naturales de Badajoz\, con más de una década de experiencia ligada a la música electrónica.
URL:https://merida.es/agenda/fiesta-de-presentacion-contempopranea-2015/
LOCATION:Parque del Acueducto de Los Milagros\, Avenida Vía de la Plata\, s/n\, Mérida
CATEGORIES:Música
ATTACH;FMTTYPE=image/jpeg:https://merida.es/wp-content/uploads/2015/03/presentacion-comptepopranea-peq.jpg
END:VEVENT
END:VCALENDAR