﻿BEGIN:VCALENDAR
VERSION:2.0
PRODID:-//Ayuntamiento de Mérida - ECPv6.15.17.1//NONSGML v1.0//EN
CALSCALE:GREGORIAN
METHOD:PUBLISH
X-ORIGINAL-URL:https://merida.es
X-WR-CALDESC:Eventos para Ayuntamiento de Mérida
REFRESH-INTERVAL;VALUE=DURATION:PT1H
X-Robots-Tag:noindex
X-PUBLISHED-TTL:PT1H
BEGIN:VTIMEZONE
TZID:Europe/Madrid
BEGIN:DAYLIGHT
TZOFFSETFROM:+0100
TZOFFSETTO:+0200
TZNAME:CEST
DTSTART:20140330T010000
END:DAYLIGHT
BEGIN:STANDARD
TZOFFSETFROM:+0200
TZOFFSETTO:+0100
TZNAME:CET
DTSTART:20141026T010000
END:STANDARD
BEGIN:DAYLIGHT
TZOFFSETFROM:+0100
TZOFFSETTO:+0200
TZNAME:CEST
DTSTART:20150329T010000
END:DAYLIGHT
BEGIN:STANDARD
TZOFFSETFROM:+0200
TZOFFSETTO:+0100
TZNAME:CET
DTSTART:20151025T010000
END:STANDARD
BEGIN:DAYLIGHT
TZOFFSETFROM:+0100
TZOFFSETTO:+0200
TZNAME:CEST
DTSTART:20160327T010000
END:DAYLIGHT
BEGIN:STANDARD
TZOFFSETFROM:+0200
TZOFFSETTO:+0100
TZNAME:CET
DTSTART:20161030T010000
END:STANDARD
END:VTIMEZONE
BEGIN:VEVENT
DTSTART;TZID=Europe/Madrid:20150508T200000
DTEND;TZID=Europe/Madrid:20150508T200000
DTSTAMP:20260419T232103
CREATED:20150504T111510Z
LAST-MODIFIED:20150504T111510Z
UID:30705-1431115200-1431115200@merida.es
SUMMARY:II Ciclo Música de Cámara Ciudades Patrimonio
DESCRIPTION:El próximo viernes se celebrará en Mérida un concierto dentro del Segundo Ciclo “Música de Cámara en las Ciudades Patrimonio de la Humanidad de España”\, organizado por el Grupo de Ciudades Patrimonio de la Humanidad de España\, en colaboración con la Fundación Albéniz y la Escuela Superior de Música Reina Sofía.\nEn este ciclo se celebrarán 15 conciertos de música de cámara (uno en cada una de las Ciudades Patrimonio) interpretados por cuartetos de cuerda\, quintetos de viento\, grupos mixtos y solistas vocales e instrumentales de la Escuela Reina Sofía y del Instituto Internacional de Música de Cámara de Madrid.\nSe trata de tocar en sitios singulares de cada una de las ciudades patrimonio\, en este caso se ha optado en Mérida por el nuevo museo de El Costurero cuyo patio se llenará de música y vida para esta magnífica ocasión.\nEn el caso de Mérida\, el programa correrá a cargo del violonchelista leonés\, David Martín y el pianista canario\, Miguel Ángel Ortega\, que interpretarán obras de Dvorak\, Brahms\, Prokofiev y Shostakovich. Será a partir de las 20 horas con entrada libre hasta completar aforo.
URL:https://merida.es/agenda/ii-ciclo-musica-de-camara-ciudades-patrimonio/
LOCATION:El Costurero. Museo de Mérida\, Calle Almendralejo\, s/n\, Mérida
CATEGORIES:Música
ATTACH;FMTTYPE=image/jpeg:https://merida.es/wp-content/uploads/2015/05/concierto-musica-de-camara1.jpg
END:VEVENT
END:VCALENDAR