﻿BEGIN:VCALENDAR
VERSION:2.0
PRODID:-//Ayuntamiento de Mérida - ECPv6.15.17.1//NONSGML v1.0//EN
CALSCALE:GREGORIAN
METHOD:PUBLISH
X-WR-CALNAME:Ayuntamiento de Mérida
X-ORIGINAL-URL:https://merida.es
X-WR-CALDESC:Eventos para Ayuntamiento de Mérida
REFRESH-INTERVAL;VALUE=DURATION:PT1H
X-Robots-Tag:noindex
X-PUBLISHED-TTL:PT1H
BEGIN:VTIMEZONE
TZID:Europe/Madrid
BEGIN:DAYLIGHT
TZOFFSETFROM:+0100
TZOFFSETTO:+0200
TZNAME:CEST
DTSTART:20140330T010000
END:DAYLIGHT
BEGIN:STANDARD
TZOFFSETFROM:+0200
TZOFFSETTO:+0100
TZNAME:CET
DTSTART:20141026T010000
END:STANDARD
BEGIN:DAYLIGHT
TZOFFSETFROM:+0100
TZOFFSETTO:+0200
TZNAME:CEST
DTSTART:20150329T010000
END:DAYLIGHT
BEGIN:STANDARD
TZOFFSETFROM:+0200
TZOFFSETTO:+0100
TZNAME:CET
DTSTART:20151025T010000
END:STANDARD
BEGIN:DAYLIGHT
TZOFFSETFROM:+0100
TZOFFSETTO:+0200
TZNAME:CEST
DTSTART:20160327T010000
END:DAYLIGHT
BEGIN:STANDARD
TZOFFSETFROM:+0200
TZOFFSETTO:+0100
TZNAME:CET
DTSTART:20161030T010000
END:STANDARD
END:VTIMEZONE
BEGIN:VEVENT
DTSTART;TZID=Europe/Madrid:20150516T203000
DTEND;TZID=Europe/Madrid:20150516T203000
DTSTAMP:20260419T231903
CREATED:20150514T145615Z
LAST-MODIFIED:20150514T145615Z
UID:30903-1431808200-1431808200@merida.es
SUMMARY:Concierto Tarde de Jazz
DESCRIPTION:El sábado 16 de mayo\, en el Rincón de los Poetas\, a partir de las 20:30 h\, tendrá lugar un concierto gratuito\, fin del taller de jazz llevado a cabo por la escuela de música de Laoctava. Es una iniciativa del AMPA del Conservatorio Municipal Esteban Sánchez.
URL:https://merida.es/agenda/concierto-tarde-de-jazz/
LOCATION:Rincón de los Poetas\, Arco de Trajano\, Mérida
CATEGORIES:Educación,Música
ATTACH;FMTTYPE=image/jpeg:https://merida.es/wp-content/uploads/2015/05/tarde-jazz-peq.jpg
END:VEVENT
END:VCALENDAR