﻿BEGIN:VCALENDAR
VERSION:2.0
PRODID:-//Ayuntamiento de Mérida - ECPv6.15.17.1//NONSGML v1.0//EN
CALSCALE:GREGORIAN
METHOD:PUBLISH
X-ORIGINAL-URL:https://merida.es
X-WR-CALDESC:Eventos para Ayuntamiento de Mérida
REFRESH-INTERVAL;VALUE=DURATION:PT1H
X-Robots-Tag:noindex
X-PUBLISHED-TTL:PT1H
BEGIN:VTIMEZONE
TZID:Europe/Madrid
BEGIN:DAYLIGHT
TZOFFSETFROM:+0100
TZOFFSETTO:+0200
TZNAME:CEST
DTSTART:20140330T010000
END:DAYLIGHT
BEGIN:STANDARD
TZOFFSETFROM:+0200
TZOFFSETTO:+0100
TZNAME:CET
DTSTART:20141026T010000
END:STANDARD
BEGIN:DAYLIGHT
TZOFFSETFROM:+0100
TZOFFSETTO:+0200
TZNAME:CEST
DTSTART:20150329T010000
END:DAYLIGHT
BEGIN:STANDARD
TZOFFSETFROM:+0200
TZOFFSETTO:+0100
TZNAME:CET
DTSTART:20151025T010000
END:STANDARD
BEGIN:DAYLIGHT
TZOFFSETFROM:+0100
TZOFFSETTO:+0200
TZNAME:CEST
DTSTART:20160327T010000
END:DAYLIGHT
BEGIN:STANDARD
TZOFFSETFROM:+0200
TZOFFSETTO:+0100
TZNAME:CET
DTSTART:20161030T010000
END:STANDARD
END:VTIMEZONE
BEGIN:VEVENT
DTSTART;TZID=Europe/Madrid:20150522T203000
DTEND;TZID=Europe/Madrid:20150522T203000
DTSTAMP:20260420T041847
CREATED:20150521T095029Z
LAST-MODIFIED:20150521T095029Z
UID:30961-1432326600-1432326600@merida.es
SUMMARY:Concierto de Cello y Piano
DESCRIPTION:El viernes 22 de mayo tendrá lugar un concierto de Cello y Piano a cargo de Oscar Alabau y Ángel Sanzo que interpretarán obras de Schumann\, Beethoven y Bach. La entrada es gratuita para socios y de 2 euros para el público en general.\nEl concierto forma parte de los ‘Clásicos en Ruta’ que organizan las Juventudes Musicales de Mérida y la Sociedad Filarmónica Esteban Sánchez.
URL:https://merida.es/agenda/concierto-de-cello-y-piano/
LOCATION:Centro Cultural Santo Domingo Fundación CB\, Plaza de Santo Domingo\, s/n\, Mérida
CATEGORIES:Música
ATTACH;FMTTYPE=image/jpeg:https://merida.es/wp-content/uploads/2015/05/concierto-22-mayo-peq.jpg
END:VEVENT
END:VCALENDAR