﻿BEGIN:VCALENDAR
VERSION:2.0
PRODID:-//Ayuntamiento de Mérida - ECPv6.15.17.1//NONSGML v1.0//EN
CALSCALE:GREGORIAN
METHOD:PUBLISH
X-WR-CALNAME:Ayuntamiento de Mérida
X-ORIGINAL-URL:https://merida.es
X-WR-CALDESC:Eventos para Ayuntamiento de Mérida
REFRESH-INTERVAL;VALUE=DURATION:PT1H
X-Robots-Tag:noindex
X-PUBLISHED-TTL:PT1H
BEGIN:VTIMEZONE
TZID:Europe/Madrid
BEGIN:DAYLIGHT
TZOFFSETFROM:+0100
TZOFFSETTO:+0200
TZNAME:CEST
DTSTART:20140330T010000
END:DAYLIGHT
BEGIN:STANDARD
TZOFFSETFROM:+0200
TZOFFSETTO:+0100
TZNAME:CET
DTSTART:20141026T010000
END:STANDARD
BEGIN:DAYLIGHT
TZOFFSETFROM:+0100
TZOFFSETTO:+0200
TZNAME:CEST
DTSTART:20150329T010000
END:DAYLIGHT
BEGIN:STANDARD
TZOFFSETFROM:+0200
TZOFFSETTO:+0100
TZNAME:CET
DTSTART:20151025T010000
END:STANDARD
BEGIN:DAYLIGHT
TZOFFSETFROM:+0100
TZOFFSETTO:+0200
TZNAME:CEST
DTSTART:20160327T010000
END:DAYLIGHT
BEGIN:STANDARD
TZOFFSETFROM:+0200
TZOFFSETTO:+0100
TZNAME:CET
DTSTART:20161030T010000
END:STANDARD
END:VTIMEZONE
BEGIN:VEVENT
DTSTART;TZID=Europe/Madrid:20150530T170000
DTEND;TZID=Europe/Madrid:20150530T170000
DTSTAMP:20260419T213538
CREATED:20150323T161125Z
LAST-MODIFIED:20150323T161125Z
UID:29843-1433005200-1433005200@merida.es
SUMMARY:'La Reina de las Nieves'\, el musical
DESCRIPTION:Vive una aventura en la nieve\, baila y canta mientras cae nieve de verdad\, conoce a la Reina de las Nieves y su congelado reino. Basado en el cuento de Hans Christian Andersen. Dirigido por Adrián Silvano y Miriam Blanco. \nEntradas ya a la venta en www.giglon.com al precio de 10 euros. En taquilla 12 euros.
URL:https://merida.es/agenda/reina-nieves-musical/
LOCATION:Centro Cultural Alcazaba\, Calle John Lennon\, 5\, Mérida
CATEGORIES:Infantil,Música,Teatro
ATTACH;FMTTYPE=image/jpeg:https://merida.es/wp-content/uploads/2015/03/frozen-peq.jpg
END:VEVENT
END:VCALENDAR