﻿BEGIN:VCALENDAR
VERSION:2.0
PRODID:-//Ayuntamiento de Mérida - ECPv6.15.17.1//NONSGML v1.0//EN
CALSCALE:GREGORIAN
METHOD:PUBLISH
X-ORIGINAL-URL:https://merida.es
X-WR-CALDESC:Eventos para Ayuntamiento de Mérida
REFRESH-INTERVAL;VALUE=DURATION:PT1H
X-Robots-Tag:noindex
X-PUBLISHED-TTL:PT1H
BEGIN:VTIMEZONE
TZID:Europe/Madrid
BEGIN:DAYLIGHT
TZOFFSETFROM:+0100
TZOFFSETTO:+0200
TZNAME:CEST
DTSTART:20230326T010000
END:DAYLIGHT
BEGIN:STANDARD
TZOFFSETFROM:+0200
TZOFFSETTO:+0100
TZNAME:CET
DTSTART:20231029T010000
END:STANDARD
BEGIN:DAYLIGHT
TZOFFSETFROM:+0100
TZOFFSETTO:+0200
TZNAME:CEST
DTSTART:20240331T010000
END:DAYLIGHT
BEGIN:STANDARD
TZOFFSETFROM:+0200
TZOFFSETTO:+0100
TZNAME:CET
DTSTART:20241027T010000
END:STANDARD
BEGIN:DAYLIGHT
TZOFFSETFROM:+0100
TZOFFSETTO:+0200
TZNAME:CEST
DTSTART:20250330T010000
END:DAYLIGHT
BEGIN:STANDARD
TZOFFSETFROM:+0200
TZOFFSETTO:+0100
TZNAME:CET
DTSTART:20251026T010000
END:STANDARD
END:VTIMEZONE
BEGIN:VEVENT
DTSTART;VALUE=DATE:20240411
DTEND;VALUE=DATE:20240415
DTSTAMP:20260422T145706
CREATED:20240408T124808Z
LAST-MODIFIED:20240408T154615Z
UID:129680-1712793600-1713139199@merida.es
SUMMARY:Feria de la Cerveza Artesanal
DESCRIPTION:Del 11 al 14 de abril\, el Acueducto de Los Milagros acogerá la I Feria de la Cerveza Artesanal que se llevará a cabo en la explanada del Acueducto de los Milagros y en el que estarán presentes más de 100 marcas de cervezas artesanas de diferentes Comunidades Autónomas repartidas entre 12 puestos de cervezas. Además\, habrá Foodtrucks\, Puestos de Artesanía\, Talleres infantiles\, Juegos populares y Actuaciones de DJ. El horario será de 12 a 24 horas. Organiza La Ruta del Lúpulo con la colaboración del Ayuntamiento de Mérida. \nPrograma Feria de la Cerveza Artesanal
URL:https://merida.es/agenda/feria-de-la-cerveza-artesanal/
LOCATION:Acueducto de Los Milagros\, Av. de Via de la Plata s/n\, Mérida
CATEGORIES:Gastronomía,Música,Ocio
ATTACH;FMTTYPE=image/jpeg:https://merida.es/wp-content/uploads/2024/04/2024-feria-cervezapeq.jpeg
END:VEVENT
BEGIN:VEVENT
DTSTART;TZID=Europe/Madrid:20240413T210000
DTEND;TZID=Europe/Madrid:20240413T210000
DTSTAMP:20260422T145706
CREATED:20240325T105222Z
LAST-MODIFIED:20240409T063408Z
UID:129318-1713042000-1713042000@merida.es
SUMMARY:Teatro y Música: "Pulsión de muerte"
DESCRIPTION:SÁBADO Día 13 de abril de 2024. 21.00 horas \nEspectáculo: Pasión de muerte.\nCompañía: Lux contemporánea + Neopercusión \nSinopsis: La casa de Bernarda Alba es un espacio cerrado\, el mundo del luto\, del silencio\, de la ocultación. Parece faltar el aire y el agua en este mundo que pone barreras a las fuerzas de la vida\, «en el que se respira la muerte». Se opone totalmente al interior de la casa y la represión a la que las hijas son sometidas\, el mundo exterior: de él llegarán ecos de pasiones elementales o de un erotismo desatado. \nBernarda teme al cambio que sustenta el frágil equilibrio que la mantiene fuerte en un mundo de apariencias y amenazas\, teme su propia esencia anulando la de sus propias hijas hasta las últimas consecuencias\, donde el precio de la libertad es la muerte o la locura. \nDuración: 60 min.\nPúblico recomendado: a partir de 14 años. \nTaquilla: Entrada única 5€ (*Descuentos del 50% aplicable a: carnet estudiante\, carnet joven europeo\, personas jubiladas-pensionistas\, familia numerosa y personas en desempleo)\nHorario de taquilla: Días 12 de abril de 11.00 a 13:00h. y de 19.00 a 20.30h y día 13 de abril de 11.00 a 13:00h. y de 19.00 a 21.00h.\nReservas en el email: salatrajanomerida@gmail.com
URL:https://merida.es/agenda/teatro-pulsion-de-muerte/
LOCATION:Sala Trajano\, Calle Muza\, 50\, Mérida
CATEGORIES:Música,Teatro
ATTACH;FMTTYPE=image/jpeg:https://merida.es/wp-content/uploads/2024/03/pulsion-muerte-peq.jpg
END:VEVENT
END:VCALENDAR