﻿BEGIN:VCALENDAR
VERSION:2.0
PRODID:-//Ayuntamiento de Mérida - ECPv6.15.17.1//NONSGML v1.0//EN
CALSCALE:GREGORIAN
METHOD:PUBLISH
X-ORIGINAL-URL:https://merida.es
X-WR-CALDESC:Eventos para Ayuntamiento de Mérida
REFRESH-INTERVAL;VALUE=DURATION:PT1H
X-Robots-Tag:noindex
X-PUBLISHED-TTL:PT1H
BEGIN:VTIMEZONE
TZID:Europe/Madrid
BEGIN:DAYLIGHT
TZOFFSETFROM:+0100
TZOFFSETTO:+0200
TZNAME:CEST
DTSTART:20230326T010000
END:DAYLIGHT
BEGIN:STANDARD
TZOFFSETFROM:+0200
TZOFFSETTO:+0100
TZNAME:CET
DTSTART:20231029T010000
END:STANDARD
BEGIN:DAYLIGHT
TZOFFSETFROM:+0100
TZOFFSETTO:+0200
TZNAME:CEST
DTSTART:20240331T010000
END:DAYLIGHT
BEGIN:STANDARD
TZOFFSETFROM:+0200
TZOFFSETTO:+0100
TZNAME:CET
DTSTART:20241027T010000
END:STANDARD
BEGIN:DAYLIGHT
TZOFFSETFROM:+0100
TZOFFSETTO:+0200
TZNAME:CEST
DTSTART:20250330T010000
END:DAYLIGHT
BEGIN:STANDARD
TZOFFSETFROM:+0200
TZOFFSETTO:+0100
TZNAME:CET
DTSTART:20251026T010000
END:STANDARD
END:VTIMEZONE
BEGIN:VEVENT
DTSTART;VALUE=DATE:20240418
DTEND;VALUE=DATE:20240421
DTSTAMP:20260423T012627
CREATED:20240114T231400Z
LAST-MODIFIED:20240415T054550Z
UID:127490-1713398400-1713657599@merida.es
SUMMARY:VIII Jornadas Profesionales de la Música en Extremadura
DESCRIPTION:Del 18 al 20 de abril de 2024\, se celebrará la octava edición de las Jornadas Profesionales de la Música en Extremadura (MUM) en Mérida . Un espacio de referencia donde todos los agentes implicados en la industria musical de Extremadura tendrán la oportunidad de poner en valor el talento creativo de los artistas extremeños. Unas jornadas que llenará la ciudad de múltiples conciertos\, exposiciones y mesas de trabajo. En concreto\, los espacios de la Plaza de España\, Teatro María Luisa\, Centro Cultural Alcazaba y Templo de Diana serán los escenarios donde se celebrará actividades programadas de la MUM 2024. \nEsta nueva edición de la MUM contará con un acto homenaje por el centenario de José Salazar Molina “Porrina de Badajoz” en el Teatro María Luisa bajo el nombre de: “Un Marqués\, gitano y de Badajoz” el jueves 18 de abril\, a las 21:00 horas. Durante estos tres días se sucederán actuaciones promocionales de 25 minutos (showcases)\, conciertos\, mesas de debate\, talleres de formación\, espacios de intercambio comercial\, etc. \nLas Jornadas están organizadas por la Asociación de Gestoras y Gestores culturales de Extremadura en colaboración del Centro de las Artes Escénicas y la Música (CEMART)\, de la Consejería de Cultura\, Turismo\, Jóvenes y Deportes de la Junta de Extremadura\, las Diputaciones de Badajoz y Cáceres\, el Ayuntamiento de Mérida y Extremadura AVANTE. \nPrograma completo: https://extremum.agcex.org/
URL:https://merida.es/agenda/viii-jornadas-profesionales-de-la-musica-en-extremadura/
LOCATION:Varios puntos de la ciudad\, Mérida
CATEGORIES:Música
ATTACH;FMTTYPE=image/jpeg:https://merida.es/wp-content/uploads/2024/01/2024-mum-jornadas-musica-peq.jpg
END:VEVENT
END:VCALENDAR