﻿BEGIN:VCALENDAR
VERSION:2.0
PRODID:-//Ayuntamiento de Mérida - ECPv6.15.17.1//NONSGML v1.0//EN
CALSCALE:GREGORIAN
METHOD:PUBLISH
X-ORIGINAL-URL:https://merida.es
X-WR-CALDESC:Eventos para Ayuntamiento de Mérida
REFRESH-INTERVAL;VALUE=DURATION:PT1H
X-Robots-Tag:noindex
X-PUBLISHED-TTL:PT1H
BEGIN:VTIMEZONE
TZID:Europe/Madrid
BEGIN:DAYLIGHT
TZOFFSETFROM:+0100
TZOFFSETTO:+0200
TZNAME:CEST
DTSTART:20230326T010000
END:DAYLIGHT
BEGIN:STANDARD
TZOFFSETFROM:+0200
TZOFFSETTO:+0100
TZNAME:CET
DTSTART:20231029T010000
END:STANDARD
BEGIN:DAYLIGHT
TZOFFSETFROM:+0100
TZOFFSETTO:+0200
TZNAME:CEST
DTSTART:20240331T010000
END:DAYLIGHT
BEGIN:STANDARD
TZOFFSETFROM:+0200
TZOFFSETTO:+0100
TZNAME:CET
DTSTART:20241027T010000
END:STANDARD
BEGIN:DAYLIGHT
TZOFFSETFROM:+0100
TZOFFSETTO:+0200
TZNAME:CEST
DTSTART:20250330T010000
END:DAYLIGHT
BEGIN:STANDARD
TZOFFSETFROM:+0200
TZOFFSETTO:+0100
TZNAME:CET
DTSTART:20251026T010000
END:STANDARD
END:VTIMEZONE
BEGIN:VEVENT
DTSTART;VALUE=DATE:20240601
DTEND;VALUE=DATE:20240914
DTSTAMP:20260422T021737
CREATED:20231228T234119Z
LAST-MODIFIED:20240628T084024Z
UID:127193-1717200000-1726271999@merida.es
SUMMARY:Stone & Music Festival 2024
DESCRIPTION:En el año 2024\, el Stone Music Festival celebrará su novena edición para el que volverá a contar con artistas nacionales e internacionales de primer nivel. Como novedad\, este año\, el Festival programará conciertos en el mes de junio. \nTodos los espectáculos presentados se llevarán a cabo en el marco del Teatro Romano de Mérida volviendo a unir patrimonio\, cultura y ocio en este monumento señero de Extremadura. \n• ISABEL PANTOJA – 1 de junio\n• RAPHAEL – 2 de junio\n• AMARAL – 7 de junio\n• THE BLACK CROWES – 9 de junio\n• STATUS QUO – 14 de junio\n• TOM JONES – 21 de junio\n• VÍCTOR MANUEL – 30 de agosto\n• MIKEL IZAL – 31 de agosto\n• LOS CHICHOS – 1 de septiembre\n• ARA MALIKIAN – 8 de septiembre\n• ÁLVARO DE LUNA Y MARLON – 13 de septiembre\n• MANUEL TURIZO – 14 de septiembre \nLas entradas para todos los espectáculos se pueden adquirir a través de la web oficial: stoneandmusicfestival.com.
URL:https://merida.es/agenda/stone-music-festival-2024/
LOCATION:Teatro Romano\, Plaza de Margarita Xirgú\, Mérida
CATEGORIES:Música
ATTACH;FMTTYPE=image/jpeg:https://merida.es/wp-content/uploads/2023/12/2024-stone-music-peq.jpg
END:VEVENT
BEGIN:VEVENT
DTSTART;TZID=Europe/Madrid:20240613T190000
DTEND;TZID=Europe/Madrid:20240613T190000
DTSTAMP:20260422T021737
CREATED:20240611T145439Z
LAST-MODIFIED:20240611T145439Z
UID:131535-1718305200-1718305200@merida.es
SUMMARY:Concierto de Clausura 2024 Conservatorio Esteban Sánchez
DESCRIPTION:El jueves 13 de junio\, a las 19:00h\, el Conservatorio Esteban Sánchez celebra su tradicional concierto de clausura del actual curso en el Centro Cultural Alcazaba. Se podrá disfrutar de un programa variado y enriquecedor en compañía de una nutrida representación de las distintas aulas instrumentales del centro.
URL:https://merida.es/agenda/concierto-de-clausura-2024-conservatorio-esteban-sanchez/
LOCATION:Centro Cultural Alcazaba\, Calle John Lennon\, 5\, Mérida
CATEGORIES:Música
ATTACH;FMTTYPE=image/jpeg:https://merida.es/wp-content/uploads/2024/06/2024-concierto-clausura-conservatorio-peq.jpg
END:VEVENT
BEGIN:VEVENT
DTSTART;TZID=Europe/Madrid:20240613T210000
DTEND;TZID=Europe/Madrid:20240613T210000
DTSTAMP:20260422T021737
CREATED:20240315T234753Z
LAST-MODIFIED:20240315T234753Z
UID:129085-1718312400-1718312400@merida.es
SUMMARY:Miguel Vargas: "Desde mis entrañas"
DESCRIPTION:Jueves 13 de junio – 21:00 horas \nEspectáculo: Desde mis entrañas \nSinopsis: ‘Desde mis entrañas’ es un trabajo discográfico llevado al fuego del directo. Nace desde la libertad de un corazón flamenco que expresa su propia música\, que late a su propio compás y que reza al viento para ser escuchado. \nSu guitarra es el eco de aquellos sones que nos emocionaron\, que nos inspiraron\, manantiales serenos y claros de donde aún hoy seguimos bebiendo para alimentar nuestras raíces. \nMiguel Vargas guitarrista con paladar y sello inconfundibles\, portador en sus yemas de las más sabrosas especias y los más subyugantes hechizos del alma gitana y a quien\, en definitiva\, sucede lo que a todos los clásicos de verdad: que\, sobre todo\, tiene futuro. \nEntrada única: 5€\nHorario de taquilla: A partir del lunes 10 de junio en el Centro Cultural Alcazaba (lunes a jueves\, de 10 a 14 y de 17 a 20 horas) y Centro Cultural Nueva Ciudad (lunes a viernes\, de 10 a 14 horas y mismo día del evento desde una hora antes). \nEl espectáculo cuenta con las Ayudas a la Programación de Artes Escénicas y de Música de la Red de Teatros y Otros Espacios Escénicos de Extremadura de la Consejería de Cultura\, Turismo\, Jóvenes y Deportes\, cofinanciado en un 70%.
URL:https://merida.es/agenda/miguel-vargas-desde-mis-entranas/
LOCATION:Centro Cultural de Nueva Ciudad\, Calle Antonio Rodríguez Moñino s/n\, Mérida\, 06800\, Spain
CATEGORIES:Música
ATTACH;FMTTYPE=image/jpeg:https://merida.es/wp-content/uploads/2024/03/miguel-vargas-1.jpg
END:VEVENT
END:VCALENDAR