﻿BEGIN:VCALENDAR
VERSION:2.0
PRODID:-//Ayuntamiento de Mérida - ECPv6.15.17.1//NONSGML v1.0//EN
CALSCALE:GREGORIAN
METHOD:PUBLISH
X-ORIGINAL-URL:https://merida.es
X-WR-CALDESC:Eventos para Ayuntamiento de Mérida
REFRESH-INTERVAL;VALUE=DURATION:PT1H
X-Robots-Tag:noindex
X-PUBLISHED-TTL:PT1H
BEGIN:VTIMEZONE
TZID:Europe/Madrid
BEGIN:DAYLIGHT
TZOFFSETFROM:+0100
TZOFFSETTO:+0200
TZNAME:CEST
DTSTART:20230326T010000
END:DAYLIGHT
BEGIN:STANDARD
TZOFFSETFROM:+0200
TZOFFSETTO:+0100
TZNAME:CET
DTSTART:20231029T010000
END:STANDARD
BEGIN:DAYLIGHT
TZOFFSETFROM:+0100
TZOFFSETTO:+0200
TZNAME:CEST
DTSTART:20240331T010000
END:DAYLIGHT
BEGIN:STANDARD
TZOFFSETFROM:+0200
TZOFFSETTO:+0100
TZNAME:CET
DTSTART:20241027T010000
END:STANDARD
BEGIN:DAYLIGHT
TZOFFSETFROM:+0100
TZOFFSETTO:+0200
TZNAME:CEST
DTSTART:20250330T010000
END:DAYLIGHT
BEGIN:STANDARD
TZOFFSETFROM:+0200
TZOFFSETTO:+0100
TZNAME:CET
DTSTART:20251026T010000
END:STANDARD
END:VTIMEZONE
BEGIN:VEVENT
DTSTART;TZID=Europe/Madrid:20240919T203000
DTEND;TZID=Europe/Madrid:20240919T203000
DTSTAMP:20260421T133002
CREATED:20240916T065017Z
LAST-MODIFIED:20240916T065017Z
UID:133643-1726777800-1726777800@merida.es
SUMMARY:XXXVIII Día del Museo Nacional de Arte Romano
DESCRIPTION:El Museo Nacional de Arte Romano organiza como cada 19 de septiembre el Día del Museo\, coincidiendo con la fecha en la que este fue inaugurado en la actual sede. Así\, para el XXXVIII Día del MNAR (1986-2024) están previstas las siguientes actividades. \n20:30 h. Entrega del XXXI Premio Internacional Genio Protector de la Colonia Augusta Emerita. \n21:30 – 22:30 h. Concierto MusaE. Darío Meta (pianista) que interpretará obras de Haydn\, Ravel\, Mozart y Beethoven \nNave principal. Entrada libre hasta completar aforo. Organizan Museo Nacional de Arte Romano\, Asociación Amigos Museo Arte Romano de Mérida\, Fundación de Estudios Romanos y Proyecto MusaE.
URL:https://merida.es/agenda/xxxviii-dia-del-museo-nacional-de-arte-romano/
LOCATION:Museo Nacional de Arte Romano\, Calle José Ramón Mélida\, Mérida\, Badajoz\, 06800\, España
CATEGORIES:Institucional,Música
ATTACH;FMTTYPE=image/jpeg:https://merida.es/wp-content/uploads/2024/09/2024-dia-museo-peq.jpg
END:VEVENT
END:VCALENDAR