﻿BEGIN:VCALENDAR
VERSION:2.0
PRODID:-//Ayuntamiento de Mérida - ECPv6.15.17.1//NONSGML v1.0//EN
CALSCALE:GREGORIAN
METHOD:PUBLISH
X-ORIGINAL-URL:https://merida.es
X-WR-CALDESC:Eventos para Ayuntamiento de Mérida
REFRESH-INTERVAL;VALUE=DURATION:PT1H
X-Robots-Tag:noindex
X-PUBLISHED-TTL:PT1H
BEGIN:VTIMEZONE
TZID:Europe/Madrid
BEGIN:DAYLIGHT
TZOFFSETFROM:+0100
TZOFFSETTO:+0200
TZNAME:CEST
DTSTART:20230326T010000
END:DAYLIGHT
BEGIN:STANDARD
TZOFFSETFROM:+0200
TZOFFSETTO:+0100
TZNAME:CET
DTSTART:20231029T010000
END:STANDARD
BEGIN:DAYLIGHT
TZOFFSETFROM:+0100
TZOFFSETTO:+0200
TZNAME:CEST
DTSTART:20240331T010000
END:DAYLIGHT
BEGIN:STANDARD
TZOFFSETFROM:+0200
TZOFFSETTO:+0100
TZNAME:CET
DTSTART:20241027T010000
END:STANDARD
BEGIN:DAYLIGHT
TZOFFSETFROM:+0100
TZOFFSETTO:+0200
TZNAME:CEST
DTSTART:20250330T010000
END:DAYLIGHT
BEGIN:STANDARD
TZOFFSETFROM:+0200
TZOFFSETTO:+0100
TZNAME:CET
DTSTART:20251026T010000
END:STANDARD
END:VTIMEZONE
BEGIN:VEVENT
DTSTART;TZID=Europe/Madrid:20241019T190000
DTEND;TZID=Europe/Madrid:20241019T190000
DTSTAMP:20260421T083520
CREATED:20241009T103217Z
LAST-MODIFIED:20241009T103217Z
UID:134368-1729364400-1729364400@merida.es
SUMMARY:III Certamen Coral Regional Fecoex 2024 (Modalidad Zarzuela)
DESCRIPTION:El 19 de octubre\, a partir de las 19:00 horas\, el Templo de Diana acoge el III Certamen Coral Regional Fecoex 2024 (Modalidad Zarzuela) con la participación de la Coral Augusta Emérita\, el Coro Ad Libitum\, el Coro polifónico Voces Vivas de Campanario\, Coro Silentivm de Zafra y el Orfeón Cacereño. Organiza la Federación Extremeña de Corales (FECOEX)
URL:https://merida.es/agenda/iii-certamen-coral-regional-fecoex-2024-modalidad-zarzuela/
LOCATION:Templo de Diana\, Calle Romero Leal\, s/n\, Mérida
CATEGORIES:Música
ATTACH;FMTTYPE=image/jpeg:https://merida.es/wp-content/uploads/2024/10/2024-certamen-coral-fecoex-peq.jpg
END:VEVENT
END:VCALENDAR