﻿BEGIN:VCALENDAR
VERSION:2.0
PRODID:-//Ayuntamiento de Mérida - ECPv6.15.17.1//NONSGML v1.0//EN
CALSCALE:GREGORIAN
METHOD:PUBLISH
X-WR-CALNAME:Ayuntamiento de Mérida
X-ORIGINAL-URL:https://merida.es
X-WR-CALDESC:Eventos para Ayuntamiento de Mérida
REFRESH-INTERVAL;VALUE=DURATION:PT1H
X-Robots-Tag:noindex
X-PUBLISHED-TTL:PT1H
BEGIN:VTIMEZONE
TZID:Europe/Madrid
BEGIN:DAYLIGHT
TZOFFSETFROM:+0100
TZOFFSETTO:+0200
TZNAME:CEST
DTSTART:20230326T010000
END:DAYLIGHT
BEGIN:STANDARD
TZOFFSETFROM:+0200
TZOFFSETTO:+0100
TZNAME:CET
DTSTART:20231029T010000
END:STANDARD
BEGIN:DAYLIGHT
TZOFFSETFROM:+0100
TZOFFSETTO:+0200
TZNAME:CEST
DTSTART:20240331T010000
END:DAYLIGHT
BEGIN:STANDARD
TZOFFSETFROM:+0200
TZOFFSETTO:+0100
TZNAME:CET
DTSTART:20241027T010000
END:STANDARD
BEGIN:DAYLIGHT
TZOFFSETFROM:+0100
TZOFFSETTO:+0200
TZNAME:CEST
DTSTART:20250330T010000
END:DAYLIGHT
BEGIN:STANDARD
TZOFFSETFROM:+0200
TZOFFSETTO:+0100
TZNAME:CET
DTSTART:20251026T010000
END:STANDARD
END:VTIMEZONE
BEGIN:VEVENT
DTSTART;VALUE=DATE:20241025
DTEND;VALUE=DATE:20241124
DTSTAMP:20260421T114747
CREATED:20240620T074208Z
LAST-MODIFIED:20241015T225708Z
UID:131856-1729814400-1732406399@merida.es
SUMMARY:III Festival Flamenco Mérida 2024
DESCRIPTION:Mérida acogerá la III Festival Flamenco Mérida Guitarra Española\, del 25 de octubre al 23 de noviembre de 2024\, para celebrar no solo el arte flamenco\, sino también para reforzar la capital extremeña como destino turístico y cultural de primer nivel. \nLa programación comenzará con la apertura el 25 de octubre donde se celebrará un concierto exclusivo de la cantaora Esperanza Fernández que contará con la participación de reconocidos artistas como Farruquito\, Jesús Méndez\, Miguel A. Cortés\, Rosario La Tremendita y Kiki Morente. Será el único de los conciertos que se lleve a cabo en el Palacio de Congresos de Mérida\, a partir de las 21:00 horas. \nEl 8 de noviembre\, el Teatro María Luisa será el escenario del espectáculo «Capitán de mis sueños»\, presentado por la Familia Camarón\, a las 21:00 horas. \nAl día siguiente\, el 9 de noviembre\, María Terremoto ofrecerá su actuación también en el Teatro María Luisa a las 21:00 horas\, prometiendo una velada llena de emociones y puro flamenco. \nEl 16 de noviembre\, Joni Jiménez presentará su espectáculo «Abrazados\, sueño y tiempo»\, acompañado por destacados artistas como David de la Jacoba\, Montse Cortés\, Antonio Losada y Kelian Jiménez. Este evento se celebrará en el Teatro María Luisa a las 21:00 horas\, ofreciendo una experiencia única. \nEl broche final será el 23 de noviembre con el cierre a cargo de Dorantes\, quien presentará su espectáculo «Un flamenco al piano» en el Teatro María Luisa a las 21:00 horas. \nEsta serie de espectáculos promete llevar al público a un viaje musical y emocional a través del arte flamenco\, consolidando una vez más el prestigio del festival. \nFinalmente\, este año\, el festival ha querido rendir homenaje a José Monge Cruz\, Camarón de la Isla\, quien recibe el premio Flamenco Universal 2024 a título póstumo. \nWeb oficial y Venta de Entradas: http://www.flamencouniversalmerida.es/
URL:https://merida.es/agenda/iii-festival-flamenco-merida-2024/
LOCATION:Varios puntos de la ciudad\, Mérida
CATEGORIES:Música
ATTACH;FMTTYPE=image/jpeg:https://merida.es/wp-content/uploads/2024/06/2024-festival-flamenco-merida-peq.jpg
END:VEVENT
BEGIN:VEVENT
DTSTART;TZID=Europe/Madrid:20241109T140000
DTEND;TZID=Europe/Madrid:20241109T140000
DTSTAMP:20260421T114747
CREATED:20241105T210212Z
LAST-MODIFIED:20241105T210212Z
UID:135247-1731160800-1731160800@merida.es
SUMMARY:Concierto solidario Santa Cecilia: "O'Hara"
DESCRIPTION:El Colegio Salesianos ‘María Auxiliadora’ organiza el sábado 9 de noviembre su habitual concierto en honor a Santa Cecilia\, a partir de las 14.00 horas\, con la actuación del grupo emeritense O’HARA. Habrá servicio de comida y bebida para hacer más ameno el día. Todo lo recaudado se destinará para los damnificados por la DANA de Valencia.
URL:https://merida.es/agenda/concierto-solidario-santa-cecilia-ohara/
LOCATION:Colegio Salesianos ‘María Auxiliadora’\, Av. Reina Sofía\, 44\, Mérida
CATEGORIES:Benéfico,Música
ATTACH;FMTTYPE=image/jpeg:https://merida.es/wp-content/uploads/2024/11/2024-concierto-solidario-santa-cecilia-peq.jpg
END:VEVENT
BEGIN:VEVENT
DTSTART;TZID=Europe/Madrid:20241109T210000
DTEND;TZID=Europe/Madrid:20241109T210000
DTSTAMP:20260421T114747
CREATED:20240620T102115Z
LAST-MODIFIED:20241104T234924Z
UID:131876-1731186000-1731186000@merida.es
SUMMARY:III Festival Flamenco Mérida: "María Terremoto"
DESCRIPTION:La niña jerezana que sorprendió a todos con tan sólo dieciséis años\, haciéndose con galardones tan importantes como el Giraldillo Revelación de La Bienal de Flamenco de Sevilla o La Venencia Flamenca\, se ha convertido en una auténtica figura del cante jondo. Llevando en su espalda el legado de una de las sagas flamencas más importantes de las últimas décadas\, María Terremoto ha sabido darle un nuevo aire a su cante tradicional\, llevándolo hasta un público que no rondaba los ambientes más tradicionales hasta ahora y que con su llegada al mundo flamenco se ha acercado a este arte milenario. \nA sus veintidós años\, María cuenta con un disco en el mercado\, titulado ‘La huella de mi sentío’\, que con un gran aval de público y crítica ha recorrido Europa y Estados Unidos\, en una gira que los medios han considerado de vital importancia para continuar llevando el flamenco ortodoxo más allá de las zonas de confort a lo que se está acostumbrado. \nPara esta especial ocasión\, María ha querido una vez más dejar a un lado los artificios musicales y los guiones que asfixien su cante\, presentándose de la manera más tradicional posible\, con el acompañamiento de la guitarra y las palmas\, como se ha hecho siempre\, intentando crear con el espectador una línea directa sin interferencias de ningún tipo. María filtrar por su garganta los sonidos más flamencos a través de composiciones que han marcado su vida. Una desgarrada y potente voz que llegará hasta lo más profundo del que se siente delante. \nMaría Terremoto llegó hace relativamente poco tiempo al mundo flamenco profesional\, pero lo que está claro es que ha llegado para quedarse. Como la prensa la ha denominado\, es ‘La Princesa del Cante Jondo’. \nMás información y venta de entradas: https://www.elcorteingles.es/entradas
URL:https://merida.es/agenda/iii-festival-flamenco-merida-maria-terremoto/
LOCATION:Teatro María Luisa\, Calle Camilo José Cela\, 9\, Mérida\, España
CATEGORIES:Música
ATTACH;FMTTYPE=image/jpeg:https://merida.es/wp-content/uploads/2024/06/2024-maria-terremoto-peq.jpg
END:VEVENT
END:VCALENDAR