﻿BEGIN:VCALENDAR
VERSION:2.0
PRODID:-//Ayuntamiento de Mérida - ECPv6.15.17.1//NONSGML v1.0//EN
CALSCALE:GREGORIAN
METHOD:PUBLISH
X-WR-CALNAME:Ayuntamiento de Mérida
X-ORIGINAL-URL:https://merida.es
X-WR-CALDESC:Eventos para Ayuntamiento de Mérida
REFRESH-INTERVAL;VALUE=DURATION:PT1H
X-Robots-Tag:noindex
X-PUBLISHED-TTL:PT1H
BEGIN:VTIMEZONE
TZID:Europe/Madrid
BEGIN:DAYLIGHT
TZOFFSETFROM:+0100
TZOFFSETTO:+0200
TZNAME:CEST
DTSTART:20230326T010000
END:DAYLIGHT
BEGIN:STANDARD
TZOFFSETFROM:+0200
TZOFFSETTO:+0100
TZNAME:CET
DTSTART:20231029T010000
END:STANDARD
BEGIN:DAYLIGHT
TZOFFSETFROM:+0100
TZOFFSETTO:+0200
TZNAME:CEST
DTSTART:20240331T010000
END:DAYLIGHT
BEGIN:STANDARD
TZOFFSETFROM:+0200
TZOFFSETTO:+0100
TZNAME:CET
DTSTART:20241027T010000
END:STANDARD
BEGIN:DAYLIGHT
TZOFFSETFROM:+0100
TZOFFSETTO:+0200
TZNAME:CEST
DTSTART:20250330T010000
END:DAYLIGHT
BEGIN:STANDARD
TZOFFSETFROM:+0200
TZOFFSETTO:+0100
TZNAME:CET
DTSTART:20251026T010000
END:STANDARD
END:VTIMEZONE
BEGIN:VEVENT
DTSTART;VALUE=DATE:20241025
DTEND;VALUE=DATE:20241124
DTSTAMP:20260421T083259
CREATED:20240620T074208Z
LAST-MODIFIED:20241015T225708Z
UID:131856-1729814400-1732406399@merida.es
SUMMARY:III Festival Flamenco Mérida 2024
DESCRIPTION:Mérida acogerá la III Festival Flamenco Mérida Guitarra Española\, del 25 de octubre al 23 de noviembre de 2024\, para celebrar no solo el arte flamenco\, sino también para reforzar la capital extremeña como destino turístico y cultural de primer nivel. \nLa programación comenzará con la apertura el 25 de octubre donde se celebrará un concierto exclusivo de la cantaora Esperanza Fernández que contará con la participación de reconocidos artistas como Farruquito\, Jesús Méndez\, Miguel A. Cortés\, Rosario La Tremendita y Kiki Morente. Será el único de los conciertos que se lleve a cabo en el Palacio de Congresos de Mérida\, a partir de las 21:00 horas. \nEl 8 de noviembre\, el Teatro María Luisa será el escenario del espectáculo «Capitán de mis sueños»\, presentado por la Familia Camarón\, a las 21:00 horas. \nAl día siguiente\, el 9 de noviembre\, María Terremoto ofrecerá su actuación también en el Teatro María Luisa a las 21:00 horas\, prometiendo una velada llena de emociones y puro flamenco. \nEl 16 de noviembre\, Joni Jiménez presentará su espectáculo «Abrazados\, sueño y tiempo»\, acompañado por destacados artistas como David de la Jacoba\, Montse Cortés\, Antonio Losada y Kelian Jiménez. Este evento se celebrará en el Teatro María Luisa a las 21:00 horas\, ofreciendo una experiencia única. \nEl broche final será el 23 de noviembre con el cierre a cargo de Dorantes\, quien presentará su espectáculo «Un flamenco al piano» en el Teatro María Luisa a las 21:00 horas. \nEsta serie de espectáculos promete llevar al público a un viaje musical y emocional a través del arte flamenco\, consolidando una vez más el prestigio del festival. \nFinalmente\, este año\, el festival ha querido rendir homenaje a José Monge Cruz\, Camarón de la Isla\, quien recibe el premio Flamenco Universal 2024 a título póstumo. \nWeb oficial y Venta de Entradas: http://www.flamencouniversalmerida.es/
URL:https://merida.es/agenda/iii-festival-flamenco-merida-2024/
LOCATION:Varios puntos de la ciudad\, Mérida
CATEGORIES:Música
ATTACH;FMTTYPE=image/jpeg:https://merida.es/wp-content/uploads/2024/06/2024-festival-flamenco-merida-peq.jpg
END:VEVENT
BEGIN:VEVENT
DTSTART;TZID=Europe/Madrid:20241116T183000
DTEND;TZID=Europe/Madrid:20241116T183000
DTSTAMP:20260421T083259
CREATED:20241106T235134Z
LAST-MODIFIED:20241106T235134Z
UID:135313-1731781800-1731781800@merida.es
SUMMARY:El Carnaval le canta a su Patrona
DESCRIPTION:El auditorio del Centro Cultural Alcazaba acogerá el próximo sábado 16 de noviembre una nueva actividad enmarcada dentro de la programación del Año Jubilar Eulaliense que encara su recta final hasta el cierre de la Puerta Santa el próximo 10 de diciembre. \nEn concreto\, se trata de la celebración de la Gala “El Carnaval le canta a su Patrona”\, organizada por el Ayuntamiento de Mérida\, en la que siete chirigotas y comparsas cantarán coplas dedicadas a la Mártir Santa Eulalia que han tenido en su repertorio a lo largo de su trayectoria\, o de nueva creación para este evento. \nEn el evento\, que comenzará a las 18\,30 horas\, con entrada gratuita\, participarán la comparsa Las Iguales\, chirigota Las Fanáticas\, chirigota Los Mecha Corta\, chirigota Las Desiguales\, Comparsa Los Indomables\, chirigota Los Paveras y Chirigota La Marara. Además\, la gala contará con la actuación de la comparsa gaditana de Manuel Cornejo “La Alegría de Cádiz”.
URL:https://merida.es/agenda/el-carnaval-le-canta-a-su-patrona/
LOCATION:Centro Cultural Alcazaba\, Calle John Lennon\, 5\, Mérida
CATEGORIES:Carnaval,Música,Santa Eulalia
ATTACH;FMTTYPE=image/jpeg:https://merida.es/wp-content/uploads/2024/11/2024-carnaval-canta-patrona-peq.jpg
END:VEVENT
BEGIN:VEVENT
DTSTART;TZID=Europe/Madrid:20241116T203000
DTEND;TZID=Europe/Madrid:20241116T203000
DTSTAMP:20260421T083259
CREATED:20241113T115511Z
LAST-MODIFIED:20241113T115656Z
UID:135485-1731789000-1731789000@merida.es
SUMMARY:Concierto de música antigua de Eduardo Paniagua
DESCRIPTION:La Basílica de Santa Eulalia acoge este sábado\, a las 20\,30 horas un concierto a cargo del arquitecto y especialista en música antigua de España\, Eduardo Paniagua\, enmarcado dentro del Año Jubilar Eulaliense y coincidiendo con la clausura del Congreso Internacional “Eulalia y la Cristianización de Hispania” que se celebra desde el jueves 14 de noviembre. \nEn formación de trío\, junto a César Carazo y Aníbal Soriano\, abordan desde la investigación más rigurosa el repertorio de la música española de los siglos XII al XIX. César Carazo ha colaborado con La Capella Reial (Jordi Savall)\, Neocantes\, Quarteto de Urueña\, Música Antigua\, Axivil\, Al Ayre Español\, Accentus\, Magios y como solista en oratorios de Händel\, óperas de Mozart\, Scarlatti\, Pergolesi y un gran numero de tonadillas escénicas del XVIII. \nEduardo Paniagua es miembro fundador de los grupos Cálamus y Hoquetus\, además de director de dos de los conjuntos de música medieval española más relevantes\, Música Antigua e Ibn Báya\, que funda con el objetivo de difundir la cultura musical de la España de las Tres Culturas: judíos\, musulmanes y cristianos. En paralelo funda y dirige el sello discográfico PNEUMA. Por su trabajo y por la difusión de estas músicas recibe excelentes críticas y es galardonado como Mejor Artista de Música Clásica en los Premios de la Academia de la Música de España en 2009\, tras varios años de nominaciones. \n 
URL:https://merida.es/agenda/concierto-de-musica-antigua-de-eduardo-paniagua/
LOCATION:Basílica de Santa Eulalia
CATEGORIES:Música
ATTACH;FMTTYPE=image/jpeg:https://merida.es/wp-content/uploads/2024/11/2024-concierto-eduardo-paniagua-peq.jpg
END:VEVENT
BEGIN:VEVENT
DTSTART;TZID=Europe/Madrid:20241116T210000
DTEND;TZID=Europe/Madrid:20241116T210000
DTSTAMP:20260421T083259
CREATED:20240620T102408Z
LAST-MODIFIED:20241104T234941Z
UID:131877-1731790800-1731790800@merida.es
SUMMARY:III Festival Flamenco Mérida: "Joni Jimenez"
DESCRIPTION:ABRAZADOS SUEÑO Y TIEMPO es el nuevo espectáculo del guitarrista madrileño Joni Jiménez. Un espectáculo de guitarra flamenca\, intimista\, que pone sobre el escenario el sueño de un joven que ha dedicado su vida a las seis cuerdas. Tras rodar sus dos espectáculos por diferentes salas y teatros\, el artista madrileño ha sentido la necesidad de mostrarse tal cual es. El mismo con sus composiciones. La desnudez de su guitarra\, lo que él siente desde que se levanta hasta que se acuesta y su manera de vivirlo. Este espectáculo muestra su vida\, desde que su abuelo le enseñó a tocar\, la influencia de su padre\, sus momentos de escucha tanto de guitarra como de Cante\, su gran afición. \nSobre escena están él y sus instrumentos que tienen el protagonismo. Sobre las tablas sus guitarras expuestas pues para cada toque elige una diferente. Se rodea de Kelian Jiménez\, su escudero\, director artístico del espectáculo\, bailaor y quien lo acompaña en todo momento desde su niñez. Antonio Losada es el percusionista\, creando el ambiente rítmico que Joni necesita en cada momento. David de Jacoba su artista invitado\, para poder mostrar también la faceta del guitarrista \nMás información y venta de entradas: https://www.elcorteingles.es/entradas
URL:https://merida.es/agenda/iii-festival-flamenco-merida-joni-jimenez/
LOCATION:Teatro María Luisa\, Calle Camilo José Cela\, 9\, Mérida\, España
CATEGORIES:Música
ATTACH;FMTTYPE=image/jpeg:https://merida.es/wp-content/uploads/2024/06/2024-joni-jimenez-peq.jpg
END:VEVENT
END:VCALENDAR