﻿BEGIN:VCALENDAR
VERSION:2.0
PRODID:-//Ayuntamiento de Mérida - ECPv6.15.17.1//NONSGML v1.0//EN
CALSCALE:GREGORIAN
METHOD:PUBLISH
X-ORIGINAL-URL:https://merida.es
X-WR-CALDESC:Eventos para Ayuntamiento de Mérida
REFRESH-INTERVAL;VALUE=DURATION:PT1H
X-Robots-Tag:noindex
X-PUBLISHED-TTL:PT1H
BEGIN:VTIMEZONE
TZID:Europe/Madrid
BEGIN:DAYLIGHT
TZOFFSETFROM:+0100
TZOFFSETTO:+0200
TZNAME:CEST
DTSTART:20230326T010000
END:DAYLIGHT
BEGIN:STANDARD
TZOFFSETFROM:+0200
TZOFFSETTO:+0100
TZNAME:CET
DTSTART:20231029T010000
END:STANDARD
BEGIN:DAYLIGHT
TZOFFSETFROM:+0100
TZOFFSETTO:+0200
TZNAME:CEST
DTSTART:20240331T010000
END:DAYLIGHT
BEGIN:STANDARD
TZOFFSETFROM:+0200
TZOFFSETTO:+0100
TZNAME:CET
DTSTART:20241027T010000
END:STANDARD
BEGIN:DAYLIGHT
TZOFFSETFROM:+0100
TZOFFSETTO:+0200
TZNAME:CEST
DTSTART:20250330T010000
END:DAYLIGHT
BEGIN:STANDARD
TZOFFSETFROM:+0200
TZOFFSETTO:+0100
TZNAME:CET
DTSTART:20251026T010000
END:STANDARD
END:VTIMEZONE
BEGIN:VEVENT
DTSTART;VALUE=DATE:20241025
DTEND;VALUE=DATE:20241124
DTSTAMP:20260421T114947
CREATED:20240620T074208Z
LAST-MODIFIED:20241015T225708Z
UID:131856-1729814400-1732406399@merida.es
SUMMARY:III Festival Flamenco Mérida 2024
DESCRIPTION:Mérida acogerá la III Festival Flamenco Mérida Guitarra Española\, del 25 de octubre al 23 de noviembre de 2024\, para celebrar no solo el arte flamenco\, sino también para reforzar la capital extremeña como destino turístico y cultural de primer nivel. \nLa programación comenzará con la apertura el 25 de octubre donde se celebrará un concierto exclusivo de la cantaora Esperanza Fernández que contará con la participación de reconocidos artistas como Farruquito\, Jesús Méndez\, Miguel A. Cortés\, Rosario La Tremendita y Kiki Morente. Será el único de los conciertos que se lleve a cabo en el Palacio de Congresos de Mérida\, a partir de las 21:00 horas. \nEl 8 de noviembre\, el Teatro María Luisa será el escenario del espectáculo «Capitán de mis sueños»\, presentado por la Familia Camarón\, a las 21:00 horas. \nAl día siguiente\, el 9 de noviembre\, María Terremoto ofrecerá su actuación también en el Teatro María Luisa a las 21:00 horas\, prometiendo una velada llena de emociones y puro flamenco. \nEl 16 de noviembre\, Joni Jiménez presentará su espectáculo «Abrazados\, sueño y tiempo»\, acompañado por destacados artistas como David de la Jacoba\, Montse Cortés\, Antonio Losada y Kelian Jiménez. Este evento se celebrará en el Teatro María Luisa a las 21:00 horas\, ofreciendo una experiencia única. \nEl broche final será el 23 de noviembre con el cierre a cargo de Dorantes\, quien presentará su espectáculo «Un flamenco al piano» en el Teatro María Luisa a las 21:00 horas. \nEsta serie de espectáculos promete llevar al público a un viaje musical y emocional a través del arte flamenco\, consolidando una vez más el prestigio del festival. \nFinalmente\, este año\, el festival ha querido rendir homenaje a José Monge Cruz\, Camarón de la Isla\, quien recibe el premio Flamenco Universal 2024 a título póstumo. \nWeb oficial y Venta de Entradas: http://www.flamencouniversalmerida.es/
URL:https://merida.es/agenda/iii-festival-flamenco-merida-2024/
LOCATION:Varios puntos de la ciudad\, Mérida
CATEGORIES:Música
ATTACH;FMTTYPE=image/jpeg:https://merida.es/wp-content/uploads/2024/06/2024-festival-flamenco-merida-peq.jpg
END:VEVENT
BEGIN:VEVENT
DTSTART;VALUE=DATE:20241122
DTEND;VALUE=DATE:20241123
DTSTAMP:20260421T114947
CREATED:20241022T063133Z
LAST-MODIFIED:20241119T105426Z
UID:134759-1732233600-1732319999@merida.es
SUMMARY:Gala Solidaria por la Infancia en Gaza (APLAZADO)
DESCRIPTION:El Palacio de Congresos de Mérida acogerá el próximo 22 de noviembre una Gala Solidaria por la Infancia en Gaza en la que participarán todos aquellos emeritenses que a través de las artes de cualquier formato organizarán diferentes actividades para llenar el Palacio de Congresos en el auditorio mayor y en la terraza durante 12 horas. La entrada tendrá un precio de 5€ \nTodo lo recaudado irá destinadas a colaborar con el trabajo del Comité Nacional de UNRWA España en su respuesta humanitaria \nNOTA: La delegación de Cooperación y Migraciones ha decidido\, tras haber analizado con la propia agencia de las Naciones Unidas con la que se ha diseñado la acción solidaria por la Infancia en Gaza\, aplazar la misma para centrar los esfuerzos en ayudar a las personas afectadas por la DANA.
URL:https://merida.es/agenda/gala-solidaria-por-la-infancia-en-gaza/
LOCATION:Palacio de Congresos\, Avda. del Rio s/n\, Mérida
CATEGORIES:Benéfico,Danza,Música,Teatro
ATTACH;FMTTYPE=image/jpeg:https://merida.es/wp-content/uploads/2024/10/2024-gala-solidaria-gaza-peq.jpg
END:VEVENT
BEGIN:VEVENT
DTSTART;TZID=Europe/Madrid:20241122T200000
DTEND;TZID=Europe/Madrid:20241122T200000
DTSTAMP:20260421T114947
CREATED:20241120T203320Z
LAST-MODIFIED:20241120T203320Z
UID:135725-1732305600-1732305600@merida.es
SUMMARY:Concierto de Moser String Quartet (Cuarteto de cuerda)
DESCRIPTION:Nuevo concierto del ciclo 2024/25 de la Sociedad Filarmónica Esteban Sánchez/Juventudes Musicales de Mérida el viernes 22 de noviembre a cargo del cuarteto de cuerda Moser String Quartet. A las 20:00 horas\, en el Centro Cultural Santo Domingo con entrada libre. \nEl cuarteto ormado por Patricia Muro\, Élise Hiron\, Kanon Miyashita y Lea Galasso nos presentan un programa en el que podremos disfrutar del obras de H. Purcel\, W.A. Mozart y F. Mendelssohn.
URL:https://merida.es/agenda/concierto-de-moser-string-quartet-cuarteto-de-cuerda/
LOCATION:Centro Cultural Santo Domingo Fundación CB\, Plaza de Santo Domingo\, s/n\, Mérida
CATEGORIES:Música
ATTACH;FMTTYPE=image/jpeg:https://merida.es/wp-content/uploads/2024/11/moser-string-quartet-peq.jpg
END:VEVENT
END:VCALENDAR