﻿BEGIN:VCALENDAR
VERSION:2.0
PRODID:-//Ayuntamiento de Mérida - ECPv6.15.17.1//NONSGML v1.0//EN
CALSCALE:GREGORIAN
METHOD:PUBLISH
X-ORIGINAL-URL:https://merida.es
X-WR-CALDESC:Eventos para Ayuntamiento de Mérida
REFRESH-INTERVAL;VALUE=DURATION:PT1H
X-Robots-Tag:noindex
X-PUBLISHED-TTL:PT1H
BEGIN:VTIMEZONE
TZID:Europe/Madrid
BEGIN:DAYLIGHT
TZOFFSETFROM:+0100
TZOFFSETTO:+0200
TZNAME:CEST
DTSTART:20230326T010000
END:DAYLIGHT
BEGIN:STANDARD
TZOFFSETFROM:+0200
TZOFFSETTO:+0100
TZNAME:CET
DTSTART:20231029T010000
END:STANDARD
BEGIN:DAYLIGHT
TZOFFSETFROM:+0100
TZOFFSETTO:+0200
TZNAME:CEST
DTSTART:20240331T010000
END:DAYLIGHT
BEGIN:STANDARD
TZOFFSETFROM:+0200
TZOFFSETTO:+0100
TZNAME:CET
DTSTART:20241027T010000
END:STANDARD
BEGIN:DAYLIGHT
TZOFFSETFROM:+0100
TZOFFSETTO:+0200
TZNAME:CEST
DTSTART:20250330T010000
END:DAYLIGHT
BEGIN:STANDARD
TZOFFSETFROM:+0200
TZOFFSETTO:+0100
TZNAME:CET
DTSTART:20251026T010000
END:STANDARD
BEGIN:DAYLIGHT
TZOFFSETFROM:+0100
TZOFFSETTO:+0200
TZNAME:CEST
DTSTART:20260329T010000
END:DAYLIGHT
BEGIN:STANDARD
TZOFFSETFROM:+0200
TZOFFSETTO:+0100
TZNAME:CET
DTSTART:20261025T010000
END:STANDARD
END:VTIMEZONE
BEGIN:VEVENT
DTSTART;VALUE=DATE:20241129
DTEND;VALUE=DATE:20250106
DTSTAMP:20260420T220719
CREATED:20241126T161325Z
LAST-MODIFIED:20241201T234744Z
UID:135943-1732838400-1736121599@merida.es
SUMMARY:Navidad en Mérida
DESCRIPTION:La Navidad en Mérida arrancará oficialmente el viernes\, 29 de diciembre\, a las 19:00 horas con el Encendido Oficial en la Plaza de España. A continuación\, en la Plaza de España habrá Pasacalles\, Cañón de nieve y la actuación musical de AireArte con su espectáculo «A Belén por Rumbas». \nEn lo que respecta a las novedades\, sumado a los actos del fin del Año Jubilar Eulaliense\, Mérida ofrecerá un Espectáculo de Drones junto al Puente Romano que será espectacular el próximo 9 de diciembre. \nAsí mismo\, en IFEME se abrirá un Parque de Navidad\, Navilandia\, con atracciones y Pista de Hielo\, con múltiples actividades de todo tipo. La ciudad de la infancia a partir del 21 diciembre\, independientemente de si es o no festivo\, abrirá desde las 11:00h a las 20:00 horas. \nLa programación cultural para estas fechas tendrá al Teatro María Luisa como referente con la presencia de Pepe Viyuela\, José Luis Tristancho\, Los Furriones\, Pablo Carbonell y la soprano María Espada. Además\, diferentes espectáculos infantiles tanto en el propio Teatro María Luisa como en otros centros culturales de la ciudad. También los conciertos de villancicos por los coros de la ciudad serán protagonistas en la programación. \nHay que destacar también la Fiesta de las Preuvas\, en la plaza de España\, el domingo 29 de diciembre desde las 18:00 horas\, con conciertos de artistas nacionales y dj’s locales amenizando esta fiesta. Ese mismo día\, por la mañana\, se celebrarán las preuvas infantiles. Tampoco faltará el Concierto de Año Nuevo de la Orquesta de Extremadura. \nEl programa finaliza con la Gran Cabalgata de Reyes Magos que este año tendrá cerca de 20 carrozas y que volverá a contar con tramo sin ruido. \nProgramación Navidad en Mérida 2024 \nProgramación Navidad en Mérida 2024 (Lectura Fácil)
URL:https://merida.es/agenda/navidad-2024/
LOCATION:Varios puntos de la ciudad\, Mérida
CATEGORIES:Infantil,Música,Navidad,Ocio,Santa Eulalia,Teatro
ATTACH;FMTTYPE=image/jpeg:https://merida.es/wp-content/uploads/2024/11/2024-navidad-en-merida-banner.jpg
END:VEVENT
BEGIN:VEVENT
DTSTART;VALUE=DATE:20241130
DTEND;VALUE=DATE:20241201
DTSTAMP:20260420T220719
CREATED:20241122T083759Z
LAST-MODIFIED:20241122T083759Z
UID:135786-1732924800-1733011199@merida.es
SUMMARY:Inauguración del alumbrado de Navidad Montealto (2ª Quedada Motera ExtremaCustom)
DESCRIPTION:El próximo sábado día 30 de noviembre a las 19:00 horas los vecinos y vecinas de la barriada de Montealto procederán a iluminar sus fachadas con una gran fiesta vecinal durante toda la jornada. La participación de vecinos de este año superará la del 2023\, la temática será variada y por calles\, que sorprenderán e ilusionarán a los visitantes\, sobre todo a los más pequeños. \nA primera hora comenzarán a colocar sus decorados y a medio día\, en el parque de la barriada\, habrá concurso de migas y una garbanzada por gentileza de la Mejillonera para recibir a la Asociación motera ExtremaCustom\, que estarán acompañados por el Club Vespa Emérita\, la Asociación cultural de Vehículos Clásicos Ciudad de Mérida y Vespa Mérida. Estas asociaciones harán una Ruta Turística por las diferentes barriadas de la ciudad a las 17:00 horas. \nHabrá música DJ durante la jornada a cargo de Jonathan Santos. En el escenario situado en el parque contarán con la actuación de ECFART Vanesa Blanco\, Las Mellis\, un cuentacuentos y la presencia del Minion de Montealto\, quien no puede faltar. \nEn ese acto\, se hará entrega de un recuerdo cedido por el Ayuntamiento a los participantes\, agradeciendo su colaboración de forma altruista. Desde la Asociación recuerdan que esta iniciativa sólo es posible gracias a los vecinos por lo que invitan a a toda la ciudadanía de Mérida y comarca a que les acompañen este día tan especial.
URL:https://merida.es/agenda/inauguracion-del-alumbrado-de-navidad-montealto-2a-quedada-motera-extremacustom/
LOCATION:Barriada de Montealto\, Mérida\, Badajoz\, 06800\, España
CATEGORIES:Música,Navidad
ATTACH;FMTTYPE=image/jpeg:https://merida.es/wp-content/uploads/2024/11/2024-extrema-custom-peq.jpg
END:VEVENT
BEGIN:VEVENT
DTSTART;TZID=Europe/Madrid:20241130T120000
DTEND;TZID=Europe/Madrid:20241130T120000
DTSTAMP:20260420T220719
CREATED:20241127T112153Z
LAST-MODIFIED:20241127T112153Z
UID:135982-1732968000-1732968000@merida.es
SUMMARY:Audiciones y Fundación 'Coro Gospel Experience Mérida'
DESCRIPTION:El Centro Cultural Alcazaba acoge el sábado 30 de noviembre\, a las 12:00 horas\, las audiciones para formar parte del Gospel Experience Project incluido en la red internacional con 22 coros en España y 2 en Italia. Ana Torres será la directora artística y musical del proyecto en Mérida. \nMás información: https://www.just4you.es/merida/
URL:https://merida.es/agenda/audiciones-y-fundacion-coro-gospel-experience-merida/
LOCATION:Centro Cultural Alcazaba\, Calle John Lennon\, 5\, Mérida
CATEGORIES:Música
ATTACH;FMTTYPE=image/jpeg:https://merida.es/wp-content/uploads/2024/11/2024-casting-gospel-peq.jpeg
END:VEVENT
BEGIN:VEVENT
DTSTART;TZID=Europe/Madrid:20241130T203000
DTEND;TZID=Europe/Madrid:20241130T203000
DTSTAMP:20260420T220719
CREATED:20241120T203935Z
LAST-MODIFIED:20241120T203935Z
UID:135728-1732998600-1732998600@merida.es
SUMMARY:II Concierto A.M. Nuestra Señora de la Paz en honor a la Patrona Santa Eulalia
DESCRIPTION:El sábado 30 de noviembre\, la Agrupación Musical de La Paz ofrecerá un concierto en honor a la patrona Santa Eulalia en su Basílica en donde interpretará diferentes marchas.
URL:https://merida.es/agenda/ii-concierto-a-m-nuestra-senora-de-la-paz-en-honor-a-la-patrona-santa-eulalia/
LOCATION:Basílica de Santa Eulalia
CATEGORIES:Música,Santa Eulalia
ATTACH;FMTTYPE=image/jpeg:https://merida.es/wp-content/uploads/2024/11/2024-concierto-amlapaz-peq.jpg
END:VEVENT
END:VCALENDAR