﻿BEGIN:VCALENDAR
VERSION:2.0
PRODID:-//Ayuntamiento de Mérida - ECPv6.15.17.1//NONSGML v1.0//EN
CALSCALE:GREGORIAN
METHOD:PUBLISH
X-WR-CALNAME:Ayuntamiento de Mérida
X-ORIGINAL-URL:https://merida.es
X-WR-CALDESC:Eventos para Ayuntamiento de Mérida
REFRESH-INTERVAL;VALUE=DURATION:PT1H
X-Robots-Tag:noindex
X-PUBLISHED-TTL:PT1H
BEGIN:VTIMEZONE
TZID:Europe/Madrid
BEGIN:DAYLIGHT
TZOFFSETFROM:+0100
TZOFFSETTO:+0200
TZNAME:CEST
DTSTART:20230326T010000
END:DAYLIGHT
BEGIN:STANDARD
TZOFFSETFROM:+0200
TZOFFSETTO:+0100
TZNAME:CET
DTSTART:20231029T010000
END:STANDARD
BEGIN:DAYLIGHT
TZOFFSETFROM:+0100
TZOFFSETTO:+0200
TZNAME:CEST
DTSTART:20240331T010000
END:DAYLIGHT
BEGIN:STANDARD
TZOFFSETFROM:+0200
TZOFFSETTO:+0100
TZNAME:CET
DTSTART:20241027T010000
END:STANDARD
BEGIN:DAYLIGHT
TZOFFSETFROM:+0100
TZOFFSETTO:+0200
TZNAME:CEST
DTSTART:20250330T010000
END:DAYLIGHT
BEGIN:STANDARD
TZOFFSETFROM:+0200
TZOFFSETTO:+0100
TZNAME:CET
DTSTART:20251026T010000
END:STANDARD
BEGIN:DAYLIGHT
TZOFFSETFROM:+0100
TZOFFSETTO:+0200
TZNAME:CEST
DTSTART:20260329T010000
END:DAYLIGHT
BEGIN:STANDARD
TZOFFSETFROM:+0200
TZOFFSETTO:+0100
TZNAME:CET
DTSTART:20261025T010000
END:STANDARD
END:VTIMEZONE
BEGIN:VEVENT
DTSTART;VALUE=DATE:20241129
DTEND;VALUE=DATE:20250106
DTSTAMP:20260420T005433
CREATED:20241126T161325Z
LAST-MODIFIED:20241201T234744Z
UID:135943-1732838400-1736121599@merida.es
SUMMARY:Navidad en Mérida
DESCRIPTION:La Navidad en Mérida arrancará oficialmente el viernes\, 29 de diciembre\, a las 19:00 horas con el Encendido Oficial en la Plaza de España. A continuación\, en la Plaza de España habrá Pasacalles\, Cañón de nieve y la actuación musical de AireArte con su espectáculo «A Belén por Rumbas». \nEn lo que respecta a las novedades\, sumado a los actos del fin del Año Jubilar Eulaliense\, Mérida ofrecerá un Espectáculo de Drones junto al Puente Romano que será espectacular el próximo 9 de diciembre. \nAsí mismo\, en IFEME se abrirá un Parque de Navidad\, Navilandia\, con atracciones y Pista de Hielo\, con múltiples actividades de todo tipo. La ciudad de la infancia a partir del 21 diciembre\, independientemente de si es o no festivo\, abrirá desde las 11:00h a las 20:00 horas. \nLa programación cultural para estas fechas tendrá al Teatro María Luisa como referente con la presencia de Pepe Viyuela\, José Luis Tristancho\, Los Furriones\, Pablo Carbonell y la soprano María Espada. Además\, diferentes espectáculos infantiles tanto en el propio Teatro María Luisa como en otros centros culturales de la ciudad. También los conciertos de villancicos por los coros de la ciudad serán protagonistas en la programación. \nHay que destacar también la Fiesta de las Preuvas\, en la plaza de España\, el domingo 29 de diciembre desde las 18:00 horas\, con conciertos de artistas nacionales y dj’s locales amenizando esta fiesta. Ese mismo día\, por la mañana\, se celebrarán las preuvas infantiles. Tampoco faltará el Concierto de Año Nuevo de la Orquesta de Extremadura. \nEl programa finaliza con la Gran Cabalgata de Reyes Magos que este año tendrá cerca de 20 carrozas y que volverá a contar con tramo sin ruido. \nProgramación Navidad en Mérida 2024 \nProgramación Navidad en Mérida 2024 (Lectura Fácil)
URL:https://merida.es/agenda/navidad-2024/
LOCATION:Varios puntos de la ciudad\, Mérida
CATEGORIES:Infantil,Música,Navidad,Ocio,Santa Eulalia,Teatro
ATTACH;FMTTYPE=image/jpeg:https://merida.es/wp-content/uploads/2024/11/2024-navidad-en-merida-banner.jpg
END:VEVENT
BEGIN:VEVENT
DTSTART;TZID=Europe/Madrid:20241220T180000
DTEND;TZID=Europe/Madrid:20241220T180000
DTSTAMP:20260420T005433
CREATED:20241214T065712Z
LAST-MODIFIED:20241214T065712Z
UID:136531-1734717600-1734717600@merida.es
SUMMARY:Zambomba Flamenca 'Al son de la Navidad'
DESCRIPTION:El Museo Abierto de Mérida MAM será escenario de la Zambomba Flamenca ‘Al son de la Navidad’ el viernes 20 de diciembre\, a partir de las 18:00h horas.
URL:https://merida.es/agenda/zambomba-flamenca-al-son-de-la-navidad-2/
LOCATION:Museo Abierto de Mérida MAM\, Calle Cabo Verde\, s/n\, Mérida
CATEGORIES:Música,Navidad
ATTACH;FMTTYPE=image/jpeg:https://merida.es/wp-content/uploads/2024/12/2024-zambomba-son-navidad-peq.jpeg
END:VEVENT
BEGIN:VEVENT
DTSTART;TZID=Europe/Madrid:20241220T200000
DTEND;TZID=Europe/Madrid:20241220T200000
DTSTAMP:20260420T005433
CREATED:20241211T143908Z
LAST-MODIFIED:20241211T145706Z
UID:136399-1734724800-1734724800@merida.es
SUMMARY:Concierto: "El Bosque"
DESCRIPTION:El próximo 20 de diciembre a las 20:00h tendrá lugar en el Teatro María Luisa de Mérida el estreno absoluto de este particular recital de la mano de la renombrada soprano María Espada y el talentoso pianista Abraham Samino\, que nos descubrirán un poderoso repertorio para voz y piano lleno de fantasía\, melancolía y virtuosismo a través de una narrativa única que combina el recital lírico con el espectáculo audiovisual. \nAcompañadas de un mágico despliegue de ilustraciones digitalmente animadas y proyectadas como si se tratara de una delicada película de animación\, la selección de piezas de Lied de Schubert\, Liszt\, Debussy\, Rachmaninov\, etc.\, trazan el hilo conductor de este peculiar relato donde descubrimos a Erika\, la protagonista de la historia\, y viajamos con ella a un mundo de sueños donde El Bosque cobra vida. \nUn estreno que reúne todos los ingredientes para convertirse en una pieza de autor a nivel nacional e internacional. \nPiano: Abraham Samino\nSoprano: María Espada\nIdea original\, guión y dirección: Abraham Samino \nCreación Audiovisual: Carlos Lucas\nIlustraciones: Susana Santos \nEntradas: https://www.entradas.com
URL:https://merida.es/agenda/concierto-el-bosque/
LOCATION:Teatro María Luisa\, Calle Camilo José Cela\, 9\, Mérida\, España
CATEGORIES:Música
ATTACH;FMTTYPE=image/jpeg:https://merida.es/wp-content/uploads/2024/12/2024-el-bosque-peq.jpg
END:VEVENT
BEGIN:VEVENT
DTSTART;TZID=Europe/Madrid:20241220T210000
DTEND;TZID=Europe/Madrid:20241220T210000
DTSTAMP:20260420T005433
CREATED:20241216T081320Z
LAST-MODIFIED:20241216T081320Z
UID:136546-1734728400-1734728400@merida.es
SUMMARY:Concierto-Exaltación a la Navidad
DESCRIPTION:El próximo viernes 20 de Diciembre\, la Hermandad del Calvario organiza el Concierto-Exaltación de la Navidad que este año será a cargo de José Luis García Orio-Zabala de la Maza (Delegado Episcopal para Hermandades y Cofradías). Actuarán el Coro de la Basílica de Santa Eulalia\, el Coro de las Josefinas y el Coro Parroquial Cristo Rey. Habrá recogida de juguetes para los afectados por la DANA.
URL:https://merida.es/agenda/concierto-exaltacion-a-la-navidad/
LOCATION:Parroquia de Cristo Rey
CATEGORIES:Música,Navidad
ATTACH;FMTTYPE=image/jpeg:https://merida.es/wp-content/uploads/2024/12/2024-exhaltacion-navidad-peq.jpg
END:VEVENT
END:VCALENDAR