﻿BEGIN:VCALENDAR
VERSION:2.0
PRODID:-//Ayuntamiento de Mérida - ECPv6.15.17.1//NONSGML v1.0//EN
CALSCALE:GREGORIAN
METHOD:PUBLISH
X-ORIGINAL-URL:https://merida.es
X-WR-CALDESC:Eventos para Ayuntamiento de Mérida
REFRESH-INTERVAL;VALUE=DURATION:PT1H
X-Robots-Tag:noindex
X-PUBLISHED-TTL:PT1H
BEGIN:VTIMEZONE
TZID:Europe/Madrid
BEGIN:DAYLIGHT
TZOFFSETFROM:+0100
TZOFFSETTO:+0200
TZNAME:CEST
DTSTART:20170326T010000
END:DAYLIGHT
BEGIN:STANDARD
TZOFFSETFROM:+0200
TZOFFSETTO:+0100
TZNAME:CET
DTSTART:20171029T010000
END:STANDARD
BEGIN:DAYLIGHT
TZOFFSETFROM:+0100
TZOFFSETTO:+0200
TZNAME:CEST
DTSTART:20180325T010000
END:DAYLIGHT
BEGIN:STANDARD
TZOFFSETFROM:+0200
TZOFFSETTO:+0100
TZNAME:CET
DTSTART:20181028T010000
END:STANDARD
BEGIN:DAYLIGHT
TZOFFSETFROM:+0100
TZOFFSETTO:+0200
TZNAME:CEST
DTSTART:20190331T010000
END:DAYLIGHT
BEGIN:STANDARD
TZOFFSETFROM:+0200
TZOFFSETTO:+0100
TZNAME:CET
DTSTART:20191027T010000
END:STANDARD
END:VTIMEZONE
BEGIN:VEVENT
DTSTART;TZID=Europe/Madrid:20181208T210000
DTEND;TZID=Europe/Madrid:20181208T210000
DTSTAMP:20260420T064721
CREATED:20181205T183852Z
LAST-MODIFIED:20181205T183852Z
UID:62649-1544302800-1544302800@merida.es
SUMMARY:Vídeo mapping 25º aniversario Mérida patrimonio humanidad
DESCRIPTION:Este sábado\, 8 de diciembre\, se proyectará sobre la fachada del Ayuntamiento un video mapping que explica la historia de la ciudad desde su fundación a nuestros días con motivo del XXV Aniversario de la declaración de Mérida como Patrimonio de la Humanidad.\nEl videomapping tiene una duración de 10 minutos y habrá tres sesiones: 21:00\, 21:30 y 22:00 horas.
URL:https://merida.es/agenda/video-mapping-25o-aniversario-merida-patrimonio-humanidad/
LOCATION:Plaza de España\, Mérida
CATEGORIES:Navidad,Ocio
ATTACH;FMTTYPE=image/jpeg:https://merida.es/wp-content/uploads/2018/12/mapping-peq.jpg
END:VEVENT
BEGIN:VEVENT
DTSTART;VALUE=DATE:20181227
DTEND;VALUE=DATE:20181230
DTSTAMP:20260420T064721
CREATED:20181221T103241Z
LAST-MODIFIED:20181221T103241Z
UID:62986-1545868800-1546127999@merida.es
SUMMARY:Navidad en el Museo
DESCRIPTION:  \nLos días 27\, 28 y 29 de diciembre\, el Museo Nacional de Arte Romano organiza la actividad ‘Navidad en el Museo’\, de 16 a 18:30 horas\, en donde se celebrará la fiesta de las Satvrnalia recordando cuáles eran los ritos que tenían lugar en estas fechas y comparándolos con nuestras Navidades actuales.\nSatvrnalia para adultos: dirigida a mayores de 18 años. \nLugar: Planta baja del MNAR\nPrecio por persona: 12 euros (10 euros para Amigos del Museo).\nSatvrnalia para niños/as: deberán venir acompañados de sus padres (que participarán en la actividad de Satvrnalia para adultos). \nLugar: Sala de Actividades Educativas del MNAR\nEdades: entre 6 y 12 años (ambos incluidos).\nPrecio: 7 euros (5 euros para Amigos del Museo).\nLas inscripciones tendrán lugar en el MNAR\, los días 19\, 20\, 21 y 26 de diciembre\, de 10 a 13 horas.
URL:https://merida.es/agenda/navidad-en-el-museo/
LOCATION:Museo Nacional de Arte Romano\, Calle José Ramón Mélida\, Mérida\, Badajoz\, 06800\, España
CATEGORIES:Navidad,Ocio,Recreación
ATTACH;FMTTYPE=image/jpeg:https://merida.es/wp-content/uploads/2018/12/satvrnalia-peq.jpg
END:VEVENT
BEGIN:VEVENT
DTSTART;TZID=Europe/Madrid:20181230T220000
DTEND;TZID=Europe/Madrid:20181230T220000
DTSTAMP:20260420T064721
CREATED:20181228T160448Z
LAST-MODIFIED:20181228T160448Z
UID:63090-1546207200-1546207200@merida.es
SUMMARY:Fiesta de las Pre Uvas
DESCRIPTION:La Plaza de España acoge\, el domingo 30 de diciembre\, la Fiesta de Preuvas\, para despedir el 2018\, que se desarrollará desde las 22 horas hasta la 1 de la madrugada con animación\, dj\, speaker\, iluminación y sonido para que\, a las 12 de la noche\, tras una cuenta atrás\, suenen las doce campanadas.\nLos empresarios de la Plaza de España: kioscos\, Moett\, Amazónico y Callejón\, ofrecerán uvas y bolsas de cotillón a los asistentes con sus respectivas consumiciones.
URL:https://merida.es/agenda/fiesta-de-las-pre-uvas/
LOCATION:Plaza de España\, Mérida
CATEGORIES:Navidad,Ocio
ATTACH;FMTTYPE=image/jpeg:https://merida.es/wp-content/uploads/2018/12/2018-preuvas-peq.jpg
END:VEVENT
END:VCALENDAR