﻿BEGIN:VCALENDAR
VERSION:2.0
PRODID:-//Ayuntamiento de Mérida - ECPv6.15.17.1//NONSGML v1.0//EN
CALSCALE:GREGORIAN
METHOD:PUBLISH
X-WR-CALNAME:Ayuntamiento de Mérida
X-ORIGINAL-URL:https://merida.es
X-WR-CALDESC:Eventos para Ayuntamiento de Mérida
REFRESH-INTERVAL;VALUE=DURATION:PT1H
X-Robots-Tag:noindex
X-PUBLISHED-TTL:PT1H
BEGIN:VTIMEZONE
TZID:Europe/Madrid
BEGIN:DAYLIGHT
TZOFFSETFROM:+0100
TZOFFSETTO:+0200
TZNAME:CEST
DTSTART:20160327T010000
END:DAYLIGHT
BEGIN:STANDARD
TZOFFSETFROM:+0200
TZOFFSETTO:+0100
TZNAME:CET
DTSTART:20161030T010000
END:STANDARD
BEGIN:DAYLIGHT
TZOFFSETFROM:+0100
TZOFFSETTO:+0200
TZNAME:CEST
DTSTART:20170326T010000
END:DAYLIGHT
BEGIN:STANDARD
TZOFFSETFROM:+0200
TZOFFSETTO:+0100
TZNAME:CET
DTSTART:20171029T010000
END:STANDARD
BEGIN:DAYLIGHT
TZOFFSETFROM:+0100
TZOFFSETTO:+0200
TZNAME:CEST
DTSTART:20180325T010000
END:DAYLIGHT
BEGIN:STANDARD
TZOFFSETFROM:+0200
TZOFFSETTO:+0100
TZNAME:CET
DTSTART:20181028T010000
END:STANDARD
END:VTIMEZONE
BEGIN:VEVENT
DTSTART;TZID=Europe/Madrid:20170422T170000
DTEND;TZID=Europe/Madrid:20170422T170000
DTSTAMP:20260420T033832
CREATED:20170221T183155Z
LAST-MODIFIED:20170221T183155Z
UID:48069-1492880400-1492880400@merida.es
SUMMARY:Run4Fest (La carrera del color)
DESCRIPTION:La denominada Run4Fest será una prueba en la que se unan el deporte familiar\, la diversión y el color y se celebrará en el entorno del ferial y el parque de la isla del Guadiana en la que también se incluirá una zona de ambientación musical.\nLa prueba forma parte del Desafío Cuatro Estaciones organizado por la Diputación de Badajoz\, un innovador concepto de competiciones deportivas que brindan a sus participantes una nueva forma de entender y disfrutar el deporte que llegará\, junto a Mérida\, a las localidades de Badajoz\, Zafra y Villanueva de la Serena.\nLa Run4Fest es una prueba diferente y colorida\, una carrera de 5 kilómetros en los que los corredores salen de blanco y en cada kilómetro del recorrido se les lanzan polvos de diferentes colores\, en cada punto un color distinto\, además cuenta con una zona central en la que la animación y la música invitan al corredor a vivir una experiencia única e indescriptible. Para los más pequeños el recorrido será de un kilómetro. Se entregarán trofeos para los tres primeros clasificados absolutos por sexo y modalidades y cada corredor recibirá un kit (camiseta\, bolsa con polvos de colores\, medalla\, gafas) por participar.\nEl circuito trascurre por el Parque de la Isla y la hora del comienzo de actividades será a las 17 horas del sábado 22 de abril en el Recinto Ferial. \nInformación e inscripciones: www.circuitocuatroestaciones.es
URL:https://merida.es/agenda/run4fest-la-carrera-del-color/
LOCATION:Parque de la Isla\, (Junto al Recinto Ferial)\, Mérida
CATEGORIES:Deporte,Ocio
ATTACH;FMTTYPE=image/jpeg:https://merida.es/wp-content/uploads/2017/02/run4fest-peq.jpg
END:VEVENT
END:VCALENDAR