﻿BEGIN:VCALENDAR
VERSION:2.0
PRODID:-//Ayuntamiento de Mérida - ECPv6.15.17.1//NONSGML v1.0//EN
CALSCALE:GREGORIAN
METHOD:PUBLISH
X-ORIGINAL-URL:https://merida.es
X-WR-CALDESC:Eventos para Ayuntamiento de Mérida
REFRESH-INTERVAL;VALUE=DURATION:PT1H
X-Robots-Tag:noindex
X-PUBLISHED-TTL:PT1H
BEGIN:VTIMEZONE
TZID:Europe/Madrid
BEGIN:DAYLIGHT
TZOFFSETFROM:+0100
TZOFFSETTO:+0200
TZNAME:CEST
DTSTART:20170326T010000
END:DAYLIGHT
BEGIN:STANDARD
TZOFFSETFROM:+0200
TZOFFSETTO:+0100
TZNAME:CET
DTSTART:20171029T010000
END:STANDARD
BEGIN:DAYLIGHT
TZOFFSETFROM:+0100
TZOFFSETTO:+0200
TZNAME:CEST
DTSTART:20180325T010000
END:DAYLIGHT
BEGIN:STANDARD
TZOFFSETFROM:+0200
TZOFFSETTO:+0100
TZNAME:CET
DTSTART:20181028T010000
END:STANDARD
BEGIN:DAYLIGHT
TZOFFSETFROM:+0100
TZOFFSETTO:+0200
TZNAME:CEST
DTSTART:20190331T010000
END:DAYLIGHT
BEGIN:STANDARD
TZOFFSETFROM:+0200
TZOFFSETTO:+0100
TZNAME:CET
DTSTART:20191027T010000
END:STANDARD
END:VTIMEZONE
BEGIN:VEVENT
DTSTART;VALUE=DATE:20180912
DTEND;VALUE=DATE:20180913
DTSTAMP:20260419T141140
CREATED:20180906T073152Z
LAST-MODIFIED:20180906T073152Z
UID:60725-1536710400-1536796799@merida.es
SUMMARY:Campeonato de Extremadura de Coctelería
DESCRIPTION:El 12 de septiembre se celebra\, en la Plaza de España\, el Campeonato de Extremadura de Coctelería organizado por SUBEX (Club de Sommelier & Bartender de Extremadura) que pertenece a FABE (Federación de Asociaciones de Barmans Españoles). Habrá tres modalidades\, de Gin Tonic\, de Whisky con Ginger ale\, y de Cachaça. Habrá un jurado técnico que valorará el orden en la elaboración y otras cuestiones reflejadas\, y que pertenecen a diferentes asociaciones y bodegas que colaboran en el evento.
URL:https://merida.es/agenda/campeonato-de-extremadura-de-cocteleria/
LOCATION:Plaza de España\, Mérida
CATEGORIES:Gastronomía,Ocio
ATTACH;FMTTYPE=image/jpeg:https://merida.es/wp-content/uploads/2018/09/cto-cocteleria-peq2.jpg
END:VEVENT
END:VCALENDAR