﻿BEGIN:VCALENDAR
VERSION:2.0
PRODID:-//Ayuntamiento de Mérida - ECPv6.15.17.1//NONSGML v1.0//EN
CALSCALE:GREGORIAN
METHOD:PUBLISH
X-WR-CALNAME:Ayuntamiento de Mérida
X-ORIGINAL-URL:https://merida.es
X-WR-CALDESC:Eventos para Ayuntamiento de Mérida
REFRESH-INTERVAL;VALUE=DURATION:PT1H
X-Robots-Tag:noindex
X-PUBLISHED-TTL:PT1H
BEGIN:VTIMEZONE
TZID:Europe/Madrid
BEGIN:DAYLIGHT
TZOFFSETFROM:+0100
TZOFFSETTO:+0200
TZNAME:CEST
DTSTART:20170326T010000
END:DAYLIGHT
BEGIN:STANDARD
TZOFFSETFROM:+0200
TZOFFSETTO:+0100
TZNAME:CET
DTSTART:20171029T010000
END:STANDARD
BEGIN:DAYLIGHT
TZOFFSETFROM:+0100
TZOFFSETTO:+0200
TZNAME:CEST
DTSTART:20180325T010000
END:DAYLIGHT
BEGIN:STANDARD
TZOFFSETFROM:+0200
TZOFFSETTO:+0100
TZNAME:CET
DTSTART:20181028T010000
END:STANDARD
BEGIN:DAYLIGHT
TZOFFSETFROM:+0100
TZOFFSETTO:+0200
TZNAME:CEST
DTSTART:20190331T010000
END:DAYLIGHT
BEGIN:STANDARD
TZOFFSETFROM:+0200
TZOFFSETTO:+0100
TZNAME:CET
DTSTART:20191027T010000
END:STANDARD
END:VTIMEZONE
BEGIN:VEVENT
DTSTART;VALUE=DATE:20180915
DTEND;VALUE=DATE:20180916
DTSTAMP:20260419T141221
CREATED:20180911T101821Z
LAST-MODIFIED:20220812T114622Z
UID:60792-1536969600-1537055999@merida.es
SUMMARY:La Noche del Patrimonio 2018
DESCRIPTION:En 2018\, coincidiendo con la celebración del Año Europeo del Patrimonio Cultural\, las 15 ciudades españolas incluidas en la privilegiada Lista de la UNESCO conmemoran el 25 aniversario de la creación del Grupo de Ciudades Patrimonio de la Humanidad de España. Uno de los actos más destacados del Grupo dentro la programación diseñada para celebrar su 25 aniversario\, será ‘La Noche del Patrimonio’\, un evento que en su planteamiento\, está formada por cuatro secciones en las que tendrán cabida las artes escénicas contemporáneas\, jornadas de puertas abiertas de monumentos\, actividades culturales y de ocio en los cascos históricos\, y la creatividad del colectivo Boamistura\, que estrenará su película “Laberintos Líricos”. En Mérida\, la programación es la siguiente:\nESCENA PATRIMONIO\n>> 23:25h. Templo de Diana\nManuel Liñán/CON-VIVENCIAS\nCon-vivencias es un espectáculo creado para espacios no convencionales. Un concepto que se mueve entre la tradición y la vanguardia\, una manera de exponer las inquietudes de dos artistas\, sacando así la parte mas experimental.\nVIVE PATRIMONIO\n>> Ruta Mérida Secreta\, recorrido por todo el patrimonio de la ciudad contando sus mitos y leyendas\, bajo el nombre de “El Alma de las Piedras”. Se realizan dos pases de 20:00–21:30h y de 21:40–23:00h.\n>> 20:25h. Pórtico del Foro.\nCuentos del Patrimonio\, espectáculo dirigido a publico infantil y familiar que cuenta de forma amena y divertida la importancia que tienen los bienes patrimoniales de nuestra ciudad a través de canciones\, juegos y bailes.\n>> 21:25h. Templo de Diana\nActo Inaugural a cargo del alcalde.\n>> 21:45h. Plaza de la Constitución (junto al Parador)\nActuación lírica del tenor Guillermo Segovia\n>> 22:00h. Templo de Diana\nActuación de la bailaora flamenca Fuensanta Blanco\n>> 22:00h. Museo Nacional de Arte Romano\nVisitas gratuitas y guiadas por los voluntarios culturales a la exposición “Mythos. Creencias en Augusta Emerita”\n>> 22:00h. Acueducto de Los Milagros\nMusical “Un mundo en planetas. El Principito” a cargo de la Joven Orquesta Ciudad de Mérida (JOCME).\n>> 23:00h. Patio Convento de Santa Clara (Sede del Consorcio)\nConcierto Coral Augusta Emérita\n>> 23:15h. Museo Nacional de Arte Romano.\nRecreaciones Históricas: “Las tres caras de Hécate” y «Del lugar y tiempo del Amor».\nBOAMISTURA. LABERINTOS LÍRICOS\n>> 21:00h. Centro Cultural Alcazaba\nProyección de la película del colectivo Boamistura que resume el proyecto desarrollado a lo largo de 2017 y 2018 en las 15 Ciudades Patrimonio de la Humanidad de España.\nABIERTO PATRIMONIO\nMérida tendrá jornada de puertas abiertas\, hasta las 00:00h\, en los siguientes espacios: Museo Nacional de Arte Romano\, Museo Visigodo\, Teatro Romano\, Anfiteatro Romano\, Museo Municipal El Costurero\, MAM (Museo Abierto de Mérida)\, Centro Cultural Alcazaba\, Pórtico del Foro\, Templo de Diana\, Palacio de los Corbos\, Convento Santa Clara\, Cripta Santa Eulalia\, Alcazaba Árabe\, Acueducto los Milagros y Aula Cultural Santo Domingo\n[list]\n[li type=»glyphicon-arrow-right»]Descargar Programa ‘La Noche del Patrimonio'[/li]\n[/list]
URL:https://merida.es/agenda/la-noche-del-patrimonio/
LOCATION:Varios puntos de la ciudad\, Mérida
CATEGORIES:Danza,Infantil,Música,Ocio,Recreación,Visita Guiada
ATTACH;FMTTYPE=image/jpeg:https://merida.es/wp-content/uploads/2018/09/noche-patrimonio-banner2.jpg
END:VEVENT
END:VCALENDAR