﻿BEGIN:VCALENDAR
VERSION:2.0
PRODID:-//Ayuntamiento de Mérida - ECPv6.15.17.1//NONSGML v1.0//EN
CALSCALE:GREGORIAN
METHOD:PUBLISH
X-ORIGINAL-URL:https://merida.es
X-WR-CALDESC:Eventos para Ayuntamiento de Mérida
REFRESH-INTERVAL;VALUE=DURATION:PT1H
X-Robots-Tag:noindex
X-PUBLISHED-TTL:PT1H
BEGIN:VTIMEZONE
TZID:Europe/Madrid
BEGIN:DAYLIGHT
TZOFFSETFROM:+0100
TZOFFSETTO:+0200
TZNAME:CEST
DTSTART:20170326T010000
END:DAYLIGHT
BEGIN:STANDARD
TZOFFSETFROM:+0200
TZOFFSETTO:+0100
TZNAME:CET
DTSTART:20171029T010000
END:STANDARD
BEGIN:DAYLIGHT
TZOFFSETFROM:+0100
TZOFFSETTO:+0200
TZNAME:CEST
DTSTART:20180325T010000
END:DAYLIGHT
BEGIN:STANDARD
TZOFFSETFROM:+0200
TZOFFSETTO:+0100
TZNAME:CET
DTSTART:20181028T010000
END:STANDARD
BEGIN:DAYLIGHT
TZOFFSETFROM:+0100
TZOFFSETTO:+0200
TZNAME:CEST
DTSTART:20190331T010000
END:DAYLIGHT
BEGIN:STANDARD
TZOFFSETFROM:+0200
TZOFFSETTO:+0100
TZNAME:CET
DTSTART:20191027T010000
END:STANDARD
END:VTIMEZONE
BEGIN:VEVENT
DTSTART;TZID=Europe/Madrid:20181230T220000
DTEND;TZID=Europe/Madrid:20181230T220000
DTSTAMP:20260423T044402
CREATED:20181228T160448Z
LAST-MODIFIED:20181228T160448Z
UID:63090-1546207200-1546207200@merida.es
SUMMARY:Fiesta de las Pre Uvas
DESCRIPTION:La Plaza de España acoge\, el domingo 30 de diciembre\, la Fiesta de Preuvas\, para despedir el 2018\, que se desarrollará desde las 22 horas hasta la 1 de la madrugada con animación\, dj\, speaker\, iluminación y sonido para que\, a las 12 de la noche\, tras una cuenta atrás\, suenen las doce campanadas.\nLos empresarios de la Plaza de España: kioscos\, Moett\, Amazónico y Callejón\, ofrecerán uvas y bolsas de cotillón a los asistentes con sus respectivas consumiciones.
URL:https://merida.es/agenda/fiesta-de-las-pre-uvas/
LOCATION:Plaza de España\, Mérida
CATEGORIES:Navidad,Ocio
ATTACH;FMTTYPE=image/jpeg:https://merida.es/wp-content/uploads/2018/12/2018-preuvas-peq.jpg
END:VEVENT
END:VCALENDAR