﻿BEGIN:VCALENDAR
VERSION:2.0
PRODID:-//Ayuntamiento de Mérida - ECPv6.15.17.1//NONSGML v1.0//EN
CALSCALE:GREGORIAN
METHOD:PUBLISH
X-WR-CALNAME:Ayuntamiento de Mérida
X-ORIGINAL-URL:https://merida.es
X-WR-CALDESC:Eventos para Ayuntamiento de Mérida
REFRESH-INTERVAL;VALUE=DURATION:PT1H
X-Robots-Tag:noindex
X-PUBLISHED-TTL:PT1H
BEGIN:VTIMEZONE
TZID:Europe/Madrid
BEGIN:DAYLIGHT
TZOFFSETFROM:+0100
TZOFFSETTO:+0200
TZNAME:CEST
DTSTART:20230326T010000
END:DAYLIGHT
BEGIN:STANDARD
TZOFFSETFROM:+0200
TZOFFSETTO:+0100
TZNAME:CET
DTSTART:20231029T010000
END:STANDARD
BEGIN:DAYLIGHT
TZOFFSETFROM:+0100
TZOFFSETTO:+0200
TZNAME:CEST
DTSTART:20240331T010000
END:DAYLIGHT
BEGIN:STANDARD
TZOFFSETFROM:+0200
TZOFFSETTO:+0100
TZNAME:CET
DTSTART:20241027T010000
END:STANDARD
BEGIN:DAYLIGHT
TZOFFSETFROM:+0100
TZOFFSETTO:+0200
TZNAME:CEST
DTSTART:20250330T010000
END:DAYLIGHT
BEGIN:STANDARD
TZOFFSETFROM:+0200
TZOFFSETTO:+0100
TZNAME:CET
DTSTART:20251026T010000
END:STANDARD
END:VTIMEZONE
BEGIN:VEVENT
DTSTART;VALUE=DATE:20240509
DTEND;VALUE=DATE:20240511
DTSTAMP:20260420T050221
CREATED:20240508T123558Z
LAST-MODIFIED:20240508T124203Z
UID:130668-1715212800-1715385599@merida.es
SUMMARY:La Máquina del Tiempo
DESCRIPTION:Los días 9 y 10 de mayo\, la Plaza Margarita Xirgú acoge ‘La Máquina del Tiempo\, una acción de sensibilización y promoción de la salud\, impulsada por Fundación Mapfre\, realizada en colaboración con la SemFYC (Sociedad Española de Medicina de Familia y Comunitaria) en la que se evalúa el estado de las personas y se les transmiten consejos de mejora que pueden aumentar su longevidad y calidad de vida. \nEsta acción itinerante de información y sensibilización ciudadana es de carácter público\, sin ánimo comercial y totalmente gratuita\, está dirigida a personas adultas y son especialmente bienvenidas aquellas de 40 años en adelante. Durante su recorrido «La Máquina del Tiempo” utilizará una espectacular unidad móvil para realizar en su interior diversos auto test y pruebas diagnósticas para evaluar el impacto de los hábitos de vida (alimentación\, actividad física\, descanso etc…) sobre la salud\, proporcionando a los participantes el cálculo de la edad de su corazón y su edad metabólica y comparándolas con su edad cronológica.  \nAdemás\, se les facilitarán consejos para mejorar su estilo de vida. En el exterior contará con un juego para poner a prueba los reflejos\, uno de los parámetros asociados al estado físico y otra actividad de gamificación para aprender a confeccionar un menú saludable. La actividad divulgativa\, es completamente gratuita.  \nEl horario de apertura al público será variable\, pero tomará como referencia de 10.00 a 14.00 h y de 16.00 a 20.00 h.
URL:https://merida.es/agenda/la-maquina-del-tiempo/
LOCATION:Plaza Margarita Xirgu\, Mérida
CATEGORIES:Otros
ATTACH;FMTTYPE=image/jpeg:https://merida.es/wp-content/uploads/2024/05/2024-maquina-del-tiempo-peq.jpg
END:VEVENT
BEGIN:VEVENT
DTSTART;VALUE=DATE:20240511
DTEND;VALUE=DATE:20240522
DTSTAMP:20260420T050221
CREATED:20240508T130015Z
LAST-MODIFIED:20240508T151513Z
UID:130673-1715385600-1716335999@merida.es
SUMMARY:Mes de las Aves Mérida 2024
DESCRIPTION:Un año más\, el Ayuntamiento de Mérida realiza esta actividad primaveral que\, desde 2014\, que pone en valor la riqueza del entorno medioambiental de la ciudad\, gracias a su enclave entre los ríos Guadiana y Albarregas. La actividad está financiada por la Delegación del Gobierno para el Plan Nacional sobre Drogas del Ministerio de Sanidad y el propio Ayuntamiento de Mérida. \nA desarrollar a lo largo del mes de mayo\, la programación se dirige por un lado a la población escolar\, con actividades en siete colegios de educación primaria (colegios Dion Casio\, San Luis\, Ntra Sra de Guadalupe\, Ciudad de Mérida\, Paideia\, Maximiliano Macias y Trajano)\, que se realizan con la colaboración de la Dirección General de Sostenibilidad de la Consejería de Agricultura\, Ganadería y Desarrollo Sostenible de la Junta de Extremadura. Talleres de manualidades sobre golondrinas\, comederos de aves\, cajas nido\, huellas y rastros\, plantas aromáticas y rutas por el río Guadiana\, componen la oferta que se realiza a los centros educativos\, y que comienza el próximo viernes día 10 en el colegio Dion Casio. \nPor otro lado\, la programación dirigida a todos los públicos\, organizada de manera conjunta con Adenex (Asociación para la Defensa de la Naturaleza y los recursos de Extremadura) es la siguiente: \nSábado\, 11 de mayo\n10:00 horas. Puente Romano del Albarregas. Observatorio de Aves\n11:00 horas. Plaza Santo Ángel (Sede ADENEX). Talleres infantiles de aves\n11:00 horas. Ruta ornitológica por la orilla del río Guadiana. Salida desde Plaza Santo Ángel (Sede ADENEX)\n12:00 horas. Plaza Santo Ángel (Sede ADENEX). Cuentacuentos de Aves \nDomingo\, 12 de mayo\n09:00 horas. Estación de Aljucen. Anillamiento de Aves con la entidad Aranzadi.  \nMartes\, 14 de mayo\n18:30 horas. Pequeños Ornitólogos. Paseo por el río observando las aves. Salida desde Plaza Santo Ángel (Sede ADENEX).\n20:00 horas. Puente Lusitania. Observatorio de Aves \nJueves\, 16 de mayo\n20:00 horas. Puente Romano. Observatorio de Aves \nMartes\, 21 de mayo\n18:30 horas. Pequeños Ornitólogos. Juegos\, ruta y construcción de nidos. Salida desde Plaza Santo Ángel (Sede ADENEX). \nPara las actividades no es necesaria inscripción.
URL:https://merida.es/agenda/mes-de-las-aves-merida/
LOCATION:Varios puntos de la ciudad\, Mérida
CATEGORIES:Ocio,Otros
ATTACH;FMTTYPE=image/jpeg:https://merida.es/wp-content/uploads/2024/05/2024-mes-aves-peq.jpg
END:VEVENT
BEGIN:VEVENT
DTSTART;TZID=Europe/Madrid:20240515T183000
DTEND;TZID=Europe/Madrid:20240515T183000
DTSTAMP:20260420T050221
CREATED:20240513T200544Z
LAST-MODIFIED:20240513T200544Z
UID:130790-1715797800-1715797800@merida.es
SUMMARY:VIII Campeonato Regional de Coctelería de Extremadura
DESCRIPTION:La Asociación de Sumilleres y Bartenders de Extremadura SUBEX organiza el VIII Campeonato Regional de Coctelería 2024 en la Plaza Pizarro\, este miércoles 15 de mayo\, partir de las 18:00 horas
URL:https://merida.es/agenda/viii-campeonato-regional-de-cocteleria-de-extremadura/
LOCATION:Plaza Pizarro
CATEGORIES:Gastronomía,Otros
ATTACH;FMTTYPE=image/jpeg:https://merida.es/wp-content/uploads/2024/05/2024-campeonato-cocteleria-peq.jpg
END:VEVENT
END:VCALENDAR