﻿BEGIN:VCALENDAR
VERSION:2.0
PRODID:-//Ayuntamiento de Mérida - ECPv6.15.17.1//NONSGML v1.0//EN
CALSCALE:GREGORIAN
METHOD:PUBLISH
X-WR-CALNAME:Ayuntamiento de Mérida
X-ORIGINAL-URL:https://merida.es
X-WR-CALDESC:Eventos para Ayuntamiento de Mérida
REFRESH-INTERVAL;VALUE=DURATION:PT1H
X-Robots-Tag:noindex
X-PUBLISHED-TTL:PT1H
BEGIN:VTIMEZONE
TZID:Europe/Madrid
BEGIN:DAYLIGHT
TZOFFSETFROM:+0100
TZOFFSETTO:+0200
TZNAME:CEST
DTSTART:20230326T010000
END:DAYLIGHT
BEGIN:STANDARD
TZOFFSETFROM:+0200
TZOFFSETTO:+0100
TZNAME:CET
DTSTART:20231029T010000
END:STANDARD
BEGIN:DAYLIGHT
TZOFFSETFROM:+0100
TZOFFSETTO:+0200
TZNAME:CEST
DTSTART:20240331T010000
END:DAYLIGHT
BEGIN:STANDARD
TZOFFSETFROM:+0200
TZOFFSETTO:+0100
TZNAME:CET
DTSTART:20241027T010000
END:STANDARD
BEGIN:DAYLIGHT
TZOFFSETFROM:+0100
TZOFFSETTO:+0200
TZNAME:CEST
DTSTART:20250330T010000
END:DAYLIGHT
BEGIN:STANDARD
TZOFFSETFROM:+0200
TZOFFSETTO:+0100
TZNAME:CET
DTSTART:20251026T010000
END:STANDARD
END:VTIMEZONE
BEGIN:VEVENT
DTSTART;TZID=Europe/Madrid:20240901T120000
DTEND;TZID=Europe/Madrid:20240901T200000
DTSTAMP:20260423T084429
CREATED:20240819T091742Z
LAST-MODIFIED:20240821T094011Z
UID:133162-1725192000-1725220800@merida.es
SUMMARY:VII Patas al Agua
DESCRIPTION:El domingo 1 de septiembre\, de 12 a 20 horas\, la piscina del Complejo Polideportivo Guadiana acogerá el ‘VII Patas al Agua’ que organiza la asociación ACUDAME con la colaboración del Ayuntamiento. El precio de la entrada para adultos es de 4 euros\, los perros 3 euros\, los menores de entre 2 y 14 años pagan 2 euros y menores de 2 años gratis. \nCada persona mayor de 18 años podrá asistir o bien solo o con un máximo de dos perros\, además\, deberá llevar la cartilla sanitaria del perro\, no permitiéndose la entrada sin presentar el documento. En la entrada\, se comprobará que el animal tenga microchip\, que se encuentre al día de la vacuna de la rabia\, enfermedades y su desparasitación; y estará prohibida la entrada de hembras en celo y perros no sociables con otros perros.
URL:https://merida.es/agenda/vii-patas-al-agua/
LOCATION:Complejo Polideportivo Guadiana\, Avenida de la Constitución\, s/n\, Mérida
CATEGORIES:Ocio,Otros
ATTACH;FMTTYPE=image/jpeg:https://merida.es/wp-content/uploads/2024/08/2024-patas-al-agua-peq.jpg
END:VEVENT
END:VCALENDAR