﻿BEGIN:VCALENDAR
VERSION:2.0
PRODID:-//Ayuntamiento de Mérida - ECPv6.15.17.1//NONSGML v1.0//EN
CALSCALE:GREGORIAN
METHOD:PUBLISH
X-ORIGINAL-URL:https://merida.es
X-WR-CALDESC:Eventos para Ayuntamiento de Mérida
REFRESH-INTERVAL;VALUE=DURATION:PT1H
X-Robots-Tag:noindex
X-PUBLISHED-TTL:PT1H
BEGIN:VTIMEZONE
TZID:Europe/Madrid
BEGIN:DAYLIGHT
TZOFFSETFROM:+0100
TZOFFSETTO:+0200
TZNAME:CEST
DTSTART:20180325T010000
END:DAYLIGHT
BEGIN:STANDARD
TZOFFSETFROM:+0200
TZOFFSETTO:+0100
TZNAME:CET
DTSTART:20181028T010000
END:STANDARD
BEGIN:DAYLIGHT
TZOFFSETFROM:+0100
TZOFFSETTO:+0200
TZNAME:CEST
DTSTART:20190331T010000
END:DAYLIGHT
BEGIN:STANDARD
TZOFFSETFROM:+0200
TZOFFSETTO:+0100
TZNAME:CET
DTSTART:20191027T010000
END:STANDARD
BEGIN:DAYLIGHT
TZOFFSETFROM:+0100
TZOFFSETTO:+0200
TZNAME:CEST
DTSTART:20200329T010000
END:DAYLIGHT
BEGIN:STANDARD
TZOFFSETFROM:+0200
TZOFFSETTO:+0100
TZNAME:CET
DTSTART:20201025T010000
END:STANDARD
END:VTIMEZONE
BEGIN:VEVENT
DTSTART;VALUE=DATE:20191015
DTEND;VALUE=DATE:20191021
DTSTAMP:20260420T065210
CREATED:20191009T064637Z
LAST-MODIFIED:20191009T064637Z
UID:68323-1571097600-1571615999@merida.es
SUMMARY:Semana Museo Joven
DESCRIPTION:  \nA lo largo de toda la semana\, el Museo Nacional de Arte Romano acoge una nueva edición de Museo Joven\, organizado por el Ministerio de Cultura y Deporte y el INJUVE con fondos del Programa Erasmus+. Este proyecto\, iniciado en 2018\, tiene la vocación de demostrar que los museos son espacios para ser ocupados por los jóvenes. Durante toda la semana la entrada al Museo será gratuita para los menores de 30 años.\nActividades programadas:\n•  «Una ciudad romana». Exposición en diorama\n Martes 15 al Domingo 20. Planta baja\nVen a conocer cómo era una ciudad romana\, sus espacios\, sus gentes\, su día a día\, gracias a este diorama compuesto íntegramente por figuras de Playmobil. Sus creadores nos hablarán de su oficio y de cómo se construyen estas maquetas tan peculiares. En colaboración con la Asociación Cultural de Dioramistas y Coleccionistas de Playmobil Extremadura.\n•  Taller de cómic y escritura creativa\n Martes 15 a las 10:00 h. Planta baja. Sala III.\nEste taller teórico-práctico te acercará a la historia del cómic y a la técnica del diseño a través de una historia basada en el MNAR y sus colecciones.\n•  Exposición de jóvenes artistas\n Martes 15 a las 11:30 h. Planta baja.\nLos alumnos de la Escuela Superior de Arte y Diseño de Mérida nos mostrarán y explicarán sus obras basadas en una de las piezas clave del Museo: el retrato de «La Gitanilla»\, que servirá de marco para tratar cuestiones clave como el papel de la mujer y los sectores minoritarios en la sociedad romana.\n•  Taller «Roma a vista de pájaro»\n Miércoles 16 a las 17:00 h. Planta segunda. Sala de Actividades Didácticas.\nCon este taller recorrerás la mentalidad de la mujer y el hombre grecorromanos (hábitos\, religión\, superstición\, magia…) a través de los ojos de las aves que tenían mayor presencia en su día a día.\n•  Lectura dramatizada de textos latinos\n Jueves 17 a las 12:30 h. Planta baja. Sala III.\nLos alumnos del IES Santa Eulalia nos ofrecerán una lectura dramatizada de poemas latinos con los que podremos conocer mejor las creencias literarias del mundo romano.\n•  Taller de danza\n Jueves 17 a las 17:00 h. Planta baja. Sala III.\nEn este taller se recrearán algunas de las danzas más significativas del mundo grecorromano desde un punto de vista teórico-práctico\, mostrándolas como expresión de ritualidad\, especialmente en relación con las divinidades protectoras de la Naturaleza.\n•  Campamento militar de la Legio X Gemina\n Sábado 19 de 10:00 a 18:00 h. – Domingo 20 de 11:00 a 15:00 h. Cripta.\nCon esta recreación del campamento de una de las legiones vinculadas a la fundación de Augusta Emerita\, nos acercaremos al difícil día a día de los milites del ejército romano: costumbres\, reglamento\, comida\, creencias… todo ofrecido en primera persona y con la posibilidad de incorporarte a la actividad como participante activo de la misma. En colaboración con la Asociación Recreacionista ARA Concordiae.\n•  Taller «Nacer y crecer en Augusta Emerita»\n Sábado 19 a las 12:30 h. Planta segunda. Sala de Actividades Didácticas.\nPresentación tematizada en la que dos nodrizas romanas (nutrices) explicarán las circunstancias del parto y la elección de las nodrizas que se ocupaban de la lactancia en las casas acomodadas de la sociedad emeritenses. En colaboración con la Asociación Recreacionista ARA Concordiae.\n•  Concierto de la Orquesta Joven de Mérida\n Sábado 19 a las 21:00 h. Planta baja. Nave principal.\nLos alumnos de distintas escuelas de música emeritenses y de la comarca nos ofrecerán este concierto\, convirtiendo el Museo en un espacio vivo\, participativo y joven\, y permitiéndonos disfrutar de su ambiente nocturno.\n•  Taller Tonsor & Ornatrix\n Domingo 20 a las 11:30. Planta segunda. Sala de Actividades Didácticas.\nCon este taller podrás descubrir los trucos de belleza de las elegantes dominae y los soberbios domini en los primeros siglos de la Era y entender cómo era su concepción del glamour y el arte de la seducción.\n•  Taller de cocina romana\n Domingo 20 a las 13:00 h. Planta baja. Sala III.\nVen a conocer de primera mano las características principales de la cocina de la antigua Roma\, desde sus inicios austeros a base de papilla de cereales hasta la máxima sofistificación de los famosos convivia. Una cocinera romana nos contará su vida entre los fogones de Augusta Emerita mientras una profesora de hostelería nos hablará de cómo se entiende y se reproduce hoy la cocina de la antigüedad. En colaboración con la Asociación Recreacionista ARA Concordiae y la Escuela de Hostelería de Mérida.\n 
URL:https://merida.es/agenda/semana-museo-joven/
LOCATION:Museo Nacional de Arte Romano\, Calle José Ramón Mélida\, Mérida\, Badajoz\, 06800\, España
CATEGORIES:Curso-Taller,Danza,Educación,Exposición,Recreación
ATTACH;FMTTYPE=image/jpeg:https://merida.es/wp-content/uploads/2019/10/museo-joven-banner.jpg
END:VEVENT
END:VCALENDAR