﻿BEGIN:VCALENDAR
VERSION:2.0
PRODID:-//Ayuntamiento de Mérida - ECPv6.15.17.1//NONSGML v1.0//EN
CALSCALE:GREGORIAN
METHOD:PUBLISH
X-ORIGINAL-URL:https://merida.es
X-WR-CALDESC:Eventos para Ayuntamiento de Mérida
REFRESH-INTERVAL;VALUE=DURATION:PT1H
X-Robots-Tag:noindex
X-PUBLISHED-TTL:PT1H
BEGIN:VTIMEZONE
TZID:Europe/Madrid
BEGIN:DAYLIGHT
TZOFFSETFROM:+0100
TZOFFSETTO:+0200
TZNAME:CEST
DTSTART:20180325T010000
END:DAYLIGHT
BEGIN:STANDARD
TZOFFSETFROM:+0200
TZOFFSETTO:+0100
TZNAME:CET
DTSTART:20181028T010000
END:STANDARD
BEGIN:DAYLIGHT
TZOFFSETFROM:+0100
TZOFFSETTO:+0200
TZNAME:CEST
DTSTART:20190331T010000
END:DAYLIGHT
BEGIN:STANDARD
TZOFFSETFROM:+0200
TZOFFSETTO:+0100
TZNAME:CET
DTSTART:20191027T010000
END:STANDARD
BEGIN:DAYLIGHT
TZOFFSETFROM:+0100
TZOFFSETTO:+0200
TZNAME:CEST
DTSTART:20200329T010000
END:DAYLIGHT
BEGIN:STANDARD
TZOFFSETFROM:+0200
TZOFFSETTO:+0100
TZNAME:CET
DTSTART:20201025T010000
END:STANDARD
END:VTIMEZONE
BEGIN:VEVENT
DTSTART;VALUE=DATE:20191101
DTEND;VALUE=DATE:20191103
DTSTAMP:20260420T003723
CREATED:20191022T071048Z
LAST-MODIFIED:20191022T071048Z
UID:68735-1572566400-1572739199@merida.es
SUMMARY:Lemuria\, un viaje al otro lado de la muerte en la Antigua roma
DESCRIPTION:Intriga\, sustos y mucha diversión en una actividad dirigida preferentemente a los visitantes más jóvenes. En colaboración con el grupo de Voluntarios Culturales del MNAR y la Asociación Recreacionista ARA Concordiae. Pases 1 y 2 de noviembre: 21:00\, 21:45\, 22:30 y 23:15\nInscripción previa del 15 al 29 de octubre: programadifusion.museomerida@gmail.com
URL:https://merida.es/agenda/lemuria-un-viaje-al-otro-lado-de-la-muerte-en-la-antigua-roma/
LOCATION:Museo Nacional de Arte Romano\, Calle José Ramón Mélida\, Mérida\, Badajoz\, 06800\, España
CATEGORIES:Recreación
ATTACH;FMTTYPE=image/jpeg:https://merida.es/wp-content/uploads/2019/10/lemuria-peq.jpg
END:VEVENT
BEGIN:VEVENT
DTSTART;TZID=Europe/Madrid:20191122T170000
DTEND;TZID=Europe/Madrid:20191122T170000
DTSTAMP:20260420T003723
CREATED:20191118T130458Z
LAST-MODIFIED:20191118T130458Z
UID:69636-1574442000-1574442000@merida.es
SUMMARY:'Mujeres en la niebla' en el MNAR
DESCRIPTION:El viernes\, 22 de noviembre\, a las 17:00 horas\, el Museo Nacional de Arte Romano organiza ‘Mujeres en la Niebla’ una recreación que evoca en primera persona la vida de varias mujeres de la Antigüedad que supieron mantener la entereza a pesar de las circunstancias tan adversas que les tocó en suerte.\nColabora: Asociación Recreacionista ARA Concordiae.\nInscripción previa: programadifusion.museomerida@gmail.com
URL:https://merida.es/agenda/mujeres-en-la-niebla-en-el-mnar/
LOCATION:Museo Nacional de Arte Romano\, Calle José Ramón Mélida\, Mérida\, Badajoz\, 06800\, España
CATEGORIES:Recreación
ATTACH;FMTTYPE=image/jpeg:https://merida.es/wp-content/uploads/2019/11/mujeres-niebla-peq.jpg
END:VEVENT
BEGIN:VEVENT
DTSTART;TZID=Europe/Madrid:20191124T130000
DTEND;TZID=Europe/Madrid:20191124T130000
DTSTAMP:20260420T003723
CREATED:20191122T151546Z
LAST-MODIFIED:20191122T151546Z
UID:69837-1574600400-1574600400@merida.es
SUMMARY:Recreación romana 'Armilustrium' de Emerita Antiqua
DESCRIPTION:La asociación cultural Emerita Antiqva celebra como cada año\, por estas fechas\, el Armilustrium\, un rito en el que se conmemoraba la finalización de las campañas militares.\nEl evento tendrá lugar el próximo domingo 24 de noviembre a las 13:00h en el Parque anexo al MAM (Museo Abierto de Mérida). Una ceremonia abierta para todos los emeritenses y visitantes que estén por la ciudad.
URL:https://merida.es/agenda/recreacion-romana-armilustrium-de-emerita-antiqua/
LOCATION:Museo Abierto de Mérida MAM\, Calle Cabo Verde\, s/n\, Mérida
CATEGORIES:Recreación
ATTACH;FMTTYPE=image/jpeg:https://merida.es/wp-content/uploads/2019/11/armilustrium-peq.jpg
END:VEVENT
END:VCALENDAR