﻿BEGIN:VCALENDAR
VERSION:2.0
PRODID:-//Ayuntamiento de Mérida - ECPv6.15.17.1//NONSGML v1.0//EN
CALSCALE:GREGORIAN
METHOD:PUBLISH
X-ORIGINAL-URL:https://merida.es
X-WR-CALDESC:Eventos para Ayuntamiento de Mérida
REFRESH-INTERVAL;VALUE=DURATION:PT1H
X-Robots-Tag:noindex
X-PUBLISHED-TTL:PT1H
BEGIN:VTIMEZONE
TZID:Europe/Madrid
BEGIN:DAYLIGHT
TZOFFSETFROM:+0100
TZOFFSETTO:+0200
TZNAME:CEST
DTSTART:20180325T010000
END:DAYLIGHT
BEGIN:STANDARD
TZOFFSETFROM:+0200
TZOFFSETTO:+0100
TZNAME:CET
DTSTART:20181028T010000
END:STANDARD
BEGIN:DAYLIGHT
TZOFFSETFROM:+0100
TZOFFSETTO:+0200
TZNAME:CEST
DTSTART:20190331T010000
END:DAYLIGHT
BEGIN:STANDARD
TZOFFSETFROM:+0200
TZOFFSETTO:+0100
TZNAME:CET
DTSTART:20191027T010000
END:STANDARD
BEGIN:DAYLIGHT
TZOFFSETFROM:+0100
TZOFFSETTO:+0200
TZNAME:CEST
DTSTART:20200329T010000
END:DAYLIGHT
BEGIN:STANDARD
TZOFFSETFROM:+0200
TZOFFSETTO:+0100
TZNAME:CET
DTSTART:20201025T010000
END:STANDARD
END:VTIMEZONE
BEGIN:VEVENT
DTSTART;VALUE=DATE:20191101
DTEND;VALUE=DATE:20191103
DTSTAMP:20260420T093751
CREATED:20191022T071048Z
LAST-MODIFIED:20191022T071048Z
UID:68735-1572566400-1572739199@merida.es
SUMMARY:Lemuria\, un viaje al otro lado de la muerte en la Antigua roma
DESCRIPTION:Intriga\, sustos y mucha diversión en una actividad dirigida preferentemente a los visitantes más jóvenes. En colaboración con el grupo de Voluntarios Culturales del MNAR y la Asociación Recreacionista ARA Concordiae. Pases 1 y 2 de noviembre: 21:00\, 21:45\, 22:30 y 23:15\nInscripción previa del 15 al 29 de octubre: programadifusion.museomerida@gmail.com
URL:https://merida.es/agenda/lemuria-un-viaje-al-otro-lado-de-la-muerte-en-la-antigua-roma/
LOCATION:Museo Nacional de Arte Romano\, Calle José Ramón Mélida\, Mérida\, Badajoz\, 06800\, España
CATEGORIES:Recreación
ATTACH;FMTTYPE=image/jpeg:https://merida.es/wp-content/uploads/2019/10/lemuria-peq.jpg
END:VEVENT
END:VCALENDAR