﻿BEGIN:VCALENDAR
VERSION:2.0
PRODID:-//Ayuntamiento de Mérida - ECPv6.15.17.1//NONSGML v1.0//EN
CALSCALE:GREGORIAN
METHOD:PUBLISH
X-WR-CALNAME:Ayuntamiento de Mérida
X-ORIGINAL-URL:https://merida.es
X-WR-CALDESC:Eventos para Ayuntamiento de Mérida
REFRESH-INTERVAL;VALUE=DURATION:PT1H
X-Robots-Tag:noindex
X-PUBLISHED-TTL:PT1H
BEGIN:VTIMEZONE
TZID:Europe/Madrid
BEGIN:DAYLIGHT
TZOFFSETFROM:+0100
TZOFFSETTO:+0200
TZNAME:CEST
DTSTART:20160327T010000
END:DAYLIGHT
BEGIN:STANDARD
TZOFFSETFROM:+0200
TZOFFSETTO:+0100
TZNAME:CET
DTSTART:20161030T010000
END:STANDARD
BEGIN:DAYLIGHT
TZOFFSETFROM:+0100
TZOFFSETTO:+0200
TZNAME:CEST
DTSTART:20170326T010000
END:DAYLIGHT
BEGIN:STANDARD
TZOFFSETFROM:+0200
TZOFFSETTO:+0100
TZNAME:CET
DTSTART:20171029T010000
END:STANDARD
BEGIN:DAYLIGHT
TZOFFSETFROM:+0100
TZOFFSETTO:+0200
TZNAME:CEST
DTSTART:20180325T010000
END:DAYLIGHT
BEGIN:STANDARD
TZOFFSETFROM:+0200
TZOFFSETTO:+0100
TZNAME:CET
DTSTART:20181028T010000
END:STANDARD
END:VTIMEZONE
BEGIN:VEVENT
DTSTART;VALUE=DATE:20170310
DTEND;VALUE=DATE:20170413
DTSTAMP:20260422T051305
CREATED:20170315T173341Z
LAST-MODIFIED:20170315T173341Z
UID:48707-1489104000-1492041599@merida.es
SUMMARY:Exposición Semana Santa de Coria
DESCRIPTION:Hasta el 12 de abril se podrá visitar en el Patio Central del Ayuntamiento de Mérida una exposición fotográfica sobre la Semana Santa Cauriense
URL:https://merida.es/agenda/exposicion-semana-santa-de-coria/
LOCATION:Patio Central Ayuntamiento de Mérida\, Plaza de España\, 1\, Mérida
CATEGORIES:Semana Santa
ATTACH;FMTTYPE=image/jpeg:https://merida.es/wp-content/uploads/2017/03/semana-santa-coria-peq.jpg
END:VEVENT
BEGIN:VEVENT
DTSTART;TZID=Europe/Madrid:20170401T211500
DTEND;TZID=Europe/Madrid:20170401T211500
DTSTAMP:20260422T051305
CREATED:20170327T165454Z
LAST-MODIFIED:20170327T165454Z
UID:48943-1491081300-1491081300@merida.es
SUMMARY:Pregón de Semana Santa
DESCRIPTION:Don José Luis Pérez Gómez ofrecerá el próximo sábado\, 1 de abril\, el Pregón de Semana Santa. El acto\, que contará con la actuación de la Jóven Orquesta Ciudad de Mérida\, dará comienzo a las 21:15 horas en el Centro Cultural Alcazaba.
URL:https://merida.es/agenda/pregon-de-semana-santa/
LOCATION:Centro Cultural Alcazaba\, Calle John Lennon\, 5\, Mérida
CATEGORIES:Religión,Semana Santa
ATTACH;FMTTYPE=image/jpeg:https://merida.es/wp-content/uploads/2017/03/pregon-semana-santa-peq.jpg
END:VEVENT
END:VCALENDAR