﻿BEGIN:VCALENDAR
VERSION:2.0
PRODID:-//Ayuntamiento de Mérida - ECPv6.15.17.1//NONSGML v1.0//EN
CALSCALE:GREGORIAN
METHOD:PUBLISH
X-ORIGINAL-URL:https://merida.es
X-WR-CALDESC:Eventos para Ayuntamiento de Mérida
REFRESH-INTERVAL;VALUE=DURATION:PT1H
X-Robots-Tag:noindex
X-PUBLISHED-TTL:PT1H
BEGIN:VTIMEZONE
TZID:Europe/Madrid
BEGIN:DAYLIGHT
TZOFFSETFROM:+0100
TZOFFSETTO:+0200
TZNAME:CEST
DTSTART:20160327T010000
END:DAYLIGHT
BEGIN:STANDARD
TZOFFSETFROM:+0200
TZOFFSETTO:+0100
TZNAME:CET
DTSTART:20161030T010000
END:STANDARD
BEGIN:DAYLIGHT
TZOFFSETFROM:+0100
TZOFFSETTO:+0200
TZNAME:CEST
DTSTART:20170326T010000
END:DAYLIGHT
BEGIN:STANDARD
TZOFFSETFROM:+0200
TZOFFSETTO:+0100
TZNAME:CET
DTSTART:20171029T010000
END:STANDARD
BEGIN:DAYLIGHT
TZOFFSETFROM:+0100
TZOFFSETTO:+0200
TZNAME:CEST
DTSTART:20180325T010000
END:DAYLIGHT
BEGIN:STANDARD
TZOFFSETFROM:+0200
TZOFFSETTO:+0100
TZNAME:CET
DTSTART:20181028T010000
END:STANDARD
END:VTIMEZONE
BEGIN:VEVENT
DTSTART;VALUE=DATE:20170409
DTEND;VALUE=DATE:20170416
DTSTAMP:20260421T225016
CREATED:20170120T164654Z
LAST-MODIFIED:20170120T164654Z
UID:47250-1491696000-1492300799@merida.es
SUMMARY:Semana Santa 2017
DESCRIPTION:Cartel anunciador 2017 \nLa Semana Santa de Mérida\, declarada Fiesta de Interés Turístico Nacional\, destaca por el recorrido de las Hermandades y Cofradías por distintos monumentos ubicados en el centro histórico de la ciudad como el Arco de Trajano\, el Puente Romano\, la Alcazaba árabe o el Templo de Diana\, que le confieren un toque de distinción único con respecto a similares celebraciones. Una celebración que tiene como punto de referencia la solemne procesión y Vía Crucis con la imagen del Santísimo Cristo de la O en la madrugada del Viernes Santo y que se realiza dentro del recinto del Anfiteatro Romano.\nWeb oficial: www.semanasantademerida.org
URL:https://merida.es/agenda/semana-santa-2017/
LOCATION:Mérida
CATEGORIES:Religión,Semana Santa
ATTACH;FMTTYPE=image/jpeg:https://merida.es/wp-content/uploads/2017/01/semana-santa-peq.jpg
END:VEVENT
BEGIN:VEVENT
DTSTART;VALUE=DATE:20170413
DTEND;VALUE=DATE:20170417
DTSTAMP:20260421T225016
CREATED:20170405T110221Z
LAST-MODIFIED:20170405T110221Z
UID:49187-1492041600-1492387199@merida.es
SUMMARY:Feria del Dulce Artesano
DESCRIPTION:Del Jueves Santo al Domingo de Resurrección se podrá disfrutar de la Feria del Dulce Artesano en el Paseo de Roma de 11 a 23 horas el jueves 13\, viernes 14 y sábado 15 y de 11 a 18 horas el domingo 16 de abril. Serán 24 expositores de distintos puntos geográficos como Andalucía\, Madrid\, Cantabria o Portugal.
URL:https://merida.es/agenda/feria-del-dulce-artesano/
LOCATION:Paseo de Roma\, Mérida
CATEGORIES:Gastronomía,Semana Santa
ATTACH;FMTTYPE=image/jpeg:https://merida.es/wp-content/uploads/2017/04/feria-dulce-peq.jpg
END:VEVENT
END:VCALENDAR