﻿BEGIN:VCALENDAR
VERSION:2.0
PRODID:-//Ayuntamiento de Mérida - ECPv6.15.17.1//NONSGML v1.0//EN
CALSCALE:GREGORIAN
METHOD:PUBLISH
X-ORIGINAL-URL:https://merida.es
X-WR-CALDESC:Eventos para Ayuntamiento de Mérida
REFRESH-INTERVAL;VALUE=DURATION:PT1H
X-Robots-Tag:noindex
X-PUBLISHED-TTL:PT1H
BEGIN:VTIMEZONE
TZID:Europe/Madrid
BEGIN:DAYLIGHT
TZOFFSETFROM:+0100
TZOFFSETTO:+0200
TZNAME:CEST
DTSTART:20160327T010000
END:DAYLIGHT
BEGIN:STANDARD
TZOFFSETFROM:+0200
TZOFFSETTO:+0100
TZNAME:CET
DTSTART:20161030T010000
END:STANDARD
BEGIN:DAYLIGHT
TZOFFSETFROM:+0100
TZOFFSETTO:+0200
TZNAME:CEST
DTSTART:20170326T010000
END:DAYLIGHT
BEGIN:STANDARD
TZOFFSETFROM:+0200
TZOFFSETTO:+0100
TZNAME:CET
DTSTART:20171029T010000
END:STANDARD
BEGIN:DAYLIGHT
TZOFFSETFROM:+0100
TZOFFSETTO:+0200
TZNAME:CEST
DTSTART:20180325T010000
END:DAYLIGHT
BEGIN:STANDARD
TZOFFSETFROM:+0200
TZOFFSETTO:+0100
TZNAME:CET
DTSTART:20181028T010000
END:STANDARD
END:VTIMEZONE
BEGIN:VEVENT
DTSTART;TZID=Europe/Madrid:20170421T213000
DTEND;TZID=Europe/Madrid:20170421T213000
DTSTAMP:20260421T225035
CREATED:20170418T103231Z
LAST-MODIFIED:20170418T103231Z
UID:49421-1492810200-1492810200@merida.es
SUMMARY:Gala de Premios Cofrades 2017
DESCRIPTION:La cadena COPE en Mérida vuelve a organizar la prestigiosa Gala de Premios Cofrades de Mérida. Unos galardones que junto con el Ayuntamiento de la capital extremeña aplauden a aquellas instituciones\, grupos o personas que hacen posible la semana santa emeritense. En esta ocasión\, que llega a su octava edición\, los premiados serán:\n-La banda de música de la OJE\n-El Vicehermano mayor de la cofradía de La Paz\, Tomás Muñoz\n-Los orfebres sevillanos Delgado López\n-La coral Augusta Emérita\n-La Policía Local de Mérida.\nLos galardones\, frescos con la flor de lirio realizados por los artesanos de Terracota\, se entregarán en una gala abierta al público el próximo viernes a las nueve y media de la noche en el auditorio del centro cultural de Nueva Ciudad.\nDurante la Gala actuará la Escuela de Música Pilar Vizcaíno\, la cantante y bailarina Julita Baez y el coro Caesar de Mérida.
URL:https://merida.es/agenda/gala-de-premios-cofrades-2017/
LOCATION:Centro Cultural de Nueva Ciudad\, Calle Antonio Rodríguez Moñino s/n\, Mérida\, 06800\, Spain
CATEGORIES:Gala,Semana Santa
ATTACH;FMTTYPE=image/jpeg:https://merida.es/wp-content/uploads/2017/04/gala-premios-cofrades-peq.jpg
END:VEVENT
END:VCALENDAR