﻿BEGIN:VCALENDAR
VERSION:2.0
PRODID:-//Ayuntamiento de Mérida - ECPv6.15.17.1//NONSGML v1.0//EN
CALSCALE:GREGORIAN
METHOD:PUBLISH
X-WR-CALNAME:Ayuntamiento de Mérida
X-ORIGINAL-URL:https://merida.es
X-WR-CALDESC:Eventos para Ayuntamiento de Mérida
REFRESH-INTERVAL;VALUE=DURATION:PT1H
X-Robots-Tag:noindex
X-PUBLISHED-TTL:PT1H
BEGIN:VTIMEZONE
TZID:Europe/Madrid
BEGIN:DAYLIGHT
TZOFFSETFROM:+0100
TZOFFSETTO:+0200
TZNAME:CEST
DTSTART:20250330T010000
END:DAYLIGHT
BEGIN:STANDARD
TZOFFSETFROM:+0200
TZOFFSETTO:+0100
TZNAME:CET
DTSTART:20251026T010000
END:STANDARD
BEGIN:DAYLIGHT
TZOFFSETFROM:+0100
TZOFFSETTO:+0200
TZNAME:CEST
DTSTART:20260329T010000
END:DAYLIGHT
BEGIN:STANDARD
TZOFFSETFROM:+0200
TZOFFSETTO:+0100
TZNAME:CET
DTSTART:20261025T010000
END:STANDARD
BEGIN:DAYLIGHT
TZOFFSETFROM:+0100
TZOFFSETTO:+0200
TZNAME:CEST
DTSTART:20270328T010000
END:DAYLIGHT
BEGIN:STANDARD
TZOFFSETFROM:+0200
TZOFFSETTO:+0100
TZNAME:CET
DTSTART:20271031T010000
END:STANDARD
END:VTIMEZONE
BEGIN:VEVENT
DTSTART;TZID=Europe/Madrid:20260306T200000
DTEND;TZID=Europe/Madrid:20260306T200000
DTSTAMP:20260423T093956
CREATED:20260218T220418Z
LAST-MODIFIED:20260302T091239Z
UID:146649-1772827200-1772827200@merida.es
SUMMARY:Exaltación de la Saeta: "Manuel Pajares y María Metidieri"
DESCRIPTION:El Centro Cultural de La Antigua acogerá el viernes 6 de marzo\, a las 20:00 horas\, una de las actuaciones enmarcadas en la segunda edición de la ‘Exaltación de la Saeta. La plegaria del flamenco’ que en Mérida contará con los artistas Manuel Pajares y María Metidieri. \nSe trata de una serie de actuación que pasarán por diversas localidades de Extremadura con diferentes artistas con el objetivo de poner en valor la saeta como parte esencial del patrimonio cultural y de la identidad de la Semana Santa extremeña. \nEntrada libre hasta completar aforo. \nOrganiza la consejera de Cultura\, Turismo\, Jóvenes y Deportes de la Junta de Extremadura con la colaboración del Ayuntamiento de Mérida.
URL:https://merida.es/agenda/exaltacion-de-la-saeta-manuel-pajares-y-maria-metidieri/
LOCATION:Centro Cultural La Antigua\, Calle Nerja s/n\, Mérida\, Badajoz\, 06800\, Spain
CATEGORIES:Semana Santa
ATTACH;FMTTYPE=image/jpeg:https://merida.es/wp-content/uploads/2026/02/2026-exhaltacion-saeta-peq.jpeg
END:VEVENT
END:VCALENDAR