﻿BEGIN:VCALENDAR
VERSION:2.0
PRODID:-//Ayuntamiento de Mérida - ECPv6.15.17.1//NONSGML v1.0//EN
CALSCALE:GREGORIAN
METHOD:PUBLISH
X-ORIGINAL-URL:https://merida.es
X-WR-CALDESC:Eventos para Ayuntamiento de Mérida
REFRESH-INTERVAL;VALUE=DURATION:PT1H
X-Robots-Tag:noindex
X-PUBLISHED-TTL:PT1H
BEGIN:VTIMEZONE
TZID:Europe/Madrid
BEGIN:DAYLIGHT
TZOFFSETFROM:+0100
TZOFFSETTO:+0200
TZNAME:CEST
DTSTART:20170326T010000
END:DAYLIGHT
BEGIN:STANDARD
TZOFFSETFROM:+0200
TZOFFSETTO:+0100
TZNAME:CET
DTSTART:20171029T010000
END:STANDARD
BEGIN:DAYLIGHT
TZOFFSETFROM:+0100
TZOFFSETTO:+0200
TZNAME:CEST
DTSTART:20180325T010000
END:DAYLIGHT
BEGIN:STANDARD
TZOFFSETFROM:+0200
TZOFFSETTO:+0100
TZNAME:CET
DTSTART:20181028T010000
END:STANDARD
BEGIN:DAYLIGHT
TZOFFSETFROM:+0100
TZOFFSETTO:+0200
TZNAME:CEST
DTSTART:20190331T010000
END:DAYLIGHT
BEGIN:STANDARD
TZOFFSETFROM:+0200
TZOFFSETTO:+0100
TZNAME:CET
DTSTART:20191027T010000
END:STANDARD
END:VTIMEZONE
BEGIN:VEVENT
DTSTART;TZID=Europe/Madrid:20180406T210000
DTEND;TZID=Europe/Madrid:20180406T210000
DTSTAMP:20260423T062123
CREATED:20180402T093353Z
LAST-MODIFIED:20180402T093353Z
UID:57492-1523048400-1523048400@merida.es
SUMMARY:Teatro: "Genoma B"
DESCRIPTION:Espectáculo: “Genoma B”\nCompañía: Albadulake\nSinopsis: Cinco hermanas encarceladas en cinco miriñaques. Cinco mujeres oprimidas por una desviación de esta sociedad; la del “qué dirán”\, y que encarna a nuestra protagonista ausente\, Bernarda. Un ataúd en escena como punto de fuga de este comienzo. Un muerto que se aparece en vida. Un alma libre que a modo de trovador canaliza las emociones y conflictos que viven las cinco hermanas. Nuestras protagonistas\, Angustias\, Magdalena\, Amelia\, Martirio y Adela viven sometidas\, encarceladas en sus propios miedos y carencias en esta sociedad que nos la deja libres. El circo y el flamenco ayudarán a nuestros seis protagonistas a crear un mundo lleno de emociones\, de vivencias\, sufrimientos y alegrías que terminará con un desenlace conocido por todos\, Adela de la mano de su ángel traspasará la puerta de la “libertad” como único camino de su salvación.\nReparto: Sandra Carrasco\, Noemí Martínez\, Vivian Fiedrich\, Ana Esteban\, Irene Acereda y José Carlos Torres.\nDirección: Juan Antonio Moreno y Ángeles Vázquez.\nDuración: 70 minutos.\nTaquilla: Días 5 y 6 de abril\, de 11:00 a 13:00 y de 18:00 a 21:00 horas.\nPrecio: 8 €.
URL:https://merida.es/agenda/teatro-genoma-b/
LOCATION:Sala Trajano\, Calle Muza\, 50\, Mérida
CATEGORIES:Teatro
ATTACH;FMTTYPE=image/jpeg:https://merida.es/wp-content/uploads/2018/04/genomab-peq.jpg
END:VEVENT
BEGIN:VEVENT
DTSTART;TZID=Europe/Madrid:20180408T180000
DTEND;TZID=Europe/Madrid:20180408T180000
DTSTAMP:20260423T062123
CREATED:20180402T094523Z
LAST-MODIFIED:20180402T094523Z
UID:57495-1523210400-1523210400@merida.es
SUMMARY:Teatro familiar: "Piccolino\, un cine-concierto"
DESCRIPTION:Espectáculo: “PICCOLINO UN CINE-CONCIERTO”.\nModalidad: Público Familiar.\nCompañía: Canti Vaganti\nSinopsis: Piccolino\, un cine-concierto es un homenaje a las canciones tradicionales infantiles italianas\, españolas e inglesas a través de un cine poético y artesanal. La compañía internacional de teatro musical Canti Vaganti acompaña con música en directo y estímulos sensoriales la proyección de la película Piccolino de Zampanò Producciones\, ganadores de un Goya para el mejor cortometraje de animación. Con dos voces\, flauta\, guitarra\, acordeón y percusión\, el dúo crea arreglos originales y ritmos variados para esta aventura visual. Además de la música\, el protagonista de este espectáculo es la oruga Piccolino\, que accidentalmente llega a una casa en el bosque\, donde encontrará objetos de todo tipo que le hacen recordar las canciones de sus abuelos.\nReparto: Kateleine van der Maas & Bruno Gullo/Rocío Herrera (Voz\, interpretación y estímulos sensoriales)\, Bruno Gullo/Rocío Herrera (Guitarra)\, Kateleine van der Maas (Flauta y pianito)\, Bruno Gullo/Kateleine van der Maas (Acordeón).\nDirección musical y arreglos: Bruno Gullo & Kateleine van der Maas.\nDuración: 45 minutos.\nTaquilla: Días 7 y 8 de abril\, de 10:00 a 12:00 y de 17:00 a 19: 00 horas.\nPrecio: 3 € niños y 5 € adultos.
URL:https://merida.es/agenda/teatro-familiar-piccolino-un-cine-concierto/
LOCATION:Sala Trajano\, Calle Muza\, 50\, Mérida
CATEGORIES:Infantil,Teatro
ATTACH;FMTTYPE=image/jpeg:https://merida.es/wp-content/uploads/2018/04/piccolino-peq.jpg
END:VEVENT
BEGIN:VEVENT
DTSTART;VALUE=DATE:20180409
DTEND;VALUE=DATE:20180414
DTSTAMP:20260423T062123
CREATED:20180227T081737Z
LAST-MODIFIED:20180227T081737Z
UID:56682-1523232000-1523663999@merida.es
SUMMARY:XXII Festival Juvenil Europeo de Teatro Grecolatino
DESCRIPTION:Desde 1997 se viene celebrando cada año en el Teatro Romano de Mérida\, en los meses de Abril/Mayo el Festival de Teatro Grecolatino Juvenil\, al que acuden jóvenes de toda España. Es éste un Festival con unas características específicamente didácticas pues está dedicado en especial a los jóvenes de Enseñanza Media y\, asimismo\, los grupos de teatro participantes se componen\, en su mayor parte\, de alumnos de Instituto.\nEn él se representan obras clásicas griegas y latinas\, cuyos textos\, recogidos en unos «libritos» facilitados por la organización del Festival\, son previamente preparados en clase con sus profesores.\nTodos tienen como objetivo principal potenciar y difundir el estudio de las culturas Griega y Romana a través del teatro\, con el fin de mejorar la formación cultural de los jóvenes introduciéndolos en el conocimiento de las culturas que constituyen la base del componente humanístico de nuestra cultura occidental.\nEstá organizado por el IES Santa Eulalia de Mérida y patrocinado por la Junta de Extremadura\, el Consorcio de la Ciudad Monumental y la Fundación CB. Prestan su apoyo\, además\, el Excmo. Ayuntamiento de Mérida\, el Museo Nacional de Arte Romano y la Asociación de Amigos del Museo.\nLa edición de 2018 se celebrará entre el 9 y el 13 de abril y la programación se puede consultar en: http://iessantaeulalia.juntaextremadura.net
URL:https://merida.es/agenda/xxii-festival-juvenil-europeo-de-teatro-grecolatino/
LOCATION:Teatro Romano\, Plaza de Margarita Xirgú\, Mérida
CATEGORIES:Educación,Teatro
ATTACH;FMTTYPE=image/jpeg:https://merida.es/wp-content/uploads/2017/03/festival-grecolatino-2017-peq.jpg
END:VEVENT
BEGIN:VEVENT
DTSTART;TZID=Europe/Madrid:20180413T210000
DTEND;TZID=Europe/Madrid:20180413T210000
DTSTAMP:20260423T062123
CREATED:20180409T070211Z
LAST-MODIFIED:20180409T070211Z
UID:57687-1523653200-1523653200@merida.es
SUMMARY:Teatro: "El último amor de Lorca"
DESCRIPTION:Espectáculo: “EL ÚLTIMO AMOR DE LORCA”\nCompañía: Labotika Teatro (EX3 Producciones)\nSinopsis: En 2010 fallece Juan Ramírez de Lucas\, crítico de arte español\, dejando en herencia una caja que contiene un diario\, dibujos\, poesías y una carta de Federico García Lorca\, en la que se revela que él fue el último amor del poeta. “El último amor de Lorca” pone en escena uno de los momentos históricos de mayor transcendencia cultural del Siglo XX: La recreación de un ambiente socio-politico marcado por el logro de los derechos de la mujer y la libertad de amar\, que fueron terriblemente truncados por un devenir que nos ha marcado a todos. Música\, baile\, poesía y teatro se funden en esta tragicomedia de la mano de personajes como Lorca\, Margarita Xirgu o Pura Ucealy.\nReparto: J.C. Corrales\, Miguel Pérez Polo\, Ana Franco\, Concha Rodríguez\, Raquel Palma\, Rüll Delgado y Javier Herrera.\nDirección: J. Raynaud.\nDuración: 100 minutos.\nTaquilla: Días 12 y 13 de abril\, de 11:00 a 13:00 y de 18:00 a 21:00 horas.\nPrecio: 8 €.
URL:https://merida.es/agenda/teatro-el-ultimo-amor-de-lorca/
LOCATION:Sala Trajano\, Calle Muza\, 50\, Mérida
CATEGORIES:Teatro
ATTACH;FMTTYPE=image/jpeg:https://merida.es/wp-content/uploads/2018/04/ultimo-amor-lorca-peq.jpg
END:VEVENT
BEGIN:VEVENT
DTSTART;TZID=Europe/Madrid:20180413T213000
DTEND;TZID=Europe/Madrid:20180413T213000
DTSTAMP:20260423T062123
CREATED:20180306T183336Z
LAST-MODIFIED:20180306T183336Z
UID:56911-1523655000-1523655000@merida.es
SUMMARY:Musical 'Michael Reloaded'
DESCRIPTION:Disfruta de este sensacional tributo al Rey del pop\, de la mano de la compañía de baile «Michael Reloaded». Un nostálgico y sentido viaje por la discografía del mítico y atemporal Michael Jackson. En este show musical de gran formato\, destinado a un público de todas las edades\, podrás revivir o conocer las impresionantes coreografías con las que Michael deslumbro al legado de fans más grande que ha dado la música.\nEn Mérida\, el 13 de abril\, en el Centro Cultural Alcazaba. Entradas >> https://www.giglon.com
URL:https://merida.es/agenda/musical-michael-reloaded/
LOCATION:Centro Cultural Alcazaba\, Calle John Lennon\, 5\, Mérida
CATEGORIES:Música,Teatro
ATTACH;FMTTYPE=image/jpeg:https://merida.es/wp-content/uploads/2018/03/michael-reloaded-peq.jpg
END:VEVENT
BEGIN:VEVENT
DTSTART;TZID=Europe/Madrid:20180415T190000
DTEND;TZID=Europe/Madrid:20180415T190000
DTSTAMP:20260423T062123
CREATED:20180409T071730Z
LAST-MODIFIED:20180409T071730Z
UID:57690-1523818800-1523818800@merida.es
SUMMARY:Teatro familiar: "La pandilla de Drilo"
DESCRIPTION:Espectáculo: “LA PANDILLA DE DRILO”.\nModalidad: Público Familiar.\nCompañía: La Pandilla de Drilo.\nSinopsis: Conoce a Drilo el cocodrilo; aprende con la tortuga Huga; baila con el elefante Pom-pom y la Jirafa Rafa; viaja al espacio con el perrito Guau o ríete con el payaso Fofó. Disfruta de las canciones más conocidas de la pandilla de Drilo en un espectáculo único\, 70 minutos de diversión para toda la familia.\nReparto: La Pandilla de Drilo.\nDirección: Ángel Casanova y Carmen María García.\nDuración: 70 minutos.\nTaquilla: Días 14 y 15 de abril\, de 10:00 a 12:00 y de 17:00 a 19:00 horas.\nPrecio: 3 € niños y 5 € adultos.
URL:https://merida.es/agenda/teatro-familiar-la-pandilla-de-drilo/
LOCATION:Sala Trajano\, Calle Muza\, 50\, Mérida
CATEGORIES:Infantil,Teatro
ATTACH;FMTTYPE=image/jpeg:https://merida.es/wp-content/uploads/2018/04/pandilla-drilo-peq.jpg
END:VEVENT
BEGIN:VEVENT
DTSTART;TZID=Europe/Madrid:20180421T210000
DTEND;TZID=Europe/Madrid:20180421T210000
DTSTAMP:20260423T062123
CREATED:20180409T091034Z
LAST-MODIFIED:20180409T091034Z
UID:57700-1524344400-1524344400@merida.es
SUMMARY:Teatro: "El cartógrafo"
DESCRIPTION:Espectáculo: “EL CARTOGRÁFO”\nCompañía: Entrecajas Producciones Teatrales S.L.\nSinopsis: El Teatro es cartografía. Como en el mapa\, en el escenario todo debe responder a una pregunta que alguien se ha hecho. Como en el mapa\, en el escenario lo más importante es decidir qué se quiere hacer visible y\, por tanto\, qué se deja fuera. En el escenario\, como en el mapa\, siempre se toma partido. El cartógrafo reclama una puesta en escena que sea\, con especial intensidad\, cartográfica. Dado que en su centro se halla un acontecimiento irrepresentable\, la obra exige preguntarse una y otra vez qué ofrecer al ojo y qué ocultarle para que la imaginación vea.\nLos grandes actores dan\, al ojo y a la imaginación\, mucho con muy poco. Blanca Portillo y José Luis García-Pérez son\, en el escenario\, enormes cartógrafos. Alejandro Andújar\, Mariano García\, Juan Gómez Cornejo\, Carlos Martínez Abarca y quien esto firma les hemos ayudado a trazar el mapa.\nReparto: Blanca Portillo y José Luis García-Pérez.\nDirección: Juan Mayorga.\nDuración: 120 minutos.\nTaquilla: Días 20 y 21 de abril\, de 11:00 a 13:00 y de 18:00 a 21:00 horas.\nPrecio: 15 €.
URL:https://merida.es/agenda/teatro-el-cartografo/
LOCATION:Sala Trajano\, Calle Muza\, 50\, Mérida
CATEGORIES:Teatro
ATTACH;FMTTYPE=image/jpeg:https://merida.es/wp-content/uploads/2018/04/el-cartografo-peq.jpg
END:VEVENT
BEGIN:VEVENT
DTSTART;TZID=Europe/Madrid:20180422T123000
DTEND;TZID=Europe/Madrid:20180422T170000
DTSTAMP:20260423T062123
CREATED:20180220T073944Z
LAST-MODIFIED:20180220T073944Z
UID:56523-1524400200-1524416400@merida.es
SUMMARY:Cantajuego: "Yo tengo derecho a jugar"
DESCRIPTION:CantaJuego presenta su nuevo espectáculo en Concierto: ‘Yo tengo derecho a jugar – Tour 2018’. Se trata de la nueva propuesta del Grupo EnCanto\, tras más de 10 años girando ininterrumpidamente por España\, convocando a toda la familia para cantar\, bailar y participar al ritmo de sus pegadizas canciones. En esta oportunidad\, los “CantaJuegos” despliegan toda su energía a través de las canciones más populares de su extenso repertorio\, incluyendo los hits de ‘Viva mi Planeta’\, su último trabajo nominado a los Grammy Latinos y CantaJuego – ‘In English!’ que han sido número 1 en ventas. Además\, contarán con los infaltables Coco\, Pepe y Buby\, a los que se suman muchos otros personajes que le dan color y alegría a un espectáculo vibrante y lleno de ritmo y color.\nEn Mérida\, en el Palacio de Congresos\, el domingo 22 de abril\, en dos sesiones: 12:30 y 17:00 horas. Venta de entradas: http://www.cantajuego.com
URL:https://merida.es/agenda/cantajuego-yo-tengo-derecho-a-jugar/
LOCATION:Palacio de Congresos\, Avda. del Rio s/n\, Mérida
CATEGORIES:Infantil,Música,Teatro
ATTACH;FMTTYPE=image/jpeg:https://merida.es/wp-content/uploads/2018/02/cantajuego-peq.jpg
END:VEVENT
BEGIN:VEVENT
DTSTART;TZID=Europe/Madrid:20180427T210000
DTEND;TZID=Europe/Madrid:20180427T210000
DTSTAMP:20260423T062123
CREATED:20180418T072421Z
LAST-MODIFIED:20180418T072421Z
UID:58005-1524862800-1524862800@merida.es
SUMMARY:Teatro: "La correspondencia personal de Federico García Lorca"
DESCRIPTION:Espectáculo: “LA CORRESPONDENCIA PERSONAL DE FEDERICO GARCÍA LORCA”\nCompañía: Histrión Teatro S.L.\nSinopsis: Un recorrido poético\, amargo y dulce que desemboca en un muro de recuerdos\, en una celda de muerte. Las cartas que envió a sus seres amados se convierten en el hilo conductor de un camino vital y desesperado plagado de recuerdos y anhelos.\nUn recorrido poético\, alegre y triste\, vital y desesperado\, amargo y dulce\, en el que las cartas que envió a los seres amados se convierten en el hilo conductor. Un Lorca desdoblado en hombre y mujer\, con esa dualidad que siempre le acompañó y unos actores que irrumpen en la sala\, los actores que él tanto amaba\, serán los vehículos perfectos para esta narración\, en ese bucle de teatro dentro del teatro que Federico acarició tantas veces\, una realidad que nace y se multiplica para que al final llevarnos a un mismo lugar.\nReparto: Gema Matarranz y Alejandro Vera.\nDirección: Juan Carlos Rubio.\nDuración: 70 minutos.\nTaquilla: Días 26 y 27 de abril\, de 11:00 a 13:00 y de 18:00 a 21:00 horas.\nPrecio: 10 €.
URL:https://merida.es/agenda/teatro-la-correspondencia-personal-de-federico-garcia-lorca/
LOCATION:Sala Trajano\, Calle Muza\, 50\, Mérida
CATEGORIES:Teatro
ATTACH;FMTTYPE=image/jpeg:https://merida.es/wp-content/uploads/2018/04/lorca-correspondencia-img.jpeg
END:VEVENT
BEGIN:VEVENT
DTSTART;TZID=Europe/Madrid:20180429T190000
DTEND;TZID=Europe/Madrid:20180429T190000
DTSTAMP:20260423T062123
CREATED:20180418T072956Z
LAST-MODIFIED:20180418T072956Z
UID:58008-1525028400-1525028400@merida.es
SUMMARY:Teatro familiar: "Antón Retaco"
DESCRIPTION:Espectáculo: “ANTÓN RETACO”\nModalidad: Público Familiar.\nCompañía: Titiriteros de Binéfar\nSinopsis: María Luisa Gefaell (Premio Nacional de Literatura 1952) publicó en 1955 un precioso libro para niños: Antón Retaco. La vida de una pequeña compañía de artistas ambulantes retratada con la mirada tierna y amable de Antón\, un niño enano. La troupe que recorre los caminos de Castilla está formada por la también enana Doña Martita Gorgojo\, madre de Antón\, su padre el levantador de pesos Don Plácido Recio\, el caballo Cascabillo\, la mona Carantoñas y los perritos sabios Can-Can y Tuso\, a ellos se añade un sacristán con alma de artista\, “el tío Badajo”. El relato constituye un canto a la vida libre\, al teatro popular\, al valor de las cosas sencillas y a la mirada limpia\, poética y amable sobre las cosas.\nReparto: Paco Paricio.\nDirección: Paco Paricio.\nDuración: 55 minutos.\nTaquilla: Días 28 y 29 de abril\, de 10:00 a 12:00 y de 17:00 a 19:00 horas.\nPrecio: 3 € niños y 5 € adultos.
URL:https://merida.es/agenda/teatro-familiar-anton-retaco/
LOCATION:Sala Trajano\, Calle Muza\, 50\, Mérida
CATEGORIES:Infantil,Teatro
ATTACH;FMTTYPE=image/jpeg:https://merida.es/wp-content/uploads/2018/04/anton-retaco-img.jpg
END:VEVENT
END:VCALENDAR