﻿BEGIN:VCALENDAR
VERSION:2.0
PRODID:-//Ayuntamiento de Mérida - ECPv6.15.17.1//NONSGML v1.0//EN
CALSCALE:GREGORIAN
METHOD:PUBLISH
X-ORIGINAL-URL:https://merida.es
X-WR-CALDESC:Eventos para Ayuntamiento de Mérida
REFRESH-INTERVAL;VALUE=DURATION:PT1H
X-Robots-Tag:noindex
X-PUBLISHED-TTL:PT1H
BEGIN:VTIMEZONE
TZID:Europe/Madrid
BEGIN:DAYLIGHT
TZOFFSETFROM:+0100
TZOFFSETTO:+0200
TZNAME:CEST
DTSTART:20240331T010000
END:DAYLIGHT
BEGIN:STANDARD
TZOFFSETFROM:+0200
TZOFFSETTO:+0100
TZNAME:CET
DTSTART:20241027T010000
END:STANDARD
BEGIN:DAYLIGHT
TZOFFSETFROM:+0100
TZOFFSETTO:+0200
TZNAME:CEST
DTSTART:20250330T010000
END:DAYLIGHT
BEGIN:STANDARD
TZOFFSETFROM:+0200
TZOFFSETTO:+0100
TZNAME:CET
DTSTART:20251026T010000
END:STANDARD
BEGIN:DAYLIGHT
TZOFFSETFROM:+0100
TZOFFSETTO:+0200
TZNAME:CEST
DTSTART:20260329T010000
END:DAYLIGHT
BEGIN:STANDARD
TZOFFSETFROM:+0200
TZOFFSETTO:+0100
TZNAME:CET
DTSTART:20261025T010000
END:STANDARD
BEGIN:DAYLIGHT
TZOFFSETFROM:+0100
TZOFFSETTO:+0200
TZNAME:CEST
DTSTART:20270328T010000
END:DAYLIGHT
BEGIN:STANDARD
TZOFFSETFROM:+0200
TZOFFSETTO:+0100
TZNAME:CET
DTSTART:20271031T010000
END:STANDARD
END:VTIMEZONE
BEGIN:VEVENT
DTSTART;TZID=Europe/Madrid:20251106T190000
DTEND;TZID=Europe/Madrid:20251106T220000
DTSTAMP:20260420T064919
CREATED:20251103T081632Z
LAST-MODIFIED:20251106T080141Z
UID:144508-1762455600-1762466400@merida.es
SUMMARY:Teatro: "Desde dentro\, Julieta"
DESCRIPTION:JUEVES 6 DE NOVIEMBRE \nEspectáculo: Desde dentro\, Julieta\nCompañía: El Desván y Literal Artes Escénicas \nSinopsis: ‘Desde dentro\, Julieta’\, de MariFé Suárez\, propone una manera completamente nueva de acercarse a Shakespeare. Se trata de un proyecto inmersivo 360º que convierte la obra en una experiencia sensorial y teatral única. \nEl público\, limitado a 60 butacas\, se sumerge en un espacio rodeado por cuatro pantallas de gran formato que envuelven la acción. Allí\, actriz y espectadores comparten un mismo territorio íntimo en el que las emociones de Julieta —sus anhelos\, sus miedos y sus ilusiones— cobran vida a través de imágenes\, sonidos y proyecciones. \nLa propuesta\, dirigida por MariFé Suárez y enriquecida con las ilustraciones de Sheila y Nazareth León\, no se limita a revisitar el clásico: lo reinterpreta con un lenguaje visual contemporáneo que atrapa la mirada y despierta la sensibilidad. El resultado es un viaje inmersivo y poético que invita a vivir la historia de la joven de Verona “desde dentro”\, con una cercanía y una fuerza visual difícil de olvidar. \nDirección: MariFé Suárez\nActriz: Laura Nieto \nPases: 19:00h – 20:00h – 21:00h \nEntrada: 5€\nTaquilla: Centro Cultural de Nueva Ciudad\, de 9 a 14 y de 17 a 20 horas\, desde el día antes miércoles 5 de noviembre. \nObra perteneciente a la Red de Teatro de Extremadura
URL:https://merida.es/agenda/teatro-desde-dentro-julieta/
LOCATION:Centro Cultural de Nueva Ciudad\, Calle Antonio Rodríguez Moñino s/n\, Mérida\, 06800\, Spain
CATEGORIES:Teatro
ATTACH;FMTTYPE=image/jpeg:https://merida.es/wp-content/uploads/2025/11/2025-teatro-desde-dentro-julieta-peq.jpg
END:VEVENT
BEGIN:VEVENT
DTSTART;TZID=Europe/Madrid:20251108T190000
DTEND;TZID=Europe/Madrid:20251108T190000
DTSTAMP:20260420T064920
CREATED:20250528T121158Z
LAST-MODIFIED:20250926T064937Z
UID:140819-1762628400-1762628400@merida.es
SUMMARY:Teatro: "Dos hombres solos sin punto com ni ná" (25 aniversario)
DESCRIPTION:SÁBADO 8 de noviembre 2025\nEspectáculo: DOS HOMBRES SOLOS SIN PUNTO COM NI NÁ\nCompañía: Kuver Producciones \nSinopsis: Un espectáculo que toca el humor más natural de nuestras «Maris». Manolo Medina caracterizado como una maruja muy charlatana convive con un joven de hormonas activas. \nDos hombres solteros comparten piso: uno trae el dinero a casa; el otro\, muy afeminado\, se encarga de las labores domésticas siempre con su delantal y un abanico de lunares. No son pareja\, de hecho ninguno de los dos es homosexual\, pese a lo que afirman las habladurías del vecindario. \nLa convivencia entre dos personas tan diferentes provoca toda una serie de situaciones que derivan en la carcajada con ese humor tan característico\, provocando constantemente la complicidad del público. \nManolo Medina y David Caballero vuelven de gira por toda España con la que se ha convertido en la comedia más longeva de nuestro país\, con un espectáculo totalmente renovado pero manteniendo la esencia de siempre. Cualquier cosa puede pasar cada noche con este dúo… \nDirección: Manolo Medina\nIntérpretes: Manolo Medina y David Caballero \nEntradas: https://www.giglon.com 
URL:https://merida.es/agenda/teatro-dos-hombres-solos-sin-punto-com-ni-na-gira-25-aniversario/
LOCATION:Centro Cultural Alcazaba\, Calle John Lennon\, 5\, Mérida
CATEGORIES:Teatro
ATTACH;FMTTYPE=image/jpeg:https://merida.es/wp-content/uploads/2025/05/2025-dos-hombres-solos-peq2-1.jpg
END:VEVENT
BEGIN:VEVENT
DTSTART;TZID=Europe/Madrid:20251109T123000
DTEND;TZID=Europe/Madrid:20251109T123000
DTSTAMP:20260420T064920
CREATED:20250609T221152Z
LAST-MODIFIED:20250609T221152Z
UID:141202-1762691400-1762691400@merida.es
SUMMARY:Que Festín 2\, El Poder de la Rosa
DESCRIPTION:‘Qué festín 2. El poder de la rosa’ es un musical donde la trama principal es la historia de Bella y Bestia desde el amanecer en la aldea hasta el desenlace donde el maleficio se rompe al fin tras el enamoramiento de ambos. Durante el transcurso del musical\, protagonizado por los narradores\, la tetera Señora Pott\, Lumiere\, Dindon y Chip\, así como las intervenciones de Gastón y su inseparable Lefou\, van dando paso a más de 25 personajes de los diferentes cuentos de Disney\, desde los mas clásicos como el Libro de la Selva\, hasta los mas actuales como Encanto o Wish\, la ultima producción de la factoría. \nUn musical\, para toda la familia\, con un elenco de voces en directo\, coreografías espectaculares junto con videomaping que realza las representaciones de las escenas con dos escenografías diferentes y un cuidadoso vestuario\, con mas de 20 cambios. \nEntradas: https://www.giglon.com/todos?idEvent=que-festin-2—merida
URL:https://merida.es/agenda/que-festin-2-el-poder-de-la-rosa/
LOCATION:Palacio de Congresos\, Avda. del Rio s/n\, Mérida
CATEGORIES:Música,Teatro
ATTACH;FMTTYPE=image/jpeg:https://merida.es/wp-content/uploads/2025/06/2025-que-festin-peq.jpg
END:VEVENT
BEGIN:VEVENT
DTSTART;TZID=Europe/Madrid:20251114T203000
DTEND;TZID=Europe/Madrid:20251114T203000
DTSTAMP:20260420T064920
CREATED:20250807T093821Z
LAST-MODIFIED:20251107T130909Z
UID:142696-1763152200-1763152200@merida.es
SUMMARY:Noche de Hipnosis con Germán Rehermann
DESCRIPTION:Título del espectáculo: Noche de Hipnosis con Germán Rehermann \nSinopsis: Un espectáculo que ha cautivado a más de quince mil espectadores. Todos los participantes serán voluntarios (no se utilizan compinches ni actores) que vivirán experiencias increíbles\, desde ver en vivo al personaje famoso elegido\, hasta emborracharse con sólo beber agua o tener orgasmos hipnóticos.  \nUn espectáculo en el que los hipnotizados disfrutan tanto o más que el resto de espectadores. \nComenzará la sesión ofreciendo una explicación sobre lo que es la hipnosis y cómo funciona. Esta es tu oportunidad para vivir la hipnosis en persona. \nEdad recomendada: Todos los públicos\nPase: 14 de noviembre. 20:30 horas. \nMás información y entradas: https://www.teatromarialuisa.org/
URL:https://merida.es/agenda/noche-de-hipnosis-con-german-rehermann/
LOCATION:Teatro María Luisa\, Calle Camilo José Cela\, 9\, Mérida\, España
CATEGORIES:Teatro
ATTACH;FMTTYPE=image/jpeg:https://merida.es/wp-content/uploads/2025/08/2025-noche-hipnosis-peq.jpg
END:VEVENT
BEGIN:VEVENT
DTSTART;VALUE=DATE:20251120
DTEND;VALUE=DATE:20251122
DTSTAMP:20260420T064920
CREATED:20250807T095149Z
LAST-MODIFIED:20251117T125834Z
UID:142699-1763596800-1763769599@merida.es
SUMMARY:Gran Circo Acrobático de China
DESCRIPTION:Título del espectáculo: Gran Circo Acrobático de China\nCompañía: Planeta Fama \nSinopsis: Gran Circo Acrobático de China\, un deleite para los cinco sentidos. Calificado como único en el mundo y con más de 30 artistas en escena\, la mayoría medallistas olímpicos y algunos procedentes del Cirque du Soleil. No pierdas la oportunidad de ver un espectáculo único\, una propuesta capaz de atraer a todos los públicos\, y en especial\, al más familiar. \nEmprende un viaje fascinante junto a nuestro protagonista\, un niño con un espíritu intrépido que se atreve a cruzar los límites de lo conocido para adentrarse en un mundo de fantasía y misterio. Su curiosidad lo llevará a descubrir a la majestuosa hada Fénix\, una criatura etérea que surca los cielos sobre el mar. Deslumbrado por su belleza\, intentará alcanzarla\, pero al dar el salto\, caerá en las profundidades del océano. La hada\, con su magia y gracia\, lo rescatará y lo invitará a volar con ella hasta el cálido sol. A su lado\, se sumergirá en el universo marino y despertará una historia donde la magia se despliega en cada rincón. \nA través de la danza\, la expresividad de los artistas y un despliegue visual que equilibra lo espectacular con lo minimalista\, serás testigo de un espectáculo lleno de malabares\, acrobacias y coreografías vibrantes\, al compás de melodías de inspiración oriental. El colorido de los trajes y la iluminación envolvente crearán una atmósfera única\, transportándote a un mundo donde todo es posible. \nEdad recomendada: Todos los públicos\nPase: 20 de noviembre: 20:30 horas. 21 de noviembre: 20:30 horas. \nMás información y entradas: https://www.teatromarialuisa.org/
URL:https://merida.es/agenda/gran-circo-acrobatico-de-china/
LOCATION:Teatro María Luisa\, Calle Camilo José Cela\, 9\, Mérida\, España
CATEGORIES:Teatro
ATTACH;FMTTYPE=image/jpeg:https://merida.es/wp-content/uploads/2025/08/2025-circo-china-peq.jpg
END:VEVENT
BEGIN:VEVENT
DTSTART;TZID=Europe/Madrid:20251120T183000
DTEND;TZID=Europe/Madrid:20251120T183000
DTSTAMP:20260420T064920
CREATED:20251120T160417Z
LAST-MODIFIED:20251120T160738Z
UID:144987-1763663400-1763663400@merida.es
SUMMARY:¡Este Jueves te Cuento!: "Lulita Mariquita"
DESCRIPTION:Vuelven los Cuentacuentos al Rincon de los Cuentos del Centro Cultural Alcazaba organizados por la Biblioteca Municipal Juan Pablo Forner bajo la actividad ‘¡Este Jueves te Cuento!’. \nJueves 20 de noviembre. 18:30h\nLULITA MARIQUITA\nLourdes Gallardo \nJueves 27 de noviembre. 18:30h\nCUENTOS DEL MÁS ATRÁS\nSonia Luchena \nJueves 4 de diciembre. 18:30hh\nCUENTOS DE AUTORA\nPilar Gálvez \nJueves 18 de diciembre. 18:30h\nCUENTOS DEL MÁS ATRÁS\nSonia Luchena
URL:https://merida.es/agenda/este-jueves-te-cuento-lulita-mariquita/
LOCATION:Centro Cultural Alcazaba\, Calle John Lennon\, 5\, Mérida
CATEGORIES:Infantil,Teatro
ATTACH;FMTTYPE=image/jpeg:https://merida.es/wp-content/uploads/2025/11/2025-jueves-te-cuento-lulita-peq.jpg
END:VEVENT
BEGIN:VEVENT
DTSTART;TZID=Europe/Madrid:20251122T203000
DTEND;TZID=Europe/Madrid:20251122T203000
DTSTAMP:20260420T064920
CREATED:20251006T105244Z
LAST-MODIFIED:20251006T105244Z
UID:143983-1763843400-1763843400@merida.es
SUMMARY:Sutottos 'Feliz Día'
DESCRIPTION:SÁBADO 22 DE NOVIEMBRE 20:30H  \nEspectáculo: Feliz Día \nSinopsis:\nFeliz Día es una comedia existencial que\, con el característico humor de la compañía argentina Sutottos\, reflexiona sobre el mandato social de la felicidad. La obra presenta a dos hermanos mellizos atrapados en su infancia\, enfrentados al peso de cumplir cuarenta años y al vacío emocional que los rodea.  \nCon música original en vivo\, escenas absurdas y una estética cuidada\, la pieza explora el conflicto entre el deseo de ser feliz y la imposición constante de parecerlo.  \n“Feliz Día” se sumerge en las contradicciones humanas con ironía y profundidad\, confirmando una vez más el talento de Sutottos para combinar risa y crítica social en un teatro contemporáneo y universal. \nDirección y guion: Andrés Caminos y Gadiel Sztryk\nIntérpretes: Andrés Caminos y Gadiel Sztryk (Sutottos)  \nEntrada única: 5€\nEntrada con Carné Joven: 2\,50€\nHorario de taquilla: días 21 y 22 de noviembre\, de 11:00 a 13:00 y de 18:30 a 20:30 horas.
URL:https://merida.es/agenda/sutottos-feliz-dia/
LOCATION:Sala Trajano\, Calle Muza\, 50\, Mérida
CATEGORIES:Teatro
ATTACH;FMTTYPE=image/jpeg:https://merida.es/wp-content/uploads/2025/10/2025-feliz-dia-suttotos-peq.jpg
END:VEVENT
BEGIN:VEVENT
DTSTART;TZID=Europe/Madrid:20251123T180000
DTEND;TZID=Europe/Madrid:20251123T180000
DTSTAMP:20260420T064920
CREATED:20250306T115343Z
LAST-MODIFIED:20250306T115343Z
UID:138529-1763920800-1763920800@merida.es
SUMMARY:David Navarro "No tengo remedio"
DESCRIPTION:Desde que es cómico\, David Navarro no ha dejado de enfadarse en el escenario con todos aquellos que le hacían la vida imposible y con todo lo que le ponía de los nervios. Ahora ha llegado el momento de hacerlo sobre sí mismo. En “No tengo remedio”\, el artista jienense se sincera\, por primera vez\, ante su público de todos sus pecados\, de sus estúpidas manías\, de lo insoportable que puede llegar a ser y lo hace buscando la redención\, el perdón de Dios y de todos los demás\, incluido tú. Una comedia donde no pararás de reír y donde te encontrarás al David Navarro más auténtico. \nEntradas: https://www.vivaticket.es
URL:https://merida.es/agenda/david-navarro-no-tengo-remedio/
LOCATION:Palacio de Congresos\, Avda. del Rio s/n\, Mérida
CATEGORIES:Teatro
ATTACH;FMTTYPE=image/jpeg:https://merida.es/wp-content/uploads/2025/03/2025-david-navarro-peq.jpg
END:VEVENT
BEGIN:VEVENT
DTSTART;TZID=Europe/Madrid:20251127T183000
DTEND;TZID=Europe/Madrid:20251127T183000
DTSTAMP:20260420T064920
CREATED:20251121T102932Z
LAST-MODIFIED:20251121T102932Z
UID:145009-1764268200-1764268200@merida.es
SUMMARY:¡Este Jueves te Cuento!: "Cuentos del más atrás"
DESCRIPTION:Vuelven los Cuentacuentos al Rincon de los Cuentos del Centro Cultural Alcazaba organizados por la Biblioteca Municipal Juan Pablo Forner bajo la actividad ‘¡Este Jueves te Cuento!’. \nJueves 20 de noviembre. 18:30h\nLULITA MARIQUITA\nLourdes Gallardo \nJueves 27 de noviembre. 18:30h\nCUENTOS DEL MÁS ATRÁS\nSonia Luchena \nJueves 4 de diciembre. 18:30hh\nCUENTOS DE AUTORA\nPilar Gálvez \nJueves 18 de diciembre. 18:30h\nCUENTOS DEL MÁS ATRÁS\nSonia Luchena
URL:https://merida.es/agenda/este-jueves-te-cuento-cuentos-del-mas-atras/
LOCATION:Centro Cultural Alcazaba\, Calle John Lennon\, 5\, Mérida
CATEGORIES:Infantil,Teatro
ATTACH;FMTTYPE=image/jpeg:https://merida.es/wp-content/uploads/2025/11/2025-jueves-te-cuento-peq2.jpg
END:VEVENT
BEGIN:VEVENT
DTSTART;VALUE=DATE:20251128
DTEND;VALUE=DATE:20260107
DTSTAMP:20260420T064920
CREATED:20251126T122042Z
LAST-MODIFIED:20251218T230415Z
UID:145112-1764288000-1767743999@merida.es
SUMMARY:Navidad en Mérida
DESCRIPTION:Numerosas actividades tendrán lugar esta Navidad en Mérida que se desarrollen en distintos puntos de la ciudad con la colaboración de colectivos culturales\, deportivos\, sociales y religiosos en una programación en la que destaca la Proyección de un espectáculo de imagen\, luz y sonido sobre la fachada del Palacio de la China\, del 15 al 21 de diciembre. \nEl viernes 28 de noviembre\, a las 19:00 horas\, tras el encendido de la iluminación especial\, la Plaza de España acogerá el Concierto de Celia Vergara con la Mérida Big Bang y el sábado\, a partir de las 18:00 horas\, se celebrará la Fiesta DJs de Europa FM “Hola Mérida” para dar la bienvenida a la Navidad en la ciudad. \nEn el apartado musical\, habrá tres zambombás durante las navidades en la Plaza de España y\, el 27 de diciembre\, un concierto tributo a Mecano y la actuación de los Casetes\, finalizando la parte musical con las preuvas infantiles y adultas el 29 de diciembre\, tanto por la mañana como por la tarde-noche\, respectivamente. \nPor otro lado\, también hay que destacar la instalación del Gran Belén Municipal en el Centro Cultural Alcazaba en colaboración con la Asociación de Belenistas de Mérida y el Misterio de tamaño natural en el Patio Noble de la Asamblea de Extremadura junto a dioramas navideños. También\, un año más\, el Museo ha montado el Belén de Playmobil en la Colección Visigoda. \nPor otro lado\, además de la San Silvestre el 30 de diciembre\, más de 20 colectivos están trabajando ya en la preparación de la Cabalgata de Reyes 2026 que se celebrará el 5 de enero. \nPor otro lado\, en el reformado Parque López de Ayala estará instalado el Mercado Artesanal Navideño\, con el objetivo de fomentar el comercio local y a los artesanos y artesanas de la ciudad y que estará abierto hasta el 5 de enero. Por último\, la delegada ha destacado Navilandia\, que abrió sus puertas el pasado viernes en IFEME y que estará hasta el fin de semana posterior a Reyes. \nProgramación Navidad en Mérida 2025 \nProgramación Navidad en Mérida 2025 (Lectura Fácil)
URL:https://merida.es/agenda/navidad-en-merida-2025/
LOCATION:Varios puntos de la ciudad\, Mérida
CATEGORIES:Infantil,Música,Navidad,Ocio,Santa Eulalia,Teatro
ATTACH;FMTTYPE=image/jpeg:https://merida.es/wp-content/uploads/2024/11/2024-navidad-en-merida-banner.jpg
END:VEVENT
BEGIN:VEVENT
DTSTART;TZID=Europe/Madrid:20251128T200000
DTEND;TZID=Europe/Madrid:20251128T200000
DTSTAMP:20260420T064920
CREATED:20251113T225659Z
LAST-MODIFIED:20251113T225659Z
UID:144771-1764360000-1764360000@merida.es
SUMMARY:Teatro: "El curso de tu vida"
DESCRIPTION:El espiritual Adrián del Castillo se prepara para dar su «curso de cocina crudivegana» en el Centro de Ocio y Cultura más selecto de la ciudad. Sin embargo\, no está preparado para todo lo que va a acontecer en este día: un novio que no viene\, un alegre sevillano con mucho «arte»\, un chico de Cuenca con problemas de relaciones sociales\, una famosa actriz del más allá\, una desesperada secretaria empeñada en que hoy todo salga perfecto y un misterioso almacén que les hará recapacitar sobre el curso de su vida. Pero y el maestro\, ¿dónde se ha metido? \nA través de esta comedia de enredo\, en la que todo está conectado y donde el público serán los alumnos asistentes al taller\, los personajes se conocerán a sí mismos y encontrarán un sentido a su existencia\, siendo el curso que cambiará sus vidas para siempre. El montaje ahonda en temas universales como las relaciones familiares\, el amor\, la incomunicación\, la fortuna o la muerte. \nProtagonizada por Bernardo Rivera\, ‘El curso de tu vida’ es el primer espectáculo dirigido por la reconocida actriz Pepa Rus\, conocida por sus trabajos en series de televisión como Aida\, Gym Tonic o La que se avecina.‌ \nEl viernes 28 de noviembre\, a las 20:00 horas\, en el Centro Cultural Santo Domingo. Entrada libre hasta completar aforo
URL:https://merida.es/agenda/teatro-el-curso-de-tu-vida/
LOCATION:Centro Cultural Santo Domingo Fundación CB\, Plaza de Santo Domingo\, s/n\, Mérida
CATEGORIES:Teatro
ATTACH;FMTTYPE=image/jpeg:https://merida.es/wp-content/uploads/2025/11/2025-teatro-el-curso-de-tu-vida-peq.jpg
END:VEVENT
BEGIN:VEVENT
DTSTART;TZID=Europe/Madrid:20251128T203000
DTEND;TZID=Europe/Madrid:20251128T203000
DTSTAMP:20260420T064920
CREATED:20250807T100304Z
LAST-MODIFIED:20251117T125308Z
UID:142702-1764361800-1764361800@merida.es
SUMMARY:Isabel Rey: Diva de barrio
DESCRIPTION:Título del espectáculo: Isabel Rey: Diva de barrio \nSinopsis: A través de sus recuerdos\, Isabel reclama que vivimos en un mundo en el que fingimos felicidad a través de una pantalla para mostrárselo a los demás y luego estamos más amargados que cristo clavado en la cruz. \nIsabel es una chica sin filtros\, que derrocha naturalidad. En este show nos deleita sus mejores anécdotas\, con todo lujo de detalles\, y un cierre musical que no te podrás perder. \nUn show donde hay de todo menos postureo. \nEdad recomendada: A partir de 16 años\nPase: 28 de noviembre: 20:30 horas. \nMás información y entradas: https://www.teatromarialuisa.org/
URL:https://merida.es/agenda/isabel-rey-diva-de-barrio/
LOCATION:Teatro María Luisa\, Calle Camilo José Cela\, 9\, Mérida\, España
CATEGORIES:Teatro
ATTACH;FMTTYPE=image/jpeg:https://merida.es/wp-content/uploads/2025/08/2025-isabel-rey-peq.jpg
END:VEVENT
BEGIN:VEVENT
DTSTART;TZID=Europe/Madrid:20251129T163000
DTEND;TZID=Europe/Madrid:20251129T190000
DTSTAMP:20260420T064920
CREATED:20250306T122848Z
LAST-MODIFIED:20250306T122848Z
UID:138536-1764433800-1764442800@merida.es
SUMMARY:Cantajuego "20 años\, La Gira"
DESCRIPTION:CantaJuego cumple 20 años y lo celebra girando por toda España con un espectáculo a medida que unirá a generaciones en una experiencia mágica. Revive momentos memorables con los queridos cantajuegos Puli\, Ainhoa\, Rodri\, Eugenia y con sus entrañables amigos Coco\, Pepe y Buby que siempre les acompañan\, en este especial aniversario que honra dos décadas de música y diversión\, rindiendo homenaje a los seguidores de siempre y a los nuevos. Disfruta de una experiencia única con las mejores canciones\, música y coreografías que han marcado la infancia de miles de niños\, en un espectáculo que une pasado y presente. No pierdas la oportunidad de formar parte de esta festiva y emotiva celebración. \nEn total\, más de 80 minutos de música\, baile y diversión a puro ritmo CantaJuego. 2 sesiones: 16:30 y 19:00 horas. \nEntradas: https://www.entradas.com
URL:https://merida.es/agenda/cantajuego-20-anos-la-gira/
LOCATION:Palacio de Congresos\, Avda. del Rio s/n\, Mérida
CATEGORIES:Infantil,Teatro
ATTACH;FMTTYPE=image/jpeg:https://merida.es/wp-content/uploads/2025/03/2025-cantajuego-peq.jpg
END:VEVENT
BEGIN:VEVENT
DTSTART;TZID=Europe/Madrid:20251129T203000
DTEND;TZID=Europe/Madrid:20251129T203000
DTSTAMP:20260420T064920
CREATED:20251006T111044Z
LAST-MODIFIED:20251006T113142Z
UID:143987-1764448200-1764448200@merida.es
SUMMARY:Teatro: "Baibai"
DESCRIPTION:SÁBADO 29 DE NOVIEMBRE 20:30H \nEspectáculo: Baibai\nCompañía: Tupá Percusión Teatral \nSinopsis:\nSe trata de una obra de clown filosófico que aborda el tema tabú de la muerte desde la risa y lo sensible\, acompañando al personaje Cándido en un viaje de despedida lleno de recuerdos\, emociones y reflexiones sobre la urgencia de la vida. La compañía funde en este montaje el humor\, la consciencia y la emotividad propia del clown adulto\, continuando así su trayectoria de espectáculos que exploran la condición humana desde la inocencia del payaso.  \nDirección: Alberto Quirós\nIntérpretes: Javi López Oliva \nEdad Recomendada: a partir de 12 años \nEntrada única: 5€\nEntrada con Carné Joven: 2\,50€\nHorario de taquilla: 28 y 29 de noviembre\, de 11:00 a 13:00 y de 18:30 a 20:30 horas. Reservas en salatrajanomerida@gmail.com
URL:https://merida.es/agenda/teatro-baibai/
LOCATION:Sala Trajano\, Calle Muza\, 50\, Mérida
CATEGORIES:Teatro
ATTACH;FMTTYPE=image/jpeg:https://merida.es/wp-content/uploads/2025/10/baibai-peq.jpg
END:VEVENT
END:VCALENDAR