﻿BEGIN:VCALENDAR
VERSION:2.0
PRODID:-//Ayuntamiento de Mérida - ECPv6.15.17.1//NONSGML v1.0//EN
CALSCALE:GREGORIAN
METHOD:PUBLISH
X-ORIGINAL-URL:https://merida.es
X-WR-CALDESC:Eventos para Ayuntamiento de Mérida
REFRESH-INTERVAL;VALUE=DURATION:PT1H
X-Robots-Tag:noindex
X-PUBLISHED-TTL:PT1H
BEGIN:VTIMEZONE
TZID:Europe/Madrid
BEGIN:DAYLIGHT
TZOFFSETFROM:+0100
TZOFFSETTO:+0200
TZNAME:CEST
DTSTART:20240331T010000
END:DAYLIGHT
BEGIN:STANDARD
TZOFFSETFROM:+0200
TZOFFSETTO:+0100
TZNAME:CET
DTSTART:20241027T010000
END:STANDARD
BEGIN:DAYLIGHT
TZOFFSETFROM:+0100
TZOFFSETTO:+0200
TZNAME:CEST
DTSTART:20250330T010000
END:DAYLIGHT
BEGIN:STANDARD
TZOFFSETFROM:+0200
TZOFFSETTO:+0100
TZNAME:CET
DTSTART:20251026T010000
END:STANDARD
BEGIN:DAYLIGHT
TZOFFSETFROM:+0100
TZOFFSETTO:+0200
TZNAME:CEST
DTSTART:20260329T010000
END:DAYLIGHT
BEGIN:STANDARD
TZOFFSETFROM:+0200
TZOFFSETTO:+0100
TZNAME:CET
DTSTART:20261025T010000
END:STANDARD
BEGIN:DAYLIGHT
TZOFFSETFROM:+0100
TZOFFSETTO:+0200
TZNAME:CEST
DTSTART:20270328T010000
END:DAYLIGHT
BEGIN:STANDARD
TZOFFSETFROM:+0200
TZOFFSETTO:+0100
TZNAME:CET
DTSTART:20271031T010000
END:STANDARD
END:VTIMEZONE
BEGIN:VEVENT
DTSTART;VALUE=DATE:20251128
DTEND;VALUE=DATE:20260107
DTSTAMP:20260419T213217
CREATED:20251126T122042Z
LAST-MODIFIED:20251218T230415Z
UID:145112-1764288000-1767743999@merida.es
SUMMARY:Navidad en Mérida
DESCRIPTION:Numerosas actividades tendrán lugar esta Navidad en Mérida que se desarrollen en distintos puntos de la ciudad con la colaboración de colectivos culturales\, deportivos\, sociales y religiosos en una programación en la que destaca la Proyección de un espectáculo de imagen\, luz y sonido sobre la fachada del Palacio de la China\, del 15 al 21 de diciembre. \nEl viernes 28 de noviembre\, a las 19:00 horas\, tras el encendido de la iluminación especial\, la Plaza de España acogerá el Concierto de Celia Vergara con la Mérida Big Bang y el sábado\, a partir de las 18:00 horas\, se celebrará la Fiesta DJs de Europa FM “Hola Mérida” para dar la bienvenida a la Navidad en la ciudad. \nEn el apartado musical\, habrá tres zambombás durante las navidades en la Plaza de España y\, el 27 de diciembre\, un concierto tributo a Mecano y la actuación de los Casetes\, finalizando la parte musical con las preuvas infantiles y adultas el 29 de diciembre\, tanto por la mañana como por la tarde-noche\, respectivamente. \nPor otro lado\, también hay que destacar la instalación del Gran Belén Municipal en el Centro Cultural Alcazaba en colaboración con la Asociación de Belenistas de Mérida y el Misterio de tamaño natural en el Patio Noble de la Asamblea de Extremadura junto a dioramas navideños. También\, un año más\, el Museo ha montado el Belén de Playmobil en la Colección Visigoda. \nPor otro lado\, además de la San Silvestre el 30 de diciembre\, más de 20 colectivos están trabajando ya en la preparación de la Cabalgata de Reyes 2026 que se celebrará el 5 de enero. \nPor otro lado\, en el reformado Parque López de Ayala estará instalado el Mercado Artesanal Navideño\, con el objetivo de fomentar el comercio local y a los artesanos y artesanas de la ciudad y que estará abierto hasta el 5 de enero. Por último\, la delegada ha destacado Navilandia\, que abrió sus puertas el pasado viernes en IFEME y que estará hasta el fin de semana posterior a Reyes. \nProgramación Navidad en Mérida 2025 \nProgramación Navidad en Mérida 2025 (Lectura Fácil)
URL:https://merida.es/agenda/navidad-en-merida-2025/
LOCATION:Varios puntos de la ciudad\, Mérida
CATEGORIES:Infantil,Música,Navidad,Ocio,Santa Eulalia,Teatro
ATTACH;FMTTYPE=image/jpeg:https://merida.es/wp-content/uploads/2024/11/2024-navidad-en-merida-banner.jpg
END:VEVENT
BEGIN:VEVENT
DTSTART;TZID=Europe/Madrid:20260104T180000
DTEND;TZID=Europe/Madrid:20260104T180000
DTSTAMP:20260419T213217
CREATED:20260114T004348Z
LAST-MODIFIED:20260114T004440Z
UID:145952-1767549600-1767549600@merida.es
SUMMARY:Teatro infantil: "Lola Toc Toc. Viaje a la Isla de los Sueños"
DESCRIPTION:Espectáculo: Lola Toc Toc. Viaje a la Isla de los Sueños \nSinopsis: Lola toc toc llega con su Maleta Rosa cargada de elementos y sorpresas para llevarnos a explorar la Isla de los Sueños\, el maravilloso mundo donde vive. En este viaje\, las familias encontrarán lugares mágicos como el Estudio de Pintura\, harán nuevos amigos como el Espantapájaros Patoso e\, incluso\, darán la vuelta al mundo. A través de sus canciones\, los y las peques y sus acompañantes vivirán una auténtica aventura que despertará no solo su imaginación sino también su Niño Interior.  \nViaje a la Isla de los Sueños es una propuesta de concierto familiar en el que se busca sorprender a pequeños y mayores. Tiene como objetivo principal el disfrute de los y las niñas de 3 a 8 años\, pero también busca estrechar los lazos emocionales y la confianza entre padres e hijos invitándoles a participar en familia y activamente durante todo el espectáculo de tres maneras: bailando\, jugando e imaginando juntos. \nPúblico recomendado: Infantil y Familiar. \nEntrada única: 3€ (*Descuentos del 50% aplicable a: carnet estudiante\, carnet joven europeo\, personas jubiladas-pensionistas\, familia numerosa y personas en desempleo) \nTaquilla: Días 3 y 4. Horario de mañana: de 11:00 a 13:00h. Horario de tarde: día 3 de enero de 18:30 a 20:30h; y día 4 de 11.00 h a 13.00 h y de 16:00 h a 18:00h. Reservas en el email: salatrajanomerida@gmail.com
URL:https://merida.es/agenda/teatro-infantil-lola-toc-toc-viaje-a-la-isla-de-los-suenos/
LOCATION:Sala Trajano\, Calle Muza\, 50\, Mérida
CATEGORIES:Infantil,Teatro
ATTACH;FMTTYPE=image/jpeg:https://merida.es/wp-content/uploads/2026/01/2026-lola-toc-toc-peq.jpg
END:VEVENT
BEGIN:VEVENT
DTSTART;TZID=Europe/Madrid:20260111T183000
DTEND;TZID=Europe/Madrid:20260111T183000
DTSTAMP:20260419T213217
CREATED:20251118T083448Z
LAST-MODIFIED:20260101T231833Z
UID:144887-1768156200-1768156200@merida.es
SUMMARY:Teatro Familiar: "La maestra"
DESCRIPTION:La maestra es valiente\, hábil y risueña. Cree en las capacidades de los niños y las niñas\, en las de todos y todas. La maestra y su pequeña clase han construido juntos una hermosa escuela\, una escuela en el bosque con cabida para todos los animales. \nLa palabra más querida por nuestra maestra es la libertad\, por lo que quiere que su clase crezca libremente. Desgraciadamente\, los mayores comienzan una guerra que obligará a nuestros protagonistas a dejar atrás su soñada escuela\, una escuela construida desde el amor y el cuidado mutuo.  \nLa historia de «La Maestra» es un intento loco y hermoso de ser libre y feliz. A través de esta historia viajan las palabras de aquellas valientes maestras y nos susurran al oído que la primera condición para ser libre es intentarlo. \nCompañía: Anita Maravillas\nIdea original: Miren Larrea\nDirección: Iván Alonso\nReparto: Maren Basterretxea\, Valentina Raposo \nEdad: +6 años\nDuración: 55′ \nEntradas: https://www.teatromarialuisa.org/
URL:https://merida.es/agenda/teatro-familiar-la-maestra/
LOCATION:Teatro María Luisa\, Calle Camilo José Cela\, 9\, Mérida\, España
CATEGORIES:Infantil,Teatro
ATTACH;FMTTYPE=image/jpeg:https://merida.es/wp-content/uploads/2025/11/2026-la-maestra-peq.jpg
END:VEVENT
BEGIN:VEVENT
DTSTART;TZID=Europe/Madrid:20260116T200000
DTEND;TZID=Europe/Madrid:20260116T200000
DTSTAMP:20260419T213217
CREATED:20251021T065942Z
LAST-MODIFIED:20251021T065954Z
UID:144298-1768593600-1768593600@merida.es
SUMMARY:Paz Padilla 'El humor de mi vida'
DESCRIPTION:Pertenecemos a una sociedad que vive de espaldas a la muerte por puro terror. Huimos de reflexionar o incluso hablar sobre ella y negamos por sistema su existencia por si de esta manera\, logramos de alguna forma evitarla para siempre. Con esta obra basada en el libro homónimo escrito por la protagonista\, Paz Padilla cuenta a través de su singular historia de amor\, el trabajo personal que ha realizado para aceptar la pérdida de Antonio\, el amor de su vida. Le advertimos que si está buscando una tragedia romántica\, se ha equivocado de día\, Romeo y Julieta se representa dentro de unas semanas. En este espectáculo se encontrará con un viaje vertiginoso por sus emociones donde predomina por encima de todo\, el humor. \nEntradas: https://www.sokoentradas.com
URL:https://merida.es/agenda/paz-padilla-el-humor-de-mi-vida-2026/
LOCATION:Palacio de Congresos\, Avda. del Rio s/n\, Mérida
CATEGORIES:Teatro
ATTACH;FMTTYPE=image/jpeg:https://merida.es/wp-content/uploads/2025/10/2026-paz-padilla-peq.jpg
END:VEVENT
BEGIN:VEVENT
DTSTART;TZID=Europe/Madrid:20260118T180000
DTEND;TZID=Europe/Madrid:20260118T180000
DTSTAMP:20260419T213217
CREATED:20260113T234329Z
LAST-MODIFIED:20260117T185319Z
UID:145943-1768759200-1768759200@merida.es
SUMMARY:Cabaret Circus
DESCRIPTION:Espectáculo: Cabaret Circus\nCompañía: Teatrapo \nSinopsis: Un espectáculo de circo familiar basado en números circenses ejecutados con maestría en distintas disciplinas (acrobacias aéreas\, de suelo\, malabarismos\, contorsionismos\, mástil chino\, equilibrios…) con un denominador común: el CLOWN. Cuatro artistas profesionales comparten la pista de circo para convertirse en maestros de ceremonia y exhibir sus números de alto voltaje. \nPúblico recomendado: Para todos los públicos. \nEntrada única: 3€ (*Descuentos del 50% aplicable a: carnet estudiante\, carnet joven europeo\, personas jubiladas-pensionistas\, familia numerosa y personas en desempleo) \nTaquilla:Días 17 y 18. Horario de mañana: de 11:00 a 13:00h. Horario de tarde: día 17 de enero de 18:30 a 20:30h; y día 18 de 16:00 h a 18:00h. Reservas en el email: salatrajanomerida@gmail.com
URL:https://merida.es/agenda/cabaret-circus/
LOCATION:Sala Trajano\, Calle Muza\, 50\, Mérida
CATEGORIES:Teatro
ATTACH;FMTTYPE=image/jpeg:https://merida.es/wp-content/uploads/2026/01/2026-cabaret-circus-peq.jpg
END:VEVENT
BEGIN:VEVENT
DTSTART;TZID=Europe/Madrid:20260124T203000
DTEND;TZID=Europe/Madrid:20260124T203000
DTSTAMP:20260419T213217
CREATED:20251124T223552Z
LAST-MODIFIED:20260115T193428Z
UID:145062-1769286600-1769286600@merida.es
SUMMARY:Edu Soto "Más vale solo que ciento volando Revolution"
DESCRIPTION:¡Prepárate para reír como nunca antes! Edu Soto regresa con su espectáculo más explosivo\, «Más vale solo que ciento volando Revolution»\, un show único y totalmente impredecible que lleva la locura\, la risa y el talento a otro nivel. Monólogos\, comedia musical\, improvisación e interacción con el público se combinan para devolver al directo a este artista inclasificable. \nCon este espectáculo\, Edu Soto consolida la trilogía «Más vale solo que ciento volando». Cantar y bailar son solo una parte de lo que te espera\, ya que\, como siempre\, se meterá en la piel de un sinfín de personajes\, ¡y no sabemos cuáles! Cada función es diferente y\, conociéndolo\, sabemos que siempre habrá una sorpresa. \n«Más vale solo que ciento volando Revolution» es un show en el que Edu nos lleva a explorar su arte en solitario sobre el escenario y\, sobre todo\, los «pájaros» que revolotean en su cabeza\, esos mismos que nunca olvidas desde la primera vez que lo viste. ¿A que sí? \nEdad: +16 años\nDuración: 90′ \nEntradas: https://www.teatromarialuisa.org
URL:https://merida.es/agenda/edu-soto-mas-vale-solo-que-ciento-volando-revolution/
LOCATION:Teatro María Luisa\, Calle Camilo José Cela\, 9\, Mérida\, España
CATEGORIES:Teatro
ATTACH;FMTTYPE=image/jpeg:https://merida.es/wp-content/uploads/2025/11/2026-edu-soto-peq.jpg
END:VEVENT
BEGIN:VEVENT
DTSTART;TZID=Europe/Madrid:20260124T203000
DTEND;TZID=Europe/Madrid:20260124T203000
DTSTAMP:20260419T213217
CREATED:20260114T001443Z
LAST-MODIFIED:20260114T001443Z
UID:145949-1769286600-1769286600@merida.es
SUMMARY:Teatro: "Locas: retiro sin cobertura"
DESCRIPTION:Espectáculo: Locas: retiro sin cobertura.\nCompañía: Emulsión Teatro \nSinopsis: Remedios y Angustias deciden escapar de la rutina diaria y acudir a un retiro espiritual en plena naturaleza. Su propósito es claro: reencontrarse\, respirar y conectar con esa nueva etapa vital marcada por la perimenopausia y la menopausia. Pero lo que no esperan es que\, al quedarse sin cobertura\, lo que de verdad se desconecta no son los móviles … sino sus filtros. Entre sofocos\, silencios incómodos y confesiones inesperadas\, empezarán a salir a la luz secretos inimaginables que harán que su montaña emocional se dispare hasta el delirio.  \nEl retiro soñado se convierte así en una auténtica locura donde el imbécil integral\, el adolescente ausente y las hormonas desatadas harán el resto. Una comedia loca\, fresca y desbordante de humor que trata con ternura y mucha ironía la realidad de las mujeres en esta etapa de la vida: porque sin cobertura\, lo único que queda es enfrentarse a una misma… y reírse de todo. \nDramaturgia/Texto: Virginia Campón\nReparto: Asun Mieres\, Virginia Campón \nPúblico recomendado: Mayor 13 años. \nEntrada única: 5€ (*Descuentos del 50% aplicable a: carnet estudiante\, carnet joven europeo\, personas jubiladas-pensionistas\, familia numerosa y personas en desempleo) \nTaquilla: Días 23 y 24 . Horario de mañana: de 11:00 a 13:00 h. Horario de tarde: de 18:30 a 20:30h.Reservas en el email: salatrajanomerida@gmail.com
URL:https://merida.es/agenda/teatro-locas-retiro-sin-cobertura/
LOCATION:Sala Trajano\, Calle Muza\, 50\, Mérida
CATEGORIES:Teatro
ATTACH;FMTTYPE=image/jpeg:https://merida.es/wp-content/uploads/2026/01/2026-locas-teatro-peq.jpg
END:VEVENT
BEGIN:VEVENT
DTSTART;TZID=Europe/Madrid:20260130T210000
DTEND;TZID=Europe/Madrid:20260130T210000
DTSTAMP:20260419T213217
CREATED:20250919T071619Z
LAST-MODIFIED:20250919T071619Z
UID:143486-1769806800-1769806800@merida.es
SUMMARY:Aguilera y Meni. Misión Impro-sible
DESCRIPTION:MISIÓN: IMPRO-SIBLE es un show sin guion donde cada función es única\, porque tú también formas parte de la historia. Un viaje delirante por escenas imposibles\, retos absurdos\, llamadas telefónicas inesperadas\, rayos láser… y un teléfono rojo que puede cambiarlo todo. \nAguilera y Mení forman un tándem cómico explosivo que arrasa allá por donde pasa. Con años de experiencia en teatro\, televisión y espectáculos en vivo\, han convertido la improvisación en su sello personal: situaciones delirantes\, personajes creados al instante\, interacción constante con el público y un ritmo vertiginoso que no da tregua. Todo con una única misión: hacerte reír hasta que duela. \nEntradas: https://ninonaentradas.com
URL:https://merida.es/agenda/aguilera-y-meni-mision-impro-sible-2026/
LOCATION:Palacio de Congresos\, Avda. del Rio s/n\, Mérida
CATEGORIES:Teatro
ATTACH;FMTTYPE=image/jpeg:https://merida.es/wp-content/uploads/2025/09/2026-aguilera-meni-peq.jpg
END:VEVENT
BEGIN:VEVENT
DTSTART;TZID=Europe/Madrid:20260131T183000
DTEND;TZID=Europe/Madrid:20260131T183000
DTSTAMP:20260419T213217
CREATED:20260127T221043Z
LAST-MODIFIED:20260127T221201Z
UID:146265-1769884200-1769884200@merida.es
SUMMARY:II Gran Gala de Magia
DESCRIPTION:Espectáculo: II Gran Gala de Magia (Día internacional del Mago) \nSinopsis:\nCuatro de los magos extremeños más reconocidos en el panorama nacional e internacional nos acompañarán a representar sus mejores números para el público de Mérida. Diferentes estilos de la magia como magia infantil\, magia extrema o magia de escena para que el público aprenda sobre la disciplina de la magia\, sobre San Juan Bosco y sobre el Día Internacional del Mago y a la vez disfruten del arte de la magia a más no poder.  \nVíctor Cerro\, mago extremo con dos récords Guinness. En 2015\, consiguió otro récord mundial al permanecer encerrado dentro de un horno de gas encendido 18 minutos. Patri Zenner\, la maga de la naturaleza y ganadora del Premio Valongo en 2009\, convirtiéndose en una de las primeras mujeres en ganar un premio internacional de magia y ganadora del premio nacional de Madrid Magia en el 2011. Fernando Flores\, mago experto en magia infantil para hacer la delicia de todos los niños y las niñas. Y sacar a los no tan peques a su niño o niña interior. Todo presentado por Sergio Barquilla\, experto en magia para las familias. Artista que ha trabajado en el panorama nacional\, en Portugal e incluso en México. \nPúblico recomendado: Infantil y Familiar.\nEntrada única: 3€\nHorario de taquilla: Días 30 y 31 de enero. Horario de mañana: de 11:00 a 13:00h. Horario de tarde: día 30 de 18:30 a 20:30h; y día 31 de 16:30 h a 18:30h. Reservas en el email: salatrajanomerida@gmail.com
URL:https://merida.es/agenda/ii-gran-gala-de-magia/
LOCATION:Sala Trajano\, Calle Muza\, 50\, Mérida
CATEGORIES:Infantil,Teatro
ATTACH;FMTTYPE=image/jpeg:https://merida.es/wp-content/uploads/2026/01/2026-gran-gala-magia-peq.jpg
END:VEVENT
END:VCALENDAR