﻿BEGIN:VCALENDAR
VERSION:2.0
PRODID:-//Ayuntamiento de Mérida - ECPv6.15.17.1//NONSGML v1.0//EN
CALSCALE:GREGORIAN
METHOD:PUBLISH
X-WR-CALNAME:Ayuntamiento de Mérida
X-ORIGINAL-URL:https://merida.es
X-WR-CALDESC:Eventos para Ayuntamiento de Mérida
REFRESH-INTERVAL;VALUE=DURATION:PT1H
X-Robots-Tag:noindex
X-PUBLISHED-TTL:PT1H
BEGIN:VTIMEZONE
TZID:Europe/Madrid
BEGIN:DAYLIGHT
TZOFFSETFROM:+0100
TZOFFSETTO:+0200
TZNAME:CEST
DTSTART:20170326T010000
END:DAYLIGHT
BEGIN:STANDARD
TZOFFSETFROM:+0200
TZOFFSETTO:+0100
TZNAME:CET
DTSTART:20171029T010000
END:STANDARD
BEGIN:DAYLIGHT
TZOFFSETFROM:+0100
TZOFFSETTO:+0200
TZNAME:CEST
DTSTART:20180325T010000
END:DAYLIGHT
BEGIN:STANDARD
TZOFFSETFROM:+0200
TZOFFSETTO:+0100
TZNAME:CET
DTSTART:20181028T010000
END:STANDARD
BEGIN:DAYLIGHT
TZOFFSETFROM:+0100
TZOFFSETTO:+0200
TZNAME:CEST
DTSTART:20190331T010000
END:DAYLIGHT
BEGIN:STANDARD
TZOFFSETFROM:+0200
TZOFFSETTO:+0100
TZNAME:CET
DTSTART:20191027T010000
END:STANDARD
END:VTIMEZONE
BEGIN:VEVENT
DTSTART;TZID=Europe/Madrid:20180421T210000
DTEND;TZID=Europe/Madrid:20180421T210000
DTSTAMP:20260423T080848
CREATED:20180409T091034Z
LAST-MODIFIED:20180409T091034Z
UID:57700-1524344400-1524344400@merida.es
SUMMARY:Teatro: "El cartógrafo"
DESCRIPTION:Espectáculo: “EL CARTOGRÁFO”\nCompañía: Entrecajas Producciones Teatrales S.L.\nSinopsis: El Teatro es cartografía. Como en el mapa\, en el escenario todo debe responder a una pregunta que alguien se ha hecho. Como en el mapa\, en el escenario lo más importante es decidir qué se quiere hacer visible y\, por tanto\, qué se deja fuera. En el escenario\, como en el mapa\, siempre se toma partido. El cartógrafo reclama una puesta en escena que sea\, con especial intensidad\, cartográfica. Dado que en su centro se halla un acontecimiento irrepresentable\, la obra exige preguntarse una y otra vez qué ofrecer al ojo y qué ocultarle para que la imaginación vea.\nLos grandes actores dan\, al ojo y a la imaginación\, mucho con muy poco. Blanca Portillo y José Luis García-Pérez son\, en el escenario\, enormes cartógrafos. Alejandro Andújar\, Mariano García\, Juan Gómez Cornejo\, Carlos Martínez Abarca y quien esto firma les hemos ayudado a trazar el mapa.\nReparto: Blanca Portillo y José Luis García-Pérez.\nDirección: Juan Mayorga.\nDuración: 120 minutos.\nTaquilla: Días 20 y 21 de abril\, de 11:00 a 13:00 y de 18:00 a 21:00 horas.\nPrecio: 15 €.
URL:https://merida.es/agenda/teatro-el-cartografo/
LOCATION:Sala Trajano\, Calle Muza\, 50\, Mérida
CATEGORIES:Teatro
ATTACH;FMTTYPE=image/jpeg:https://merida.es/wp-content/uploads/2018/04/el-cartografo-peq.jpg
END:VEVENT
END:VCALENDAR