﻿BEGIN:VCALENDAR
VERSION:2.0
PRODID:-//Ayuntamiento de Mérida - ECPv6.15.17.1//NONSGML v1.0//EN
CALSCALE:GREGORIAN
METHOD:PUBLISH
X-ORIGINAL-URL:https://merida.es
X-WR-CALDESC:Eventos para Ayuntamiento de Mérida
REFRESH-INTERVAL;VALUE=DURATION:PT1H
X-Robots-Tag:noindex
X-PUBLISHED-TTL:PT1H
BEGIN:VTIMEZONE
TZID:Europe/Madrid
BEGIN:DAYLIGHT
TZOFFSETFROM:+0100
TZOFFSETTO:+0200
TZNAME:CEST
DTSTART:20170326T010000
END:DAYLIGHT
BEGIN:STANDARD
TZOFFSETFROM:+0200
TZOFFSETTO:+0100
TZNAME:CET
DTSTART:20171029T010000
END:STANDARD
BEGIN:DAYLIGHT
TZOFFSETFROM:+0100
TZOFFSETTO:+0200
TZNAME:CEST
DTSTART:20180325T010000
END:DAYLIGHT
BEGIN:STANDARD
TZOFFSETFROM:+0200
TZOFFSETTO:+0100
TZNAME:CET
DTSTART:20181028T010000
END:STANDARD
BEGIN:DAYLIGHT
TZOFFSETFROM:+0100
TZOFFSETTO:+0200
TZNAME:CEST
DTSTART:20190331T010000
END:DAYLIGHT
BEGIN:STANDARD
TZOFFSETFROM:+0200
TZOFFSETTO:+0100
TZNAME:CET
DTSTART:20191027T010000
END:STANDARD
END:VTIMEZONE
BEGIN:VEVENT
DTSTART;TZID=Europe/Madrid:20180602T210000
DTEND;TZID=Europe/Madrid:20180602T210000
DTSTAMP:20260423T084943
CREATED:20180528T070209Z
LAST-MODIFIED:20180528T070209Z
UID:58928-1527973200-1527973200@merida.es
SUMMARY:Teatro: "Nora"
DESCRIPTION:Espectáculo: “NORA”\n(XXIII Muestra de Teatro Amateur)\nCompañía: Batilo Teatro.\nSinopsis: En mitad de un tornado\, en una finca agrícola estadounidense\, después de 25 años Owen se presenta a su hermana\, a la que dejó muy pequeña cuando huyó del seno familiar sin dejar rastro. Explicar los motivos de la desbandada y posterior retorno a la casa familiar es el nudo principal de la obra. Un sorprendente final acaba poniendo la inesperada guinda de este vibrante drama.\nReparto: Mari Carmen Báez y José Miguel Suárez.\nDirección: Pedro Luís López Bellot .\nDuración: 60 minutos .\nTaquilla: Entrada libre hasta completar aforo. Se recogerá la entrada en taquilla los días 1 y 2 de junio de 11:00 a 13:00 y de 18:00 a 21:00.
URL:https://merida.es/agenda/teatro-nora/
LOCATION:Sala Trajano\, Calle Muza\, 50\, Mérida
CATEGORIES:Teatro
ATTACH;FMTTYPE=image/jpeg:https://merida.es/wp-content/uploads/2018/05/nora-peq.jpg
END:VEVENT
END:VCALENDAR