﻿BEGIN:VCALENDAR
VERSION:2.0
PRODID:-//Ayuntamiento de Mérida - ECPv6.15.17.1//NONSGML v1.0//EN
CALSCALE:GREGORIAN
METHOD:PUBLISH
X-ORIGINAL-URL:https://merida.es
X-WR-CALDESC:Eventos para Ayuntamiento de Mérida
REFRESH-INTERVAL;VALUE=DURATION:PT1H
X-Robots-Tag:noindex
X-PUBLISHED-TTL:PT1H
BEGIN:VTIMEZONE
TZID:Europe/Madrid
BEGIN:DAYLIGHT
TZOFFSETFROM:+0100
TZOFFSETTO:+0200
TZNAME:CEST
DTSTART:20170326T010000
END:DAYLIGHT
BEGIN:STANDARD
TZOFFSETFROM:+0200
TZOFFSETTO:+0100
TZNAME:CET
DTSTART:20171029T010000
END:STANDARD
BEGIN:DAYLIGHT
TZOFFSETFROM:+0100
TZOFFSETTO:+0200
TZNAME:CEST
DTSTART:20180325T010000
END:DAYLIGHT
BEGIN:STANDARD
TZOFFSETFROM:+0200
TZOFFSETTO:+0100
TZNAME:CET
DTSTART:20181028T010000
END:STANDARD
BEGIN:DAYLIGHT
TZOFFSETFROM:+0100
TZOFFSETTO:+0200
TZNAME:CEST
DTSTART:20190331T010000
END:DAYLIGHT
BEGIN:STANDARD
TZOFFSETFROM:+0200
TZOFFSETTO:+0100
TZNAME:CET
DTSTART:20191027T010000
END:STANDARD
END:VTIMEZONE
BEGIN:VEVENT
DTSTART;TZID=Europe/Madrid:20180608T210000
DTEND;TZID=Europe/Madrid:20180608T210000
DTSTAMP:20260423T070253
CREATED:20180528T065523Z
LAST-MODIFIED:20180528T065523Z
UID:58925-1528491600-1528491600@merida.es
SUMMARY:Teatro: "Criminal" de Javier Daulte
DESCRIPTION:El viernes 8 de junio se estrena la obra ‘Criminal’\, de Javier Daulte\, correspondiente al taller de dirección escenica de 3º de Dirección y Dramaturgia (Profesor: Rafael Cea) de la Escuela Superior de Arte Dramático de Extremadura bajo la dirección de Esteban García Ballesteros y un reparto compuesto por Dani Jaén\, Sara San Román\, Beatriz Solís y Alberto Lucero. Entrada libre hasta completar aforo
URL:https://merida.es/agenda/teatro-criminal-de-javier-daulte/
LOCATION:Sala Trajano\, Calle Muza\, 50\, Mérida
CATEGORIES:Teatro
ATTACH;FMTTYPE=image/jpeg:https://merida.es/wp-content/uploads/2018/05/criminal-peq.jpg
END:VEVENT
END:VCALENDAR