﻿BEGIN:VCALENDAR
VERSION:2.0
PRODID:-//Ayuntamiento de Mérida - ECPv6.15.17.1//NONSGML v1.0//EN
CALSCALE:GREGORIAN
METHOD:PUBLISH
X-ORIGINAL-URL:https://merida.es
X-WR-CALDESC:Eventos para Ayuntamiento de Mérida
REFRESH-INTERVAL;VALUE=DURATION:PT1H
X-Robots-Tag:noindex
X-PUBLISHED-TTL:PT1H
BEGIN:VTIMEZONE
TZID:Europe/Madrid
BEGIN:DAYLIGHT
TZOFFSETFROM:+0100
TZOFFSETTO:+0200
TZNAME:CEST
DTSTART:20170326T010000
END:DAYLIGHT
BEGIN:STANDARD
TZOFFSETFROM:+0200
TZOFFSETTO:+0100
TZNAME:CET
DTSTART:20171029T010000
END:STANDARD
BEGIN:DAYLIGHT
TZOFFSETFROM:+0100
TZOFFSETTO:+0200
TZNAME:CEST
DTSTART:20180325T010000
END:DAYLIGHT
BEGIN:STANDARD
TZOFFSETFROM:+0200
TZOFFSETTO:+0100
TZNAME:CET
DTSTART:20181028T010000
END:STANDARD
BEGIN:DAYLIGHT
TZOFFSETFROM:+0100
TZOFFSETTO:+0200
TZNAME:CEST
DTSTART:20190331T010000
END:DAYLIGHT
BEGIN:STANDARD
TZOFFSETFROM:+0200
TZOFFSETTO:+0100
TZNAME:CET
DTSTART:20191027T010000
END:STANDARD
END:VTIMEZONE
BEGIN:VEVENT
DTSTART;TZID=Europe/Madrid:20180611T210000
DTEND;TZID=Europe/Madrid:20180611T210000
DTSTAMP:20260422T235150
CREATED:20180605T063416Z
LAST-MODIFIED:20180605T063416Z
UID:59110-1528750800-1528750800@merida.es
SUMMARY:Teatro: "Soliloquio de grillos" de Juan Copete
DESCRIPTION:El lunes 11 de junio se estrena la obra ‘Soliloquio de gruillos’\, de Juan Copete\, correspondiente al taller de dirección escenica de 3º de Dirección y Dramaturgia (Profesor: Rafael Cea) de la Escuela Superior de Arte Dramático de Extremadura bajo la dirección de Pepa Pinar y un reparto compuesto por Sara Piris\, Marian Redondo y Patricia Hurtado. Entrada libre hasta completar aforo
URL:https://merida.es/agenda/teatro-soliloquio-de-grillos-de-juan-copete/
LOCATION:Sala Trajano\, Calle Muza\, 50\, Mérida
CATEGORIES:Teatro
ATTACH;FMTTYPE=image/jpeg:https://merida.es/wp-content/uploads/2018/06/soliloquio-de-grillos-peq.jpg
END:VEVENT
END:VCALENDAR