﻿BEGIN:VCALENDAR
VERSION:2.0
PRODID:-//Ayuntamiento de Mérida - ECPv6.15.17.1//NONSGML v1.0//EN
CALSCALE:GREGORIAN
METHOD:PUBLISH
X-WR-CALNAME:Ayuntamiento de Mérida
X-ORIGINAL-URL:https://merida.es
X-WR-CALDESC:Eventos para Ayuntamiento de Mérida
REFRESH-INTERVAL;VALUE=DURATION:PT1H
X-Robots-Tag:noindex
X-PUBLISHED-TTL:PT1H
BEGIN:VTIMEZONE
TZID:Europe/Madrid
BEGIN:DAYLIGHT
TZOFFSETFROM:+0100
TZOFFSETTO:+0200
TZNAME:CEST
DTSTART:20170326T010000
END:DAYLIGHT
BEGIN:STANDARD
TZOFFSETFROM:+0200
TZOFFSETTO:+0100
TZNAME:CET
DTSTART:20171029T010000
END:STANDARD
BEGIN:DAYLIGHT
TZOFFSETFROM:+0100
TZOFFSETTO:+0200
TZNAME:CEST
DTSTART:20180325T010000
END:DAYLIGHT
BEGIN:STANDARD
TZOFFSETFROM:+0200
TZOFFSETTO:+0100
TZNAME:CET
DTSTART:20181028T010000
END:STANDARD
BEGIN:DAYLIGHT
TZOFFSETFROM:+0100
TZOFFSETTO:+0200
TZNAME:CEST
DTSTART:20190331T010000
END:DAYLIGHT
BEGIN:STANDARD
TZOFFSETFROM:+0200
TZOFFSETTO:+0100
TZNAME:CET
DTSTART:20191027T010000
END:STANDARD
END:VTIMEZONE
BEGIN:VEVENT
DTSTART;VALUE=DATE:20180629
DTEND;VALUE=DATE:20180702
DTSTAMP:20260420T064836
CREATED:20180322T113256Z
LAST-MODIFIED:20180322T113256Z
UID:57327-1530230400-1530489599@merida.es
SUMMARY:64 Festival de Teatro Clásico de Mérida: "Electra" de Antonio Ruz
DESCRIPTION:En este séptimo año de dirección al frente del Ballet Nacional de España\, considero que es el momento idóneo para afrontar un nuevo desafío\, una obra dramática y argumental\, desarrollada a través de la danza\, con la complejidad y responsabilidad que eso conlleva.\nMi deseo continuo de enriquecer y desarrollar la capacidad interpretativa de los versátiles artistas del Ballet Nacional de España me ha llevado a encontrarme con Antonio Ruz\, creador contemporáneo formado también en la Danza Española\, que ha sabido sacar de cada uno de nosotros\, no solo nuestro movimiento\, sino también el alma de nuestras personalidades.\nCuando Antonio Ruz me ofreció el título de Electra\, me pareció muy atractivo y sugerente: un título universal\, pero no muy explotado dentro del mundo de la danza. Mi única premisa fue que\, además de marcar su personalidad como creador\, en toda la obra se respirara nuestra cultura\, nuestras raíces y nuestras costumbres\, por lo que se decidió que esta Electra estuviera ambientada en la España rural del siglo XX.\nLa influencia flamenca y de la Danza Española queda plasmada en la obra por la colaboración coreográfica de Olga Pericet\, que ha impregnado pasajes de la obra con su personal estilo como creadora.\nEl desarrollo dramático ha sido adaptado por Alberto Conejero\, la música que acompaña cada una de las escenas\, ha sido concebida de manera totalmente descriptiva por Pablo Martín Caminero y Moisés Sánchez\, y la composición flamenca por el guitarrista Diego Losada.\nEste ballet es un nuevo reto para el Ballet Nacional de España. Una Electra visceral y humana\, que habla desde lo más profundo del corazón en la búsqueda de libertad.\nAntonio Najarro\, director del Ballet Nacional de España\nReparto: Sandra Carrasco (cantaora invitada); Orquesta de Extremadura\, Músicos flamencos del BNE.\nDirección y coreografía: Antonio Ruz\nMúsica: Pablo Martín Caminero\, Moisés P. Sánchez y Diego Losada\nDramaturgia y letras: Alberto Conejero\nUna producción del Ballet Nacional de España\nVenta de entradas: http://www.festivaldemerida.es\n 
URL:https://merida.es/agenda/64-festival-de-teatro-clasico-de-merida-electra-de-antonio-ruz/
LOCATION:Teatro Romano\, Plaza de Margarita Xirgú\, Mérida
CATEGORIES:Danza,Música,Teatro
ATTACH;FMTTYPE=image/jpeg:https://merida.es/wp-content/uploads/2018/03/electra-peq.jpg
END:VEVENT
BEGIN:VEVENT
DTSTART;TZID=Europe/Madrid:20180630T203000
DTEND;TZID=Europe/Madrid:20180630T203000
DTSTAMP:20260420T064836
CREATED:20180625T085354Z
LAST-MODIFIED:20180625T085354Z
UID:59661-1530390600-1530390600@merida.es
SUMMARY:Danza-Teatro: "El secreto de la buganvilia"
DESCRIPTION:El sábado\, 30 de junio\, a las 20:30 horas\, se representará en el Centro Cultural Alcazaba\, el espectáculo de Danza-Teatro «El secreto de la buganvilia» bajo la dirección de Carmen Álvarez (directora de ADANTEA) y la codirección teatral de Juan Carlos Tirado. Artista invitado: Arnaldo Iarsoli.\nInspirada en un hecho histórico (Francia s.XVIII) esta obra trata de poner en escena el talento de alumnas y alumnos de la escuela de Danza ADANTEA como broche de oro del curso académico.\nEl precio de la entrada es de 3\,50 €.
URL:https://merida.es/agenda/danza-teatro-el-secreto-de-la-buganvilia/
LOCATION:Centro Cultural Alcazaba\, Calle John Lennon\, 5\, Mérida
CATEGORIES:Danza,Teatro
ATTACH;FMTTYPE=image/jpeg:https://merida.es/wp-content/uploads/2018/06/secreto-buganvilia-peq.jpg
END:VEVENT
END:VCALENDAR