﻿BEGIN:VCALENDAR
VERSION:2.0
PRODID:-//Ayuntamiento de Mérida - ECPv6.15.17.1//NONSGML v1.0//EN
CALSCALE:GREGORIAN
METHOD:PUBLISH
X-ORIGINAL-URL:https://merida.es
X-WR-CALDESC:Eventos para Ayuntamiento de Mérida
REFRESH-INTERVAL;VALUE=DURATION:PT1H
X-Robots-Tag:noindex
X-PUBLISHED-TTL:PT1H
BEGIN:VTIMEZONE
TZID:Europe/Madrid
BEGIN:DAYLIGHT
TZOFFSETFROM:+0100
TZOFFSETTO:+0200
TZNAME:CEST
DTSTART:20170326T010000
END:DAYLIGHT
BEGIN:STANDARD
TZOFFSETFROM:+0200
TZOFFSETTO:+0100
TZNAME:CET
DTSTART:20171029T010000
END:STANDARD
BEGIN:DAYLIGHT
TZOFFSETFROM:+0100
TZOFFSETTO:+0200
TZNAME:CEST
DTSTART:20180325T010000
END:DAYLIGHT
BEGIN:STANDARD
TZOFFSETFROM:+0200
TZOFFSETTO:+0100
TZNAME:CET
DTSTART:20181028T010000
END:STANDARD
BEGIN:DAYLIGHT
TZOFFSETFROM:+0100
TZOFFSETTO:+0200
TZNAME:CEST
DTSTART:20190331T010000
END:DAYLIGHT
BEGIN:STANDARD
TZOFFSETFROM:+0200
TZOFFSETTO:+0100
TZNAME:CET
DTSTART:20191027T010000
END:STANDARD
END:VTIMEZONE
BEGIN:VEVENT
DTSTART;VALUE=DATE:20180704
DTEND;VALUE=DATE:20180709
DTSTAMP:20260420T065258
CREATED:20180322T114111Z
LAST-MODIFIED:20180322T114111Z
UID:57331-1530662400-1531094399@merida.es
SUMMARY:64 Festival de Teatro Clásico de Mérida: "Ben-Hur" de Lewis Wallace
DESCRIPTION:Ben-Hur es la puesta en escena de la novela creada Lewis Wallace. En un teatro romano\, una compañía del siglo I anuncia que va a representar “La Verdadera y Nunca contada historia de Ben-Hur”.\nFieles al contenido de la novela\, la obra viaja por todos los lugares comunes del imaginario colectivo: el comienzo con los Magos de Oriente siguiendo una estrella que les guiará al Portal de Belén\, la teja que se cae hiriendo al prefecto romano y cuyas consecuencias arrastrarán a Ben–Hur a una fabulosa aventura. La aparición de Cristo\, que paraliza con su mirada hasta a los legionarios romanos\, la memorable batalla naval\, la carrera de cuadrigas… y\, sobre todo\, la acérrima rivalidad entre Judá Ben-Hur y su amigo del alma Messala. Un encono que les llevará a competir hasta la muerte. ¡¡O quizás no!!! Porque en esta historia las cosas no son lo que parecen.\nIdeada y dirigida por Yllana\, y escrita por Nancho Novo\, Ben Hur es una nueva y original mirada sobre el mítico personaje\, desde la perspectiva del humor. Con un ritmo trepidante y un ingenio visual que ellos han definido como: TEATROMASCOPE\, una propuesta que permite un juego constante entre el lenguaje cinematográfico y el teatral\, y que acerca tan épica historia al espectador de hoy sin perder un ápice de su grandiosidad. Un auténtico espectáculo en 3D sin necesidad de usar gafas.\nLa obra está plagada de ingeniosos gags\, mordaces y absurdos diálogos y una curiosa reflexión sobre la verdad\, el amor y la lucha de género. Cuatro actores y dos actrices en estado de gracia\, dan vida a multitud de personajes para volver a mostrarnos\, esta vez sin cortapisas\, lo que nadie se atrevió a contar sobre Ben Hur….”NUNCA SERAN IGUALES LAS NAVIDADES”\nReparto: Eva Isanta\, Agustín Jiménez\, Elena Lombao\, Richard Collins\nVersión: Nancho Novo\nDirección artística: David Ottone y Juan Ramos Toro\nEscenografia: Carlos Brayda\nUna producción del Festival Internacional de Teatro Clásico de Mérida\, Focus e Yllana\nVenta de entradas: http://www.festivaldemerida.es\n 
URL:https://merida.es/agenda/64-festival-de-teatro-clasico-de-merida-ben-hur-de-lewis-wallace/
LOCATION:Teatro Romano\, Plaza de Margarita Xirgú\, Mérida
CATEGORIES:Teatro
ATTACH;FMTTYPE=image/jpeg:https://merida.es/wp-content/uploads/2018/03/ben-hur-peq.jpg
END:VEVENT
BEGIN:VEVENT
DTSTART;VALUE=DATE:20180707
DTEND;VALUE=DATE:20180709
DTSTAMP:20260420T065258
CREATED:20180628T071948Z
LAST-MODIFIED:20180628T071948Z
UID:59744-1530921600-1531094399@merida.es
SUMMARY:Teatro (Agusto en Mérida): "Edipo Y Los Labdácidas: ¡qué Familia!"
DESCRIPTION:La programación off del Festival Internacional de Teatro Clásico de Mérida\, ‘Agusto en Mérida’\, la conforman un conjunto de intervenciones que contribuyen a divulgar la cultura clásica a través de acciones formativas\, lúdicas y artísticas. Se revitalizan diferentes espacios de la ciudad como el Templo de Diana\, el Pórtico del Foro y la Termas de la Calle Pontezuelas\, devolviendo a estos privilegiados escenarios la cultura clásica grecolatina durante los meses de julio y agosto\, bajo la dirección de TAPTC? Teatro. Este año\, el Ayuntamiento extiende los escenarios a espacios en las barriadas de Mérida\, en concreto a Nueva Ciudad y La Antigua.\nTítulo: Edipo Y Los Labdácidas: ¡qué Familia!\nIdea original: Raquel Bazo.\nProduccción: TAPTC? teatro y Festival de Mérida\nReparto: Raquel Bazo\, Francis Quirós y Jonathan González\nEspacio Sonoro: Javier Llanos.\nGénero: Cómico Contemporáneo.\nDirección: Raquel Bazo\, Francis Quirós\, Jonathan González y Javier Llanos.\nSinopsis: Recorrido en clave de humor por el ciclo Tebano\, que se inicia con el Rapto de Europa\, continúa con la fundación de Tebas\, la saga de los Labdácidas\, el Oráculo\, la llegada de Edipo a la ciudad… hasta la muerte de Antígona. Se narran los acontecimientos principales de las tragedias mencionadas y se relacionan con las teorías que en torno a ellas se han escrito a lo largo de los años. Los intérpretes presentan los distintos personajes al tiempo que ejemplican las acciones a un ritmo vertiginoso\, incorporando gags cómicos en momentos trascendentes como refuerzo de la trama.\nHabrá dos representaciones:\n•  Sábado 7 de julio. 21:00 horas. Anfiteatro del Parque de la Avenida Antonio Campos Hoyos (Nueva Ciudad)\n•  Domingo 8 de julio. 21:00 horas. Traseras de la Ermita de La Antigua
URL:https://merida.es/agenda/teatro-agusto-en-merida-edipo-y-los-labdacidas-que-familia-2/
LOCATION:Nueva Ciudad y La Antigua\, Mérida
CATEGORIES:Teatro
ATTACH;FMTTYPE=image/jpeg:https://merida.es/wp-content/uploads/2018/06/agusto-merida-peq2.jpg
END:VEVENT
END:VCALENDAR